{"text_format":"3","workbook":"xlsx","n_sheets":34,"sheets":["info","1","2","3","4","5","6","7","8","9","10","11","12","13","14","15","16","17","18","19","20","21","22","23","24","25","26","27","28","29","30","31","Totals","Instructions"],"not_rendered":{"images":3,"macros":1,"defined_names":26},"read":"whole","date_system":"1900"}

{"sheet":"info","index":0,"n_rows":22,"n_cols":4,"rows_kept":22,"merged":[[8,3,8,6],[11,0,11,6],[12,0,12,6],[14,0,14,6],[15,0,15,6],[16,0,16,6],[17,0,17,6],[19,0,19,6],[20,0,20,6],[21,0,21,6]]}
[]
["Name","Jesse Hutton"]
["Month","November"]
["Year",2014]
[]
[]
[]
[]
[{"$nulls":3},"A great site for computer assistance!"]
[]
[]
["Revision Three"]
["Updated Apr 9, 2014"]
[]
["If you have questions"]
["or if there is an error on this workbook "]
["You can email me at"]
["jessebhutton@hotmail.com"]
[]
["If you need to redownload this spreadsheet"]
["go to"]
["http://www.upgradenrepair.com/Downloads/diabetes/diabetes.htm"]

{"sheet":"1","index":1,"n_rows":35,"n_cols":66,"rows_kept":35,"merged":[[0,0,0,8],[1,0,1,8],[7,0,7,1],[7,2,7,3],[8,0,8,1],[8,2,8,3],[27,10,27,12],[29,11,29,12],[30,11,30,12],[31,11,31,12],[32,11,32,12],[34,0,34,8]]}
[{"$f":"IF(info!$B$2=\"\", \"\", info!$B$2)","v":"Jesse Hutton"},{"$nulls":64},{"$f":"info!$B$3&\" \"&1&\", \"&info!$B$4","v":"November 1, 2014"}]
[{"$f":"IF(info!$B$3=\"\", \"\", $BN$1)","v":"November 1, 2014"}]
[null,"Sugar","Status","Sys","Status","Dia","Status","Pul"]
["Morn",{"$f":"IFERROR(SUM(B11:B21)/COUNTIF(B11:B21, \">0\"), \"\")","v":200},{"$f":"IF(B4=\"\",\"\",IF(B4<70,\"TOO LOW\",IF(B4<=80,\"LOW\",IF(B4<=120,\"Normal\",\"High\"))))","v":"High"},{"$f":"IFERROR(SUM(D11:D21)/COUNTIF(D11:D21, \">0\"), \"\")","v":""},{"$f":"IF(D4=\"\", \"\", IF(D4<120, \"Normal\", IF(D4<140, \"Prehyperten\", IF(D4<160, \"Stage 1 hyperten\", \"Stage 2 hyperten\"))))","v":""},{"$f":"IFERROR(SUM(F11:F21)/COUNTIF(F11:F21, \">0\"), \"\")","v":""},{"$f":"IF(F4=\"\", \"\", IF(F4<80, \"Normal\", IF(F4<89, \"Prehyperten\", IF(F4<99, \"Stage 1 hyperten\", \"Stage 2 hyperten\"))))","v":""},{"$f":"IFERROR(SUM(H11:H21)/COUNTIF(H11:H21, \">0\"), \"\")","v":""}]
["Noon",{"$f":"IFERROR(SUM(B22:B28)/COUNTIF(B22:B28, \">0\"), \"\")","v":256},{"$f":"IF(B5=\"\",\"\",IF(B5<70,\"TOO LOW\",IF(B5<=80,\"LOW\",IF(B5<=120,\"Normal\",\"High\"))))","v":"High"},{"$f":"IFERROR(SUM(D22:D28)/COUNTIF(D22:D28, \">0\"), \"\")","v":""},{"$f":"IF(D5=\"\", \"\", IF(D5<120, \"Normal\", IF(D5<140, \"Prehyperten\", IF(D5<160, \"Stage 1 hyperten\", \"Stage 2 hyperten\"))))","v":""},{"$f":"IFERROR(SUM(F22:F28)/COUNTIF(F22:F28, \">0\"), \"\")","v":""},{"$f":"IF(F5=\"\", \"\", IF(F5<80, \"Normal\", IF(F5<89, \"Prehyperten\", IF(F5<99, \"Stage 1 hyperten\", \"Stage 2 hyperten\"))))","v":""},{"$f":"IFERROR(SUM(H22:H28)/COUNTIF(H22:H28, \">0\"), \"\")","v":""}]
["Eve",{"$f":"IFERROR(SUM(B29:B34)/COUNTIF(B29:B34, \">0\"), \"\")","v":""},"",{"$f":"IFERROR(SUM(D29:D34)/COUNTIF(D29:D34, \">0\"), \"\")","v":""},{"$f":"IF(D6=\"\", \"\", IF(D6<120, \"Normal\", IF(D6<140, \"Prehyperten\", IF(D6<160, \"Stage 1 hyperten\", \"Stage 2 hyperten\"))))","v":""},{"$f":"IFERROR(SUM(F29:F34)/COUNTIF(F29:F34, \">0\"), \"\")","v":""},{"$f":"IF(F6=\"\", \"\", IF(F6<80, \"Normal\", IF(F6<89, \"Prehyperten\", IF(F6<99, \"Stage 1 hyperten\", \"Stage 2 hyperten\"))))","v":""},{"$f":"IFERROR(SUM(H29:H34)/COUNTIF(H29:H34, \">0\"), \"\")","v":""}]
["Daily",{"$f":"IFERROR(SUM(B11:B34)/COUNTIF(B11:B34, \">0\"), \"\")","v":228},"High",{"$f":"IFERROR(SUM(D11:D34)/COUNTIF(D11:D34, \">0\"), \"\")","v":""},{"$f":"IF(D7=\"\", \"\", IF(D7<120, \"Normal\", IF(D7<140, \"Prehyperten\", IF(D7<160, \"Stage 1 hyperten\", \"Stage 2 hyperten\"))))","v":""},{"$f":"IFERROR(SUM(F11:F34)/COUNTIF(F11:F34, \">0\"), \"\")","v":""},{"$f":"IF(F7=\"\", \"\", IF(F7<80, \"Normal\", IF(F7<89, \"Prehyperten\", IF(F7<99, \"Stage 1 hyperten\", \"Stage 2 hyperten\"))))","v":""},{"$f":"IFERROR(SUM(H11:H34)/COUNTIF(H11:H34, \">0\"), \"\")","v":""}]
["Weight",{"$nulls":4},{"$f":"IFERROR(#REF!/#REF!, \"\")","v":""},null,{"$f":"IFERROR(#REF!/#REF!, \"\")","v":""}]
["Doc weight"]
["Time (MIL)","Sugar","Status","Sys","Sys status","Dia","Dia status","Pul","Time (CIV)"]
["01:00:00",null,{"$f":"IF(B11=\"\",\"\",IF(B11<70,\"TOO LOW\",IF(B11<=80,\"LOW\",IF(B11<=120,\"Normal\",\"High\"))))","v":""},null,{"$f":"IF(D11=\"\", \"\", IF(D11<120, \"Normal\", IF(D11<140, \"Prehyperten\", IF(D11<160, \"Stage 1 hyperten\", \"Stage 2 hyperten\"))))","v":""},null,{"$f":"IF(F11=\"\", \"\", IF(F11<80, \"Normal\", IF(F11<89, \"Prehyperten\", IF(F11<99, \"Stage 1 hyperten\", \"Stage 2 hyperten\"))))","v":""},null,"01:00:00",{"$nulls":4},{"$f":"IF(B11=\"\", \"\", B11)","v":""},{"$f":"IF(D11=\"\", \"\", D11)","v":""},{"$f":"IF(F11=\"\", \"\", F11)","v":""},{"$f":"IF(H11=\"\", \"\", H11)","v":""}]
["02:00:00",null,{"$f":"IF(B12=\"\",\"\",IF(B12<70,\"TOO LOW\",IF(B12<=80,\"LOW\",IF(B12<=120,\"Normal\",\"High\"))))","v":""},null,{"$f":"IF(D12=\"\", \"\", IF(D12<120, \"Normal\", IF(D12<140, \"Prehyperten\", IF(D12<160, \"Stage 1 hyperten\", \"Stage 2 hyperten\"))))","v":""},null,{"$f":"IF(F12=\"\", \"\", IF(F12<80, \"Normal\", IF(F12<89, \"Prehyperten\", IF(F12<99, \"Stage 1 hyperten\", \"Stage 2 hyperten\"))))","v":""},null,"02:00:00",{"$nulls":4},{"$f":"IF(B12=\"\", \"\", B12)","v":""},{"$f":"IF(D12=\"\", \"\", D12)","v":""},{"$f":"IF(F12=\"\", \"\", F12)","v":""},{"$f":"IF(H12=\"\", \"\", H12)","v":""}]
["03:00:00",null,"",null,"",null,"",null,"03:00:00",{"$nulls":4},"","","",""]
["04:00:00",null,"",null,"",null,"",null,"04:00:00",{"$nulls":4},"","","",""]
["05:00:00",null,"",null,"",null,"",null,"05:00:00",{"$nulls":4},"","","",""]
["06:00:00",null,"",null,"",null,"",null,"06:00:00",{"$nulls":4},"","","",""]
["07:00:00",null,"",null,"",null,"",null,"07:00:00",{"$nulls":4},"","","",""]
["08:00:00",null,"",null,"",null,"",null,"08:00:00",{"$nulls":4},"","","",""]
["09:00:00",200,"High",null,"",null,"",null,"09:00:00",null,"Before Breakfast",null,null,200,"","",""]
["10:00:00",null,"",null,"",null,"",null,"10:00:00",null,"After Breakfast",null,null,"","","",""]
["11:00:00",null,"",null,"",null,"",null,"11:00:00",null,"Before Lunch",null,null,"","","",""]
["12:00:00",null,"",null,"",null,"",null,"00:00:00",null,"After Lunch",null,null,"","","",""]
["13:00:00",null,"",null,"",null,"",null,"13:00:00",null,"Before Dinner",null,null,"","","",""]
["14:00:00",256,"High",null,"",null,"",null,"14:00:00",null,"After Dinner",null,null,256,"","",""]
["15:00:00",null,"",null,"",null,"",null,"15:00:00",{"$nulls":4},"","","",""]
["16:00:00",null,"",null,"",null,"",null,"16:00:00",{"$nulls":4},"","","",""]
["17:00:00",null,"",null,"",null,"",null,"17:00:00",{"$nulls":4},"","","",""]
["18:00:00",null,"",null,"",null,"",null,"18:00:00",null,"Legend",null,null,"","","",""]
["19:00:00",null,"",null,"",null,"",null,"19:00:00",null,"BB","Before Breakfast",null,"","","",""]
["20:00:00",null,"",null,"",null,"",null,"20:00:00",null,"AB","After Breakfast",null,"","","",""]
["21:00:00",null,"",null,"",null,"",null,"21:00:00",null,"BL","Before Lunch",null,"","","",""]
["22:00:00",null,"",null,"",null,"",null,"22:00:00",null,"AL","After Lunch",null,"","","",""]
["23:00:00",null,"",null,"",null,"",null,"23:00:00",null,"BD","Before Dinner",null,"","","",""]
[1,null,"",null,"",null,"",null,"00:00:00",{"$nulls":4},"","","",""]
["To clear Data, go to Info Page and click Reset"]

{"sheet":"2","index":2,"n_rows":34,"n_cols":66,"rows_kept":34,"merged":[[0,0,0,8],[1,0,1,8],[7,0,7,1],[7,2,7,3],[8,0,8,1],[8,2,8,3],[27,10,27,12],[29,11,29,12],[30,11,30,12],[31,11,31,12],[32,11,32,12]]}
[{"$f":"IF(info!$B$2=\"\", \"\", info!$B$2)","v":"Jesse Hutton"},{"$nulls":64},{"$f":"info!$B$3&\" \"&2&\", \"&info!$B$4","v":"November 2, 2014"}]
[{"$f":"IF(info!$B$3=\"\", \"\", $BN$1)","v":"November 2, 2014"}]
[null,"Sugar","Status","Sys","Status","Dia","Status","Pul"]
["Morn",{"$f":"IFERROR(SUM(B11:B21)/COUNTIF(B11:B21, \">0\"), \"\")","v":220},{"$f":"IF(B4=\"\",\"\",IF(B4<70,\"TOO LOW\",IF(B4<=80,\"LOW\",IF(B4<=120,\"Normal\",\"High\"))))","v":"High"},{"$f":"IFERROR(SUM(D11:D21)/COUNTIF(D11:D21, \">0\"), \"\")","v":""},{"$f":"IF(D4=\"\", \"\", IF(D4<120, \"Normal\", IF(D4<140, \"Prehyperten\", IF(D4<160, \"Stage 1 hyperten\", \"Stage 2 hyperten\"))))","v":""},{"$f":"IFERROR(SUM(F11:F21)/COUNTIF(F11:F21, \">0\"), \"\")","v":""},{"$f":"IF(F4=\"\", \"\", IF(F4<80, \"Normal\", IF(F4<89, \"Prehyperten\", IF(F4<99, \"Stage 1 hyperten\", \"Stage 2 hyperten\"))))","v":""},{"$f":"IFERROR(SUM(H11:H21)/COUNTIF(H11:H21, \">0\"), \"\")","v":""}]
["Noon",{"$f":"IFERROR(SUM(B22:B28)/COUNTIF(B22:B28, \">0\"), \"\")","v":""},{"$f":"IF(B5=\"\",\"\",IF(B5<70,\"TOO LOW\",IF(B5<=80,\"LOW\",IF(B5<=120,\"Normal\",\"High\"))))","v":""},{"$f":"IFERROR(SUM(D22:D28)/COUNTIF(D22:D28, \">0\"), \"\")","v":""},{"$f":"IF(D5=\"\", \"\", IF(D5<120, \"Normal\", IF(D5<140, \"Prehyperten\", IF(D5<160, \"Stage 1 hyperten\", \"Stage 2 hyperten\"))))","v":""},{"$f":"IFERROR(SUM(F22:F28)/COUNTIF(F22:F28, \">0\"), \"\")","v":""},{"$f":"IF(F5=\"\", \"\", IF(F5<80, \"Normal\", IF(F5<89, \"Prehyperten\", IF(F5<99, \"Stage 1 hyperten\", \"Stage 2 hyperten\"))))","v":""},{"$f":"IFERROR(SUM(H22:H28)/COUNTIF(H22:H28, \">0\"), \"\")","v":""}]
["Eve",{"$f":"IFERROR(SUM(B29:B34)/COUNTIF(B29:B34, \">0\"), \"\")","v":275},"High",{"$f":"IFERROR(SUM(D29:D34)/COUNTIF(D29:D34, \">0\"), \"\")","v":""},{"$f":"IF(D6=\"\", \"\", IF(D6<120, \"Normal\", IF(D6<140, \"Prehyperten\", IF(D6<160, \"Stage 1 hyperten\", \"Stage 2 hyperten\"))))","v":""},{"$f":"IFERROR(SUM(F29:F34)/COUNTIF(F29:F34, \">0\"), \"\")","v":""},{"$f":"IF(F6=\"\", \"\", IF(F6<80, \"Normal\", IF(F6<89, \"Prehyperten\", IF(F6<99, \"Stage 1 hyperten\", \"Stage 2 hyperten\"))))","v":""},{"$f":"IFERROR(SUM(H29:H34)/COUNTIF(H29:H34, \">0\"), \"\")","v":""}]
["Daily",{"$f":"IFERROR(SUM(B11:B34)/COUNTIF(B11:B34, \">0\"), \"\")","v":{"v":247.5,"d":"248"}},"High",{"$f":"IFERROR(SUM(D11:D34)/COUNTIF(D11:D34, \">0\"), \"\")","v":""},{"$f":"IF(D7=\"\", \"\", IF(D7<120, \"Normal\", IF(D7<140, \"Prehyperten\", IF(D7<160, \"Stage 1 hyperten\", \"Stage 2 hyperten\"))))","v":""},{"$f":"IFERROR(SUM(F11:F34)/COUNTIF(F11:F34, \">0\"), \"\")","v":""},{"$f":"IF(F7=\"\", \"\", IF(F7<80, \"Normal\", IF(F7<89, \"Prehyperten\", IF(F7<99, \"Stage 1 hyperten\", \"Stage 2 hyperten\"))))","v":""},{"$f":"IFERROR(SUM(H11:H34)/COUNTIF(H11:H34, \">0\"), \"\")","v":""}]
["Weight",{"$nulls":4},{"$f":"IFERROR(#REF!/#REF!, \"\")","v":""},null,{"$f":"IFERROR(#REF!/#REF!, \"\")","v":""}]
["Doc weight"]
["Time (MIL)","Sugar","Status","Sys","Sys status","Dia","Dia status","Pul","Time (CIV)"]
["01:00:00",null,{"$f":"IF(B11=\"\",\"\",IF(B11<70,\"TOO LOW\",IF(B11<=80,\"LOW\",IF(B11<=120,\"Normal\",\"High\"))))","v":""},null,{"$f":"IF(D11=\"\", \"\", IF(D11<120, \"Normal\", IF(D11<140, \"Prehyperten\", IF(D11<160, \"Stage 1 hyperten\", \"Stage 2 hyperten\"))))","v":""},null,{"$f":"IF(F11=\"\", \"\", IF(F11<80, \"Normal\", IF(F11<89, \"Prehyperten\", IF(F11<99, \"Stage 1 hyperten\", \"Stage 2 hyperten\"))))","v":""},null,"01:00:00",{"$nulls":4},{"$f":"IF(B11=\"\", \"\", B11)","v":""},{"$f":"IF(D11=\"\", \"\", D11)","v":""},{"$f":"IF(F11=\"\", \"\", F11)","v":""},{"$f":"IF(H11=\"\", \"\", H11)","v":""}]
["02:00:00",null,{"$f":"IF(B12=\"\",\"\",IF(B12<70,\"TOO LOW\",IF(B12<=80,\"LOW\",IF(B12<=120,\"Normal\",\"High\"))))","v":""},null,{"$f":"IF(D12=\"\", \"\", IF(D12<120, \"Normal\", IF(D12<140, \"Prehyperten\", IF(D12<160, \"Stage 1 hyperten\", \"Stage 2 hyperten\"))))","v":""},null,{"$f":"IF(F12=\"\", \"\", IF(F12<80, \"Normal\", IF(F12<89, \"Prehyperten\", IF(F12<99, \"Stage 1 hyperten\", \"Stage 2 hyperten\"))))","v":""},null,"02:00:00",{"$nulls":4},{"$f":"IF(B12=\"\", \"\", B12)","v":""},{"$f":"IF(D12=\"\", \"\", D12)","v":""},{"$f":"IF(F12=\"\", \"\", F12)","v":""},{"$f":"IF(H12=\"\", \"\", H12)","v":""}]
["03:00:00",null,"",null,"",null,"",null,"03:00:00",{"$nulls":4},"","","",""]
["04:00:00",null,"",null,"",null,"",null,"04:00:00",{"$nulls":4},"","","",""]
["05:00:00",null,"",null,"",null,"",null,"05:00:00",{"$nulls":4},"","","",""]
["06:00:00",null,"",null,"",null,"",null,"06:00:00",{"$nulls":4},"","","",""]
["07:00:00",null,"",null,"",null,"",null,"07:00:00",{"$nulls":4},"","","",""]
["08:00:00",null,"",null,"",null,"",null,"08:00:00",{"$nulls":4},"","","",""]
["09:00:00",220,"High",null,"",null,"",null,"09:00:00",null,"Before Breakfast",null,null,220,"","",""]
["10:00:00",null,"",null,"",null,"",null,"10:00:00",null,"After Breakfast",null,null,"","","",""]
["11:00:00",null,"",null,"",null,"",null,"11:00:00",null,"Before Lunch",null,null,"","","",""]
["12:00:00",null,"",null,"",null,"",null,"00:00:00",null,"After Lunch",null,null,"","","",""]
["13:00:00",null,"",null,"",null,"",null,"13:00:00",null,"Before Dinner",null,null,"","","",""]
["14:00:00",null,"",null,"",null,"",null,"14:00:00",null,"After Dinner",null,null,"","","",""]
["15:00:00",null,"",null,"",null,"",null,"15:00:00",{"$nulls":4},"","","",""]
["16:00:00",null,"",null,"",null,"",null,"16:00:00",{"$nulls":4},"","","",""]
["17:00:00",null,"",null,"",null,"",null,"17:00:00",{"$nulls":4},"","","",""]
["18:00:00",null,"",null,"",null,"",null,"18:00:00",null,"Legend",null,null,"","","",""]
["19:00:00",null,"",null,"",null,"",null,"19:00:00",null,"BB","Before Breakfast",null,"","","",""]
["20:00:00",null,"",null,"",null,"",null,"20:00:00",null,"AB","After Breakfast",null,"","","",""]
["21:00:00",null,"",null,"",null,"",null,"21:00:00",null,"BL","Before Lunch",null,"","","",""]
["22:00:00",275,"High",null,"",null,"",null,"22:00:00",null,"AL","After Lunch",null,275,"","",""]
["23:00:00",null,"",null,"",null,"",null,"23:00:00",null,"BD","Before Dinner",null,"","","",""]
[1,null,"",null,"",null,"",null,"00:00:00",{"$nulls":4},"","","",""]

{"sheet":"3","index":3,"n_rows":34,"n_cols":66,"rows_kept":34,"merged":[[0,0,0,8],[1,0,1,8],[7,0,7,1],[7,2,7,3],[8,0,8,1],[8,2,8,3],[27,10,27,12],[29,11,29,12],[30,11,30,12],[31,11,31,12],[32,11,32,12]]}
[{"$f":"IF(info!$B$2=\"\", \"\", info!$B$2)","v":"Jesse Hutton"},{"$nulls":64},{"$f":"info!$B$3&\" \"&3&\", \"&info!$B$4","v":"November 3, 2014"}]
[{"$f":"IF(info!$B$3=\"\", \"\", $BN$1)","v":"November 3, 2014"}]
[null,"Sugar","Status","Sys","Status","Dia","Status","Pul"]
["Morn",{"$f":"IFERROR(SUM(B11:B21)/COUNTIF(B11:B21, \">0\"), \"\")","v":188},{"$f":"IF(B4=\"\",\"\",IF(B4<70,\"TOO LOW\",IF(B4<=80,\"LOW\",IF(B4<=120,\"Normal\",\"High\"))))","v":"High"},{"$f":"IFERROR(SUM(D11:D21)/COUNTIF(D11:D21, \">0\"), \"\")","v":""},{"$f":"IF(D4=\"\", \"\", IF(D4<120, \"Normal\", IF(D4<140, \"Prehyperten\", IF(D4<160, \"Stage 1 hyperten\", \"Stage 2 hyperten\"))))","v":""},{"$f":"IFERROR(SUM(F11:F21)/COUNTIF(F11:F21, \">0\"), \"\")","v":""},{"$f":"IF(F4=\"\", \"\", IF(F4<80, \"Normal\", IF(F4<89, \"Prehyperten\", IF(F4<99, \"Stage 1 hyperten\", \"Stage 2 hyperten\"))))","v":""},{"$f":"IFERROR(SUM(H11:H21)/COUNTIF(H11:H21, \">0\"), \"\")","v":""}]
["Noon",{"$f":"IFERROR(SUM(B22:B28)/COUNTIF(B22:B28, \">0\"), \"\")","v":""},{"$f":"IF(B5=\"\",\"\",IF(B5<70,\"TOO LOW\",IF(B5<=80,\"LOW\",IF(B5<=120,\"Normal\",\"High\"))))","v":""},{"$f":"IFERROR(SUM(D22:D28)/COUNTIF(D22:D28, \">0\"), \"\")","v":""},{"$f":"IF(D5=\"\", \"\", IF(D5<120, \"Normal\", IF(D5<140, \"Prehyperten\", IF(D5<160, \"Stage 1 hyperten\", \"Stage 2 hyperten\"))))","v":""},{"$f":"IFERROR(SUM(F22:F28)/COUNTIF(F22:F28, \">0\"), \"\")","v":""},{"$f":"IF(F5=\"\", \"\", IF(F5<80, \"Normal\", IF(F5<89, \"Prehyperten\", IF(F5<99, \"Stage 1 hyperten\", \"Stage 2 hyperten\"))))","v":""},{"$f":"IFERROR(SUM(H22:H28)/COUNTIF(H22:H28, \">0\"), \"\")","v":""}]
["Eve",{"$f":"IFERROR(SUM(B29:B34)/COUNTIF(B29:B34, \">0\"), \"\")","v":{"v":199.5,"d":"200"}},"High",{"$f":"IFERROR(SUM(D29:D34)/COUNTIF(D29:D34, \">0\"), \"\")","v":""},{"$f":"IF(D6=\"\", \"\", IF(D6<120, \"Normal\", IF(D6<140, \"Prehyperten\", IF(D6<160, \"Stage 1 hyperten\", \"Stage 2 hyperten\"))))","v":""},{"$f":"IFERROR(SUM(F29:F34)/COUNTIF(F29:F34, \">0\"), \"\")","v":""},{"$f":"IF(F6=\"\", \"\", IF(F6<80, \"Normal\", IF(F6<89, \"Prehyperten\", IF(F6<99, \"Stage 1 hyperten\", \"Stage 2 hyperten\"))))","v":""},{"$f":"IFERROR(SUM(H29:H34)/COUNTIF(H29:H34, \">0\"), \"\")","v":""}]
["Daily",{"$f":"IFERROR(SUM(B11:B34)/COUNTIF(B11:B34, \">0\"), \"\")","v":{"v":195.66666666666666,"d":"196"}},"High",{"$f":"IFERROR(SUM(D11:D34)/COUNTIF(D11:D34, \">0\"), \"\")","v":""},{"$f":"IF(D7=\"\", \"\", IF(D7<120, \"Normal\", IF(D7<140, \"Prehyperten\", IF(D7<160, \"Stage 1 hyperten\", \"Stage 2 hyperten\"))))","v":""},{"$f":"IFERROR(SUM(F11:F34)/COUNTIF(F11:F34, \">0\"), \"\")","v":""},{"$f":"IF(F7=\"\", \"\", IF(F7<80, \"Normal\", IF(F7<89, \"Prehyperten\", IF(F7<99, \"Stage 1 hyperten\", \"Stage 2 hyperten\"))))","v":""},{"$f":"IFERROR(SUM(H11:H34)/COUNTIF(H11:H34, \">0\"), \"\")","v":""}]
["Weight",{"$nulls":4},{"$f":"IFERROR(#REF!/#REF!, \"\")","v":""},null,{"$f":"IFERROR(#REF!/#REF!, \"\")","v":""}]
["Doc weight"]
["Time (MIL)","Sugar","Status","Sys","Sys status","Dia","Dia status","Pul","Time (CIV)"]
["01:00:00",null,{"$f":"IF(B11=\"\",\"\",IF(B11<70,\"TOO LOW\",IF(B11<=80,\"LOW\",IF(B11<=120,\"Normal\",\"High\"))))","v":""},null,{"$f":"IF(D11=\"\", \"\", IF(D11<120, \"Normal\", IF(D11<140, \"Prehyperten\", IF(D11<160, \"Stage 1 hyperten\", \"Stage 2 hyperten\"))))","v":""},null,{"$f":"IF(F11=\"\", \"\", IF(F11<80, \"Normal\", IF(F11<89, \"Prehyperten\", IF(F11<99, \"Stage 1 hyperten\", \"Stage 2 hyperten\"))))","v":""},null,"01:00:00",{"$nulls":4},{"$f":"IF(B11=\"\", \"\", B11)","v":""},{"$f":"IF(D11=\"\", \"\", D11)","v":""},{"$f":"IF(F11=\"\", \"\", F11)","v":""},{"$f":"IF(H11=\"\", \"\", H11)","v":""}]
["02:00:00",null,{"$f":"IF(B12=\"\",\"\",IF(B12<70,\"TOO LOW\",IF(B12<=80,\"LOW\",IF(B12<=120,\"Normal\",\"High\"))))","v":""},null,{"$f":"IF(D12=\"\", \"\", IF(D12<120, \"Normal\", IF(D12<140, \"Prehyperten\", IF(D12<160, \"Stage 1 hyperten\", \"Stage 2 hyperten\"))))","v":""},null,{"$f":"IF(F12=\"\", \"\", IF(F12<80, \"Normal\", IF(F12<89, \"Prehyperten\", IF(F12<99, \"Stage 1 hyperten\", \"Stage 2 hyperten\"))))","v":""},null,"02:00:00",{"$nulls":4},{"$f":"IF(B12=\"\", \"\", B12)","v":""},{"$f":"IF(D12=\"\", \"\", D12)","v":""},{"$f":"IF(F12=\"\", \"\", F12)","v":""},{"$f":"IF(H12=\"\", \"\", H12)","v":""}]
["03:00:00",null,"",null,"",null,"",null,"03:00:00",{"$nulls":4},"","","",""]
["04:00:00",null,"",null,"",null,"",null,"04:00:00",{"$nulls":4},"","","",""]
["05:00:00",null,"",null,"",null,"",null,"05:00:00",{"$nulls":4},"","","",""]
["06:00:00",null,"",null,"",null,"",null,"06:00:00",{"$nulls":4},"","","",""]
["07:00:00",null,"",null,"",null,"",null,"07:00:00",{"$nulls":4},"","","",""]
["08:00:00",188,"High",null,"",null,"",null,"08:00:00",{"$nulls":4},188,"","",""]
["09:00:00",null,"",null,"",null,"",null,"09:00:00",null,"Before Breakfast",null,null,"","","",""]
["10:00:00",null,"",null,"",null,"",null,"10:00:00",null,"After Breakfast",null,null,"","","",""]
["11:00:00",null,"",null,"",null,"",null,"11:00:00",null,"Before Lunch",null,null,"","","",""]
["12:00:00",null,"",null,"",null,"",null,"00:00:00",null,"After Lunch",null,null,"","","",""]
["13:00:00",null,"",null,"",null,"",null,"13:00:00",null,"Before Dinner",null,null,"","","",""]
["14:00:00",null,"",null,"",null,"",null,"14:00:00",null,"After Dinner",null,null,"","","",""]
["15:00:00",null,"",null,"",null,"",null,"15:00:00",{"$nulls":4},"","","",""]
["16:00:00",null,"",null,"",null,"",null,"16:00:00",{"$nulls":4},"","","",""]
["17:00:00",null,"",null,"",null,"",null,"17:00:00",{"$nulls":4},"","","",""]
["18:00:00",null,"",null,"",null,"",null,"18:00:00",null,"Legend",null,null,"","","",""]
["19:00:00",184,"High",null,"",null,"",null,"19:00:00",null,"BB","Before Breakfast",null,184,"","",""]
["20:00:00",null,"",null,"",null,"",null,"20:00:00",null,"AB","After Breakfast",null,"","","",""]
["21:00:00",null,"",null,"",null,"",null,"21:00:00",null,"BL","Before Lunch",null,"","","",""]
["22:00:00",215,"High",null,"",null,"",null,"22:00:00",null,"AL","After Lunch",null,215,"","",""]
["23:00:00",null,"",null,"",null,"",null,"23:00:00",null,"BD","Before Dinner",null,"","","",""]
[1,null,"",null,"",null,"",null,"00:00:00",{"$nulls":4},"","","",""]

{"sheet":"4","index":4,"n_rows":34,"n_cols":66,"rows_kept":34,"merged":[[0,0,0,8],[1,0,1,8],[7,0,7,1],[7,2,7,3],[8,0,8,1],[8,2,8,3],[27,10,27,12],[29,11,29,12],[30,11,30,12],[31,11,31,12],[32,11,32,12]]}
[{"$f":"IF(info!$B$2=\"\", \"\", info!$B$2)","v":"Jesse Hutton"},{"$nulls":64},{"$f":"info!$B$3&\" \"&4&\", \"&info!$B$4","v":"November 4, 2014"}]
[{"$f":"IF(info!$B$3=\"\", \"\", $BN$1)","v":"November 4, 2014"}]
[null,"Sugar","Status","Sys","Status","Dia","Status","Pul"]
["Morn",{"$f":"IFERROR(SUM(B11:B21)/COUNTIF(B11:B21, \">0\"), \"\")","v":202},{"$f":"IF(B4=\"\",\"\",IF(B4<70,\"TOO LOW\",IF(B4<=80,\"LOW\",IF(B4<=120,\"Normal\",\"High\"))))","v":"High"},{"$f":"IFERROR(SUM(D11:D21)/COUNTIF(D11:D21, \">0\"), \"\")","v":136},{"$f":"IF(D4=\"\", \"\", IF(D4<120, \"Normal\", IF(D4<140, \"Prehyperten\", IF(D4<160, \"Stage 1 hyperten\", \"Stage 2 hyperten\"))))","v":"Prehyperten"},{"$f":"IFERROR(SUM(F11:F21)/COUNTIF(F11:F21, \">0\"), \"\")","v":78},{"$f":"IF(F4=\"\", \"\", IF(F4<80, \"Normal\", IF(F4<89, \"Prehyperten\", IF(F4<99, \"Stage 1 hyperten\", \"Stage 2 hyperten\"))))","v":"Normal"},{"$f":"IFERROR(SUM(H11:H21)/COUNTIF(H11:H21, \">0\"), \"\")","v":77}]
["Noon",{"$f":"IFERROR(SUM(B22:B28)/COUNTIF(B22:B28, \">0\"), \"\")","v":""},{"$f":"IF(B5=\"\",\"\",IF(B5<70,\"TOO LOW\",IF(B5<=80,\"LOW\",IF(B5<=120,\"Normal\",\"High\"))))","v":""},{"$f":"IFERROR(SUM(D22:D28)/COUNTIF(D22:D28, \">0\"), \"\")","v":""},{"$f":"IF(D5=\"\", \"\", IF(D5<120, \"Normal\", IF(D5<140, \"Prehyperten\", IF(D5<160, \"Stage 1 hyperten\", \"Stage 2 hyperten\"))))","v":""},{"$f":"IFERROR(SUM(F22:F28)/COUNTIF(F22:F28, \">0\"), \"\")","v":""},{"$f":"IF(F5=\"\", \"\", IF(F5<80, \"Normal\", IF(F5<89, \"Prehyperten\", IF(F5<99, \"Stage 1 hyperten\", \"Stage 2 hyperten\"))))","v":""},{"$f":"IFERROR(SUM(H22:H28)/COUNTIF(H22:H28, \">0\"), \"\")","v":""}]
["Eve",{"$f":"IFERROR(SUM(B29:B34)/COUNTIF(B29:B34, \">0\"), \"\")","v":207},"High",{"$f":"IFERROR(SUM(D29:D34)/COUNTIF(D29:D34, \">0\"), \"\")","v":""},{"$f":"IF(D6=\"\", \"\", IF(D6<120, \"Normal\", IF(D6<140, \"Prehyperten\", IF(D6<160, \"Stage 1 hyperten\", \"Stage 2 hyperten\"))))","v":""},{"$f":"IFERROR(SUM(F29:F34)/COUNTIF(F29:F34, \">0\"), \"\")","v":""},{"$f":"IF(F6=\"\", \"\", IF(F6<80, \"Normal\", IF(F6<89, \"Prehyperten\", IF(F6<99, \"Stage 1 hyperten\", \"Stage 2 hyperten\"))))","v":""},{"$f":"IFERROR(SUM(H29:H34)/COUNTIF(H29:H34, \">0\"), \"\")","v":""}]
["Daily",{"$f":"IFERROR(SUM(B11:B34)/COUNTIF(B11:B34, \">0\"), \"\")","v":{"v":204.5,"d":"205"}},"High",{"$f":"IFERROR(SUM(D11:D34)/COUNTIF(D11:D34, \">0\"), \"\")","v":136},{"$f":"IF(D7=\"\", \"\", IF(D7<120, \"Normal\", IF(D7<140, \"Prehyperten\", IF(D7<160, \"Stage 1 hyperten\", \"Stage 2 hyperten\"))))","v":"Prehyperten"},{"$f":"IFERROR(SUM(F11:F34)/COUNTIF(F11:F34, \">0\"), \"\")","v":78},{"$f":"IF(F7=\"\", \"\", IF(F7<80, \"Normal\", IF(F7<89, \"Prehyperten\", IF(F7<99, \"Stage 1 hyperten\", \"Stage 2 hyperten\"))))","v":"Normal"},{"$f":"IFERROR(SUM(H11:H34)/COUNTIF(H11:H34, \">0\"), \"\")","v":77}]
["Weight",{"$nulls":4},{"$f":"IFERROR(#REF!/#REF!, \"\")","v":""},null,{"$f":"IFERROR(#REF!/#REF!, \"\")","v":""}]
["Doc weight"]
["Time (MIL)","Sugar","Status","Sys","Sys status","Dia","Dia status","Pul","Time (CIV)"]
["01:00:00",null,{"$f":"IF(B11=\"\",\"\",IF(B11<70,\"TOO LOW\",IF(B11<=80,\"LOW\",IF(B11<=120,\"Normal\",\"High\"))))","v":""},null,{"$f":"IF(D11=\"\", \"\", IF(D11<120, \"Normal\", IF(D11<140, \"Prehyperten\", IF(D11<160, \"Stage 1 hyperten\", \"Stage 2 hyperten\"))))","v":""},null,{"$f":"IF(F11=\"\", \"\", IF(F11<80, \"Normal\", IF(F11<89, \"Prehyperten\", IF(F11<99, \"Stage 1 hyperten\", \"Stage 2 hyperten\"))))","v":""},null,"01:00:00",{"$nulls":4},{"$f":"IF(B11=\"\", \"\", B11)","v":""},{"$f":"IF(D11=\"\", \"\", D11)","v":""},{"$f":"IF(F11=\"\", \"\", F11)","v":""},{"$f":"IF(H11=\"\", \"\", H11)","v":""}]
["02:00:00",null,{"$f":"IF(B12=\"\",\"\",IF(B12<70,\"TOO LOW\",IF(B12<=80,\"LOW\",IF(B12<=120,\"Normal\",\"High\"))))","v":""},null,{"$f":"IF(D12=\"\", \"\", IF(D12<120, \"Normal\", IF(D12<140, \"Prehyperten\", IF(D12<160, \"Stage 1 hyperten\", \"Stage 2 hyperten\"))))","v":""},null,{"$f":"IF(F12=\"\", \"\", IF(F12<80, \"Normal\", IF(F12<89, \"Prehyperten\", IF(F12<99, \"Stage 1 hyperten\", \"Stage 2 hyperten\"))))","v":""},null,"02:00:00",{"$nulls":4},{"$f":"IF(B12=\"\", \"\", B12)","v":""},{"$f":"IF(D12=\"\", \"\", D12)","v":""},{"$f":"IF(F12=\"\", \"\", F12)","v":""},{"$f":"IF(H12=\"\", \"\", H12)","v":""}]
["03:00:00",null,"",null,"",null,"",null,"03:00:00",{"$nulls":4},"","","",""]
["04:00:00",null,"",null,"",null,"",null,"04:00:00",{"$nulls":4},"","","",""]
["05:00:00",null,"",null,"",null,"",null,"05:00:00",{"$nulls":4},"","","",""]
["06:00:00",202,"High",136,"Prehyperten",78,"Normal",77,"06:00:00",{"$nulls":4},202,136,78,77]
["07:00:00",null,"",null,"",null,"",null,"07:00:00",{"$nulls":4},"","","",""]
["08:00:00",null,"",null,"",null,"",null,"08:00:00",{"$nulls":4},"","","",""]
["09:00:00",null,"",null,"",null,"",null,"09:00:00",null,"Before Breakfast",null,null,"","","",""]
["10:00:00",null,"",null,"",null,"",null,"10:00:00",null,"After Breakfast",null,null,"","","",""]
["11:00:00",null,"",null,"",null,"",null,"11:00:00",null,"Before Lunch",null,null,"","","",""]
["12:00:00",null,"",null,"",null,"",null,"00:00:00",null,"After Lunch",null,null,"","","",""]
["13:00:00",null,"",null,"",null,"",null,"13:00:00",null,"Before Dinner",null,null,"","","",""]
["14:00:00",null,"",null,"",null,"",null,"14:00:00",null,"After Dinner",null,null,"","","",""]
["15:00:00",null,"",null,"",null,"",null,"15:00:00",{"$nulls":4},"","","",""]
["16:00:00",null,"",null,"",null,"",null,"16:00:00",{"$nulls":4},"","","",""]
["17:00:00",null,"",null,"",null,"",null,"17:00:00",{"$nulls":4},"","","",""]
["18:00:00",null,"",null,"",null,"",null,"18:00:00",null,"Legend",null,null,"","","",""]
["19:00:00",null,"",null,"",null,"",null,"19:00:00",null,"BB","Before Breakfast",null,"","","",""]
["20:00:00",null,"",null,"",null,"",null,"20:00:00",null,"AB","After Breakfast",null,"","","",""]
["21:00:00",null,"",null,"",null,"",null,"21:00:00",null,"BL","Before Lunch",null,"","","",""]
["22:00:00",207,"High",null,"",null,"",null,"22:00:00",null,"AL","After Lunch",null,207,"","",""]
["23:00:00",null,"",null,"",null,"",null,"23:00:00",null,"BD","Before Dinner",null,"","","",""]
[1,null,"",null,"",null,"",null,"00:00:00",{"$nulls":4},"","","",""]

{"sheet":"5","index":5,"n_rows":34,"n_cols":66,"rows_kept":34,"merged":[[0,0,0,8],[1,0,1,8],[7,0,7,1],[7,2,7,3],[8,0,8,1],[8,2,8,3],[27,10,27,12],[29,11,29,12],[30,11,30,12],[31,11,31,12],[32,11,32,12]]}
[{"$f":"IF(info!$B$2=\"\", \"\", info!$B$2)","v":"Jesse Hutton"},{"$nulls":64},{"$f":"info!$B$3&\" \"&5&\", \"&info!$B$4","v":"November 5, 2014"}]
[{"$f":"IF(info!$B$3=\"\", \"\", $BN$1)","v":"November 5, 2014"}]
[null,"Sugar","Status","Sys","Status","Dia","Status","Pul"]
["Morn",{"$f":"IFERROR(SUM(B11:B21)/COUNTIF(B11:B21, \">0\"), \"\")","v":153},{"$f":"IF(B4=\"\",\"\",IF(B4<70,\"TOO LOW\",IF(B4<=80,\"LOW\",IF(B4<=120,\"Normal\",\"High\"))))","v":"High"},{"$f":"IFERROR(SUM(D11:D21)/COUNTIF(D11:D21, \">0\"), \"\")","v":""},{"$f":"IF(D4=\"\", \"\", IF(D4<120, \"Normal\", IF(D4<140, \"Prehyperten\", IF(D4<160, \"Stage 1 hyperten\", \"Stage 2 hyperten\"))))","v":""},{"$f":"IFERROR(SUM(F11:F21)/COUNTIF(F11:F21, \">0\"), \"\")","v":""},{"$f":"IF(F4=\"\", \"\", IF(F4<80, \"Normal\", IF(F4<89, \"Prehyperten\", IF(F4<99, \"Stage 1 hyperten\", \"Stage 2 hyperten\"))))","v":""},{"$f":"IFERROR(SUM(H11:H21)/COUNTIF(H11:H21, \">0\"), \"\")","v":""}]
["Noon",{"$f":"IFERROR(SUM(B22:B28)/COUNTIF(B22:B28, \">0\"), \"\")","v":""},{"$f":"IF(B5=\"\",\"\",IF(B5<70,\"TOO LOW\",IF(B5<=80,\"LOW\",IF(B5<=120,\"Normal\",\"High\"))))","v":""},{"$f":"IFERROR(SUM(D22:D28)/COUNTIF(D22:D28, \">0\"), \"\")","v":""},{"$f":"IF(D5=\"\", \"\", IF(D5<120, \"Normal\", IF(D5<140, \"Prehyperten\", IF(D5<160, \"Stage 1 hyperten\", \"Stage 2 hyperten\"))))","v":""},{"$f":"IFERROR(SUM(F22:F28)/COUNTIF(F22:F28, \">0\"), \"\")","v":""},{"$f":"IF(F5=\"\", \"\", IF(F5<80, \"Normal\", IF(F5<89, \"Prehyperten\", IF(F5<99, \"Stage 1 hyperten\", \"Stage 2 hyperten\"))))","v":""},{"$f":"IFERROR(SUM(H22:H28)/COUNTIF(H22:H28, \">0\"), \"\")","v":""}]
["Eve",{"$f":"IFERROR(SUM(B29:B34)/COUNTIF(B29:B34, \">0\"), \"\")","v":""},"",{"$f":"IFERROR(SUM(D29:D34)/COUNTIF(D29:D34, \">0\"), \"\")","v":""},{"$f":"IF(D6=\"\", \"\", IF(D6<120, \"Normal\", IF(D6<140, \"Prehyperten\", IF(D6<160, \"Stage 1 hyperten\", \"Stage 2 hyperten\"))))","v":""},{"$f":"IFERROR(SUM(F29:F34)/COUNTIF(F29:F34, \">0\"), \"\")","v":""},{"$f":"IF(F6=\"\", \"\", IF(F6<80, \"Normal\", IF(F6<89, \"Prehyperten\", IF(F6<99, \"Stage 1 hyperten\", \"Stage 2 hyperten\"))))","v":""},{"$f":"IFERROR(SUM(H29:H34)/COUNTIF(H29:H34, \">0\"), \"\")","v":""}]
["Daily",{"$f":"IFERROR(SUM(B11:B34)/COUNTIF(B11:B34, \">0\"), \"\")","v":153},"High",{"$f":"IFERROR(SUM(D11:D34)/COUNTIF(D11:D34, \">0\"), \"\")","v":""},{"$f":"IF(D7=\"\", \"\", IF(D7<120, \"Normal\", IF(D7<140, \"Prehyperten\", IF(D7<160, \"Stage 1 hyperten\", \"Stage 2 hyperten\"))))","v":""},{"$f":"IFERROR(SUM(F11:F34)/COUNTIF(F11:F34, \">0\"), \"\")","v":""},{"$f":"IF(F7=\"\", \"\", IF(F7<80, \"Normal\", IF(F7<89, \"Prehyperten\", IF(F7<99, \"Stage 1 hyperten\", \"Stage 2 hyperten\"))))","v":""},{"$f":"IFERROR(SUM(H11:H34)/COUNTIF(H11:H34, \">0\"), \"\")","v":""}]
["Weight",{"$nulls":4},{"$f":"IFERROR(#REF!/#REF!, \"\")","v":""},null,{"$f":"IFERROR(#REF!/#REF!, \"\")","v":""}]
["Doc weight"]
["Time (MIL)","Sugar","Status","Sys","Sys status","Dia","Dia status","Pul","Time (CIV)"]
["01:00:00",null,{"$f":"IF(B11=\"\",\"\",IF(B11<70,\"TOO LOW\",IF(B11<=80,\"LOW\",IF(B11<=120,\"Normal\",\"High\"))))","v":""},null,{"$f":"IF(D11=\"\", \"\", IF(D11<120, \"Normal\", IF(D11<140, \"Prehyperten\", IF(D11<160, \"Stage 1 hyperten\", \"Stage 2 hyperten\"))))","v":""},null,{"$f":"IF(F11=\"\", \"\", IF(F11<80, \"Normal\", IF(F11<89, \"Prehyperten\", IF(F11<99, \"Stage 1 hyperten\", \"Stage 2 hyperten\"))))","v":""},null,"01:00:00",{"$nulls":4},{"$f":"IF(B11=\"\", \"\", B11)","v":""},{"$f":"IF(D11=\"\", \"\", D11)","v":""},{"$f":"IF(F11=\"\", \"\", F11)","v":""},{"$f":"IF(H11=\"\", \"\", H11)","v":""}]
["02:00:00",null,{"$f":"IF(B12=\"\",\"\",IF(B12<70,\"TOO LOW\",IF(B12<=80,\"LOW\",IF(B12<=120,\"Normal\",\"High\"))))","v":""},null,{"$f":"IF(D12=\"\", \"\", IF(D12<120, \"Normal\", IF(D12<140, \"Prehyperten\", IF(D12<160, \"Stage 1 hyperten\", \"Stage 2 hyperten\"))))","v":""},null,{"$f":"IF(F12=\"\", \"\", IF(F12<80, \"Normal\", IF(F12<89, \"Prehyperten\", IF(F12<99, \"Stage 1 hyperten\", \"Stage 2 hyperten\"))))","v":""},null,"02:00:00",{"$nulls":4},{"$f":"IF(B12=\"\", \"\", B12)","v":""},{"$f":"IF(D12=\"\", \"\", D12)","v":""},{"$f":"IF(F12=\"\", \"\", F12)","v":""},{"$f":"IF(H12=\"\", \"\", H12)","v":""}]
["03:00:00",null,"",null,"",null,"",null,"03:00:00",{"$nulls":4},"","","",""]
["04:00:00",null,"",null,"",null,"",null,"04:00:00",{"$nulls":4},"","","",""]
["05:00:00",null,"",null,"",null,"",null,"05:00:00",{"$nulls":4},"","","",""]
["06:00:00",null,"",null,"",null,"",null,"06:00:00",{"$nulls":4},"","","",""]
["07:00:00",null,"",null,"",null,"",null,"07:00:00",{"$nulls":4},"","","",""]
["08:00:00",null,"",null,"",null,"",null,"08:00:00",{"$nulls":4},"","","",""]
["09:00:00",153,"High",null,"",null,"",null,"09:00:00",null,"Before Breakfast",null,null,153,"","",""]
["10:00:00",null,"",null,"",null,"",null,"10:00:00",null,"After Breakfast",null,null,"","","",""]
["11:00:00",null,"",null,"",null,"",null,"11:00:00",null,"Before Lunch",null,null,"","","",""]
["12:00:00",null,"",null,"",null,"",null,"00:00:00",null,"After Lunch",null,null,"","","",""]
["13:00:00",null,"",null,"",null,"",null,"13:00:00",null,"Before Dinner",null,null,"","","",""]
["14:00:00",null,"",null,"",null,"",null,"14:00:00",null,"After Dinner",null,null,"","","",""]
["15:00:00",null,"",null,"",null,"",null,"15:00:00",{"$nulls":4},"","","",""]
["16:00:00",null,"",null,"",null,"",null,"16:00:00",{"$nulls":4},"","","",""]
["17:00:00",null,"",null,"",null,"",null,"17:00:00",{"$nulls":4},"","","",""]
["18:00:00",null,"",null,"",null,"",null,"18:00:00",null,"Legend",null,null,"","","",""]
["19:00:00",null,"",null,"",null,"",null,"19:00:00",null,"BB","Before Breakfast",null,"","","",""]
["20:00:00",null,"",null,"",null,"",null,"20:00:00",null,"AB","After Breakfast",null,"","","",""]
["21:00:00",null,"",null,"",null,"",null,"21:00:00",null,"BL","Before Lunch",null,"","","",""]
["22:00:00",null,"",null,"",null,"",null,"22:00:00",null,"AL","After Lunch",null,"","","",""]
["23:00:00",null,"",null,"",null,"",null,"23:00:00",null,"BD","Before Dinner",null,"","","",""]
[1,null,"",null,"",null,"",null,"00:00:00",{"$nulls":4},"","","",""]

{"sheet":"6","index":6,"n_rows":34,"n_cols":66,"rows_kept":34,"merged":[[0,0,0,8],[1,0,1,8],[7,0,7,1],[7,2,7,3],[8,0,8,1],[8,2,8,3],[27,10,27,12],[29,11,29,12],[30,11,30,12],[31,11,31,12],[32,11,32,12]]}
[{"$f":"IF(info!$B$2=\"\", \"\", info!$B$2)","v":"Jesse Hutton"},{"$nulls":64},{"$f":"info!$B$3&\" \"&6&\", \"&info!$B$4","v":"November 6, 2014"}]
[{"$f":"IF(info!$B$3=\"\", \"\", $BN$1)","v":"November 6, 2014"}]
[null,"Sugar","Status","Sys","Status","Dia","Status","Pul"]
["Morn",{"$f":"IFERROR(SUM(B11:B21)/COUNTIF(B11:B21, \">0\"), \"\")","v":268},{"$f":"IF(B4=\"\",\"\",IF(B4<70,\"TOO LOW\",IF(B4<=80,\"LOW\",IF(B4<=120,\"Normal\",\"High\"))))","v":"High"},{"$f":"IFERROR(SUM(D11:D21)/COUNTIF(D11:D21, \">0\"), \"\")","v":""},{"$f":"IF(D4=\"\", \"\", IF(D4<120, \"Normal\", IF(D4<140, \"Prehyperten\", IF(D4<160, \"Stage 1 hyperten\", \"Stage 2 hyperten\"))))","v":""},{"$f":"IFERROR(SUM(F11:F21)/COUNTIF(F11:F21, \">0\"), \"\")","v":""},{"$f":"IF(F4=\"\", \"\", IF(F4<80, \"Normal\", IF(F4<89, \"Prehyperten\", IF(F4<99, \"Stage 1 hyperten\", \"Stage 2 hyperten\"))))","v":""},{"$f":"IFERROR(SUM(H11:H21)/COUNTIF(H11:H21, \">0\"), \"\")","v":""}]
["Noon",{"$f":"IFERROR(SUM(B22:B28)/COUNTIF(B22:B28, \">0\"), \"\")","v":138},{"$f":"IF(B5=\"\",\"\",IF(B5<70,\"TOO LOW\",IF(B5<=80,\"LOW\",IF(B5<=120,\"Normal\",\"High\"))))","v":"High"},{"$f":"IFERROR(SUM(D22:D28)/COUNTIF(D22:D28, \">0\"), \"\")","v":""},{"$f":"IF(D5=\"\", \"\", IF(D5<120, \"Normal\", IF(D5<140, \"Prehyperten\", IF(D5<160, \"Stage 1 hyperten\", \"Stage 2 hyperten\"))))","v":""},{"$f":"IFERROR(SUM(F22:F28)/COUNTIF(F22:F28, \">0\"), \"\")","v":""},{"$f":"IF(F5=\"\", \"\", IF(F5<80, \"Normal\", IF(F5<89, \"Prehyperten\", IF(F5<99, \"Stage 1 hyperten\", \"Stage 2 hyperten\"))))","v":""},{"$f":"IFERROR(SUM(H22:H28)/COUNTIF(H22:H28, \">0\"), \"\")","v":""}]
["Eve",{"$f":"IFERROR(SUM(B29:B34)/COUNTIF(B29:B34, \">0\"), \"\")","v":""},"",{"$f":"IFERROR(SUM(D29:D34)/COUNTIF(D29:D34, \">0\"), \"\")","v":""},{"$f":"IF(D6=\"\", \"\", IF(D6<120, \"Normal\", IF(D6<140, \"Prehyperten\", IF(D6<160, \"Stage 1 hyperten\", \"Stage 2 hyperten\"))))","v":""},{"$f":"IFERROR(SUM(F29:F34)/COUNTIF(F29:F34, \">0\"), \"\")","v":""},{"$f":"IF(F6=\"\", \"\", IF(F6<80, \"Normal\", IF(F6<89, \"Prehyperten\", IF(F6<99, \"Stage 1 hyperten\", \"Stage 2 hyperten\"))))","v":""},{"$f":"IFERROR(SUM(H29:H34)/COUNTIF(H29:H34, \">0\"), \"\")","v":""}]
["Daily",{"$f":"IFERROR(SUM(B11:B34)/COUNTIF(B11:B34, \">0\"), \"\")","v":203},"High",{"$f":"IFERROR(SUM(D11:D34)/COUNTIF(D11:D34, \">0\"), \"\")","v":""},{"$f":"IF(D7=\"\", \"\", IF(D7<120, \"Normal\", IF(D7<140, \"Prehyperten\", IF(D7<160, \"Stage 1 hyperten\", \"Stage 2 hyperten\"))))","v":""},{"$f":"IFERROR(SUM(F11:F34)/COUNTIF(F11:F34, \">0\"), \"\")","v":""},{"$f":"IF(F7=\"\", \"\", IF(F7<80, \"Normal\", IF(F7<89, \"Prehyperten\", IF(F7<99, \"Stage 1 hyperten\", \"Stage 2 hyperten\"))))","v":""},{"$f":"IFERROR(SUM(H11:H34)/COUNTIF(H11:H34, \">0\"), \"\")","v":""}]
["Weight",{"$nulls":4},{"$f":"IFERROR(#REF!/#REF!, \"\")","v":""},null,{"$f":"IFERROR(#REF!/#REF!, \"\")","v":""}]
["Doc weight"]
["Time (MIL)","Sugar","Status","Sys","Sys status","Dia","Dia status","Pul","Time (CIV)"]
["01:00:00",null,{"$f":"IF(B11=\"\",\"\",IF(B11<70,\"TOO LOW\",IF(B11<=80,\"LOW\",IF(B11<=120,\"Normal\",\"High\"))))","v":""},null,{"$f":"IF(D11=\"\", \"\", IF(D11<120, \"Normal\", IF(D11<140, \"Prehyperten\", IF(D11<160, \"Stage 1 hyperten\", \"Stage 2 hyperten\"))))","v":""},null,{"$f":"IF(F11=\"\", \"\", IF(F11<80, \"Normal\", IF(F11<89, \"Prehyperten\", IF(F11<99, \"Stage 1 hyperten\", \"Stage 2 hyperten\"))))","v":""},null,"01:00:00",{"$nulls":4},{"$f":"IF(B11=\"\", \"\", B11)","v":""},{"$f":"IF(D11=\"\", \"\", D11)","v":""},{"$f":"IF(F11=\"\", \"\", F11)","v":""},{"$f":"IF(H11=\"\", \"\", H11)","v":""}]
["02:00:00",null,{"$f":"IF(B12=\"\",\"\",IF(B12<70,\"TOO LOW\",IF(B12<=80,\"LOW\",IF(B12<=120,\"Normal\",\"High\"))))","v":""},null,{"$f":"IF(D12=\"\", \"\", IF(D12<120, \"Normal\", IF(D12<140, \"Prehyperten\", IF(D12<160, \"Stage 1 hyperten\", \"Stage 2 hyperten\"))))","v":""},null,{"$f":"IF(F12=\"\", \"\", IF(F12<80, \"Normal\", IF(F12<89, \"Prehyperten\", IF(F12<99, \"Stage 1 hyperten\", \"Stage 2 hyperten\"))))","v":""},null,"02:00:00",{"$nulls":4},{"$f":"IF(B12=\"\", \"\", B12)","v":""},{"$f":"IF(D12=\"\", \"\", D12)","v":""},{"$f":"IF(F12=\"\", \"\", F12)","v":""},{"$f":"IF(H12=\"\", \"\", H12)","v":""}]
["03:00:00",null,"",null,"",null,"",null,"03:00:00",{"$nulls":4},"","","",""]
["04:00:00",null,"",null,"",null,"",null,"04:00:00",{"$nulls":4},"","","",""]
["05:00:00",null,"",null,"",null,"",null,"05:00:00",{"$nulls":4},"","","",""]
["06:00:00",null,"",null,"",null,"",null,"06:00:00",{"$nulls":4},"","","",""]
["07:00:00",null,"",null,"",null,"",null,"07:00:00",{"$nulls":4},"","","",""]
["08:00:00",null,"",null,"",null,"",null,"08:00:00",{"$nulls":4},"","","",""]
["09:00:00",268,"High",null,"",null,"",null,"09:00:00",null,"Before Breakfast",null,null,268,"","",""]
["10:00:00",null,"",null,"",null,"",null,"10:00:00",null,"After Breakfast",null,null,"","","",""]
["11:00:00",null,"",null,"",null,"",null,"11:00:00",null,"Before Lunch",null,null,"","","",""]
["12:00:00",null,"",null,"",null,"",null,"00:00:00",null,"After Lunch",null,null,"","","",""]
["13:00:00",null,"",null,"",null,"",null,"13:00:00",null,"Before Dinner",null,null,"","","",""]
["14:00:00",null,"",null,"",null,"",null,"14:00:00",null,"After Dinner",null,null,"","","",""]
["15:00:00",null,"",null,"",null,"",null,"15:00:00",{"$nulls":4},"","","",""]
["16:00:00",null,"",null,"",null,"",null,"16:00:00",{"$nulls":4},"","","",""]
["17:00:00",138,"High",null,"",null,"",null,"17:00:00",{"$nulls":4},138,"","",""]
["18:00:00",null,"",null,"",null,"",null,"18:00:00",null,"Legend",null,null,"","","",""]
["19:00:00",null,"",null,"",null,"",null,"19:00:00",null,"BB","Before Breakfast",null,"","","",""]
["20:00:00",null,"",null,"",null,"",null,"20:00:00",null,"AB","After Breakfast",null,"","","",""]
["21:00:00",null,"",null,"",null,"",null,"21:00:00",null,"BL","Before Lunch",null,"","","",""]
["22:00:00",null,"",null,"",null,"",null,"22:00:00",null,"AL","After Lunch",null,"","","",""]
["23:00:00",null,"",null,"",null,"",null,"23:00:00",null,"BD","Before Dinner",null,"","","",""]
[1,null,"",null,"",null,"",null,"00:00:00",{"$nulls":4},"","","",""]

{"sheet":"7","index":7,"n_rows":34,"n_cols":66,"rows_kept":34,"merged":[[0,0,0,8],[1,0,1,8],[7,0,7,1],[7,2,7,3],[8,0,8,1],[8,2,8,3],[27,10,27,12],[29,11,29,12],[30,11,30,12],[31,11,31,12],[32,11,32,12]]}
[{"$f":"IF(info!$B$2=\"\", \"\", info!$B$2)","v":"Jesse Hutton"},{"$nulls":64},{"$f":"info!$B$3&\" \"&7&\", \"&info!$B$4","v":"November 7, 2014"}]
[{"$f":"IF(info!$B$3=\"\", \"\", $BN$1)","v":"November 7, 2014"}]
[null,"Sugar","Status","Sys","Status","Dia","Status","Pul"]
["Morn",{"$f":"IFERROR(SUM(B11:B21)/COUNTIF(B11:B21, \">0\"), \"\")","v":""},{"$f":"IF(B4=\"\",\"\",IF(B4<70,\"TOO LOW\",IF(B4<=80,\"LOW\",IF(B4<=120,\"Normal\",\"High\"))))","v":""},{"$f":"IFERROR(SUM(D11:D21)/COUNTIF(D11:D21, \">0\"), \"\")","v":""},{"$f":"IF(D4=\"\", \"\", IF(D4<120, \"Normal\", IF(D4<140, \"Prehyperten\", IF(D4<160, \"Stage 1 hyperten\", \"Stage 2 hyperten\"))))","v":""},{"$f":"IFERROR(SUM(F11:F21)/COUNTIF(F11:F21, \">0\"), \"\")","v":""},{"$f":"IF(F4=\"\", \"\", IF(F4<80, \"Normal\", IF(F4<89, \"Prehyperten\", IF(F4<99, \"Stage 1 hyperten\", \"Stage 2 hyperten\"))))","v":""},{"$f":"IFERROR(SUM(H11:H21)/COUNTIF(H11:H21, \">0\"), \"\")","v":""}]
["Noon",{"$f":"IFERROR(SUM(B22:B28)/COUNTIF(B22:B28, \">0\"), \"\")","v":""},{"$f":"IF(B5=\"\",\"\",IF(B5<70,\"TOO LOW\",IF(B5<=80,\"LOW\",IF(B5<=120,\"Normal\",\"High\"))))","v":""},{"$f":"IFERROR(SUM(D22:D28)/COUNTIF(D22:D28, \">0\"), \"\")","v":""},{"$f":"IF(D5=\"\", \"\", IF(D5<120, \"Normal\", IF(D5<140, \"Prehyperten\", IF(D5<160, \"Stage 1 hyperten\", \"Stage 2 hyperten\"))))","v":""},{"$f":"IFERROR(SUM(F22:F28)/COUNTIF(F22:F28, \">0\"), \"\")","v":""},{"$f":"IF(F5=\"\", \"\", IF(F5<80, \"Normal\", IF(F5<89, \"Prehyperten\", IF(F5<99, \"Stage 1 hyperten\", \"Stage 2 hyperten\"))))","v":""},{"$f":"IFERROR(SUM(H22:H28)/COUNTIF(H22:H28, \">0\"), \"\")","v":""}]
["Eve",{"$f":"IFERROR(SUM(B29:B34)/COUNTIF(B29:B34, \">0\"), \"\")","v":173},"High",{"$f":"IFERROR(SUM(D29:D34)/COUNTIF(D29:D34, \">0\"), \"\")","v":""},{"$f":"IF(D6=\"\", \"\", IF(D6<120, \"Normal\", IF(D6<140, \"Prehyperten\", IF(D6<160, \"Stage 1 hyperten\", \"Stage 2 hyperten\"))))","v":""},{"$f":"IFERROR(SUM(F29:F34)/COUNTIF(F29:F34, \">0\"), \"\")","v":""},{"$f":"IF(F6=\"\", \"\", IF(F6<80, \"Normal\", IF(F6<89, \"Prehyperten\", IF(F6<99, \"Stage 1 hyperten\", \"Stage 2 hyperten\"))))","v":""},{"$f":"IFERROR(SUM(H29:H34)/COUNTIF(H29:H34, \">0\"), \"\")","v":""}]
["Daily",{"$f":"IFERROR(SUM(B11:B34)/COUNTIF(B11:B34, \">0\"), \"\")","v":173},"High",{"$f":"IFERROR(SUM(D11:D34)/COUNTIF(D11:D34, \">0\"), \"\")","v":""},{"$f":"IF(D7=\"\", \"\", IF(D7<120, \"Normal\", IF(D7<140, \"Prehyperten\", IF(D7<160, \"Stage 1 hyperten\", \"Stage 2 hyperten\"))))","v":""},{"$f":"IFERROR(SUM(F11:F34)/COUNTIF(F11:F34, \">0\"), \"\")","v":""},{"$f":"IF(F7=\"\", \"\", IF(F7<80, \"Normal\", IF(F7<89, \"Prehyperten\", IF(F7<99, \"Stage 1 hyperten\", \"Stage 2 hyperten\"))))","v":""},{"$f":"IFERROR(SUM(H11:H34)/COUNTIF(H11:H34, \">0\"), \"\")","v":""}]
["Weight",{"$nulls":4},{"$f":"IFERROR(#REF!/#REF!, \"\")","v":""},null,{"$f":"IFERROR(#REF!/#REF!, \"\")","v":""}]
["Doc weight"]
["Time (MIL)","Sugar","Status","Sys","Sys status","Dia","Dia status","Pul","Time (CIV)"]
["01:00:00",null,{"$f":"IF(B11=\"\",\"\",IF(B11<70,\"TOO LOW\",IF(B11<=80,\"LOW\",IF(B11<=120,\"Normal\",\"High\"))))","v":""},null,{"$f":"IF(D11=\"\", \"\", IF(D11<120, \"Normal\", IF(D11<140, \"Prehyperten\", IF(D11<160, \"Stage 1 hyperten\", \"Stage 2 hyperten\"))))","v":""},null,{"$f":"IF(F11=\"\", \"\", IF(F11<80, \"Normal\", IF(F11<89, \"Prehyperten\", IF(F11<99, \"Stage 1 hyperten\", \"Stage 2 hyperten\"))))","v":""},null,"01:00:00",{"$nulls":4},{"$f":"IF(B11=\"\", \"\", B11)","v":""},{"$f":"IF(D11=\"\", \"\", D11)","v":""},{"$f":"IF(F11=\"\", \"\", F11)","v":""},{"$f":"IF(H11=\"\", \"\", H11)","v":""}]
["02:00:00",null,{"$f":"IF(B12=\"\",\"\",IF(B12<70,\"TOO LOW\",IF(B12<=80,\"LOW\",IF(B12<=120,\"Normal\",\"High\"))))","v":""},null,{"$f":"IF(D12=\"\", \"\", IF(D12<120, \"Normal\", IF(D12<140, \"Prehyperten\", IF(D12<160, \"Stage 1 hyperten\", \"Stage 2 hyperten\"))))","v":""},null,{"$f":"IF(F12=\"\", \"\", IF(F12<80, \"Normal\", IF(F12<89, \"Prehyperten\", IF(F12<99, \"Stage 1 hyperten\", \"Stage 2 hyperten\"))))","v":""},null,"02:00:00",{"$nulls":4},{"$f":"IF(B12=\"\", \"\", B12)","v":""},{"$f":"IF(D12=\"\", \"\", D12)","v":""},{"$f":"IF(F12=\"\", \"\", F12)","v":""},{"$f":"IF(H12=\"\", \"\", H12)","v":""}]
["03:00:00",null,"",null,"",null,"",null,"03:00:00",{"$nulls":4},"","","",""]
["04:00:00",null,"",null,"",null,"",null,"04:00:00",{"$nulls":4},"","","",""]
["05:00:00",null,"",null,"",null,"",null,"05:00:00",{"$nulls":4},"","","",""]
["06:00:00",null,"",null,"",null,"",null,"06:00:00",{"$nulls":4},"","","",""]
["07:00:00",null,"",null,"",null,"",null,"07:00:00",{"$nulls":4},"","","",""]
["08:00:00",null,"",null,"",null,"",null,"08:00:00",{"$nulls":4},"","","",""]
["09:00:00",null,"",null,"",null,"",null,"09:00:00",null,"Before Breakfast",null,null,"","","",""]
["10:00:00",null,"",null,"",null,"",null,"10:00:00",null,"After Breakfast",null,null,"","","",""]
["11:00:00",null,"",null,"",null,"",null,"11:00:00",null,"Before Lunch",null,null,"","","",""]
["12:00:00",null,"",null,"",null,"",null,"00:00:00",null,"After Lunch",null,null,"","","",""]
["13:00:00",null,"",null,"",null,"",null,"13:00:00",null,"Before Dinner",null,null,"","","",""]
["14:00:00",null,"",null,"",null,"",null,"14:00:00",null,"After Dinner",null,null,"","","",""]
["15:00:00",null,"",null,"",null,"",null,"15:00:00",{"$nulls":4},"","","",""]
["16:00:00",null,"",null,"",null,"",null,"16:00:00",{"$nulls":4},"","","",""]
["17:00:00",null,"",null,"",null,"",null,"17:00:00",{"$nulls":4},"","","",""]
["18:00:00",null,"",null,"",null,"",null,"18:00:00",null,"Legend",null,null,"","","",""]
["19:00:00",null,"",null,"",null,"",null,"19:00:00",null,"BB","Before Breakfast",null,"","","",""]
["20:00:00",145,"High",null,"",null,"",null,"20:00:00",null,"AB","After Breakfast",null,145,"","",""]
["21:00:00",null,"",null,"",null,"",null,"21:00:00",null,"BL","Before Lunch",null,"","","",""]
["22:00:00",null,"",null,"",null,"",null,"22:00:00",null,"AL","After Lunch",null,"","","",""]
["23:00:00",201,"High",null,"",null,"",null,"23:00:00",null,"BD","Before Dinner",null,201,"","",""]
[1,null,"",null,"",null,"",null,"00:00:00",{"$nulls":4},"","","",""]

{"sheet":"8","index":8,"n_rows":34,"n_cols":66,"rows_kept":34,"merged":[[0,0,0,8],[1,0,1,8],[7,0,7,1],[7,2,7,3],[8,0,8,1],[8,2,8,3],[27,10,27,12],[29,11,29,12],[30,11,30,12],[31,11,31,12],[32,11,32,12]]}
[{"$f":"IF(info!$B$2=\"\", \"\", info!$B$2)","v":"Jesse Hutton"},{"$nulls":64},{"$f":"info!$B$3&\" \"&8&\", \"&info!$B$4","v":"November 8, 2014"}]
[{"$f":"IF(info!$B$3=\"\", \"\", $BN$1)","v":"November 8, 2014"}]
[null,"Sugar","Status","Sys","Status","Dia","Status","Pul"]
["Morn",{"$f":"IFERROR(SUM(B11:B21)/COUNTIF(B11:B21, \">0\"), \"\")","v":163},{"$f":"IF(B4=\"\",\"\",IF(B4<70,\"TOO LOW\",IF(B4<=80,\"LOW\",IF(B4<=120,\"Normal\",\"High\"))))","v":"High"},{"$f":"IFERROR(SUM(D11:D21)/COUNTIF(D11:D21, \">0\"), \"\")","v":""},{"$f":"IF(D4=\"\", \"\", IF(D4<120, \"Normal\", IF(D4<140, \"Prehyperten\", IF(D4<160, \"Stage 1 hyperten\", \"Stage 2 hyperten\"))))","v":""},{"$f":"IFERROR(SUM(F11:F21)/COUNTIF(F11:F21, \">0\"), \"\")","v":""},{"$f":"IF(F4=\"\", \"\", IF(F4<80, \"Normal\", IF(F4<89, \"Prehyperten\", IF(F4<99, \"Stage 1 hyperten\", \"Stage 2 hyperten\"))))","v":""},{"$f":"IFERROR(SUM(H11:H21)/COUNTIF(H11:H21, \">0\"), \"\")","v":""}]
["Noon",{"$f":"IFERROR(SUM(B22:B28)/COUNTIF(B22:B28, \">0\"), \"\")","v":""},{"$f":"IF(B5=\"\",\"\",IF(B5<70,\"TOO LOW\",IF(B5<=80,\"LOW\",IF(B5<=120,\"Normal\",\"High\"))))","v":""},{"$f":"IFERROR(SUM(D22:D28)/COUNTIF(D22:D28, \">0\"), \"\")","v":""},{"$f":"IF(D5=\"\", \"\", IF(D5<120, \"Normal\", IF(D5<140, \"Prehyperten\", IF(D5<160, \"Stage 1 hyperten\", \"Stage 2 hyperten\"))))","v":""},{"$f":"IFERROR(SUM(F22:F28)/COUNTIF(F22:F28, \">0\"), \"\")","v":""},{"$f":"IF(F5=\"\", \"\", IF(F5<80, \"Normal\", IF(F5<89, \"Prehyperten\", IF(F5<99, \"Stage 1 hyperten\", \"Stage 2 hyperten\"))))","v":""},{"$f":"IFERROR(SUM(H22:H28)/COUNTIF(H22:H28, \">0\"), \"\")","v":""}]
["Eve",{"$f":"IFERROR(SUM(B29:B34)/COUNTIF(B29:B34, \">0\"), \"\")","v":""},"",{"$f":"IFERROR(SUM(D29:D34)/COUNTIF(D29:D34, \">0\"), \"\")","v":""},{"$f":"IF(D6=\"\", \"\", IF(D6<120, \"Normal\", IF(D6<140, \"Prehyperten\", IF(D6<160, \"Stage 1 hyperten\", \"Stage 2 hyperten\"))))","v":""},{"$f":"IFERROR(SUM(F29:F34)/COUNTIF(F29:F34, \">0\"), \"\")","v":""},{"$f":"IF(F6=\"\", \"\", IF(F6<80, \"Normal\", IF(F6<89, \"Prehyperten\", IF(F6<99, \"Stage 1 hyperten\", \"Stage 2 hyperten\"))))","v":""},{"$f":"IFERROR(SUM(H29:H34)/COUNTIF(H29:H34, \">0\"), \"\")","v":""}]
["Daily",{"$f":"IFERROR(SUM(B11:B34)/COUNTIF(B11:B34, \">0\"), \"\")","v":163},"High",{"$f":"IFERROR(SUM(D11:D34)/COUNTIF(D11:D34, \">0\"), \"\")","v":""},{"$f":"IF(D7=\"\", \"\", IF(D7<120, \"Normal\", IF(D7<140, \"Prehyperten\", IF(D7<160, \"Stage 1 hyperten\", \"Stage 2 hyperten\"))))","v":""},{"$f":"IFERROR(SUM(F11:F34)/COUNTIF(F11:F34, \">0\"), \"\")","v":""},{"$f":"IF(F7=\"\", \"\", IF(F7<80, \"Normal\", IF(F7<89, \"Prehyperten\", IF(F7<99, \"Stage 1 hyperten\", \"Stage 2 hyperten\"))))","v":""},{"$f":"IFERROR(SUM(H11:H34)/COUNTIF(H11:H34, \">0\"), \"\")","v":""}]
["Weight",{"$nulls":4},{"$f":"IFERROR(#REF!/#REF!, \"\")","v":""},null,{"$f":"IFERROR(#REF!/#REF!, \"\")","v":""}]
["Doc weight"]
["Time (MIL)","Sugar","Status","Sys","Sys status","Dia","Dia status","Pul","Time (CIV)"]
["01:00:00",null,{"$f":"IF(B11=\"\",\"\",IF(B11<70,\"TOO LOW\",IF(B11<=80,\"LOW\",IF(B11<=120,\"Normal\",\"High\"))))","v":""},null,{"$f":"IF(D11=\"\", \"\", IF(D11<120, \"Normal\", IF(D11<140, \"Prehyperten\", IF(D11<160, \"Stage 1 hyperten\", \"Stage 2 hyperten\"))))","v":""},null,{"$f":"IF(F11=\"\", \"\", IF(F11<80, \"Normal\", IF(F11<89, \"Prehyperten\", IF(F11<99, \"Stage 1 hyperten\", \"Stage 2 hyperten\"))))","v":""},null,"01:00:00",{"$nulls":4},{"$f":"IF(B11=\"\", \"\", B11)","v":""},{"$f":"IF(D11=\"\", \"\", D11)","v":""},{"$f":"IF(F11=\"\", \"\", F11)","v":""},{"$f":"IF(H11=\"\", \"\", H11)","v":""}]
["02:00:00",null,{"$f":"IF(B12=\"\",\"\",IF(B12<70,\"TOO LOW\",IF(B12<=80,\"LOW\",IF(B12<=120,\"Normal\",\"High\"))))","v":""},null,{"$f":"IF(D12=\"\", \"\", IF(D12<120, \"Normal\", IF(D12<140, \"Prehyperten\", IF(D12<160, \"Stage 1 hyperten\", \"Stage 2 hyperten\"))))","v":""},null,{"$f":"IF(F12=\"\", \"\", IF(F12<80, \"Normal\", IF(F12<89, \"Prehyperten\", IF(F12<99, \"Stage 1 hyperten\", \"Stage 2 hyperten\"))))","v":""},null,"02:00:00",{"$nulls":4},{"$f":"IF(B12=\"\", \"\", B12)","v":""},{"$f":"IF(D12=\"\", \"\", D12)","v":""},{"$f":"IF(F12=\"\", \"\", F12)","v":""},{"$f":"IF(H12=\"\", \"\", H12)","v":""}]
["03:00:00",null,"",null,"",null,"",null,"03:00:00",{"$nulls":4},"","","",""]
["04:00:00",null,"",null,"",null,"",null,"04:00:00",{"$nulls":4},"","","",""]
["05:00:00",null,"",null,"",null,"",null,"05:00:00",{"$nulls":4},"","","",""]
["06:00:00",null,"",null,"",null,"",null,"06:00:00",{"$nulls":4},"","","",""]
["07:00:00",null,"",null,"",null,"",null,"07:00:00",{"$nulls":4},"","","",""]
["08:00:00",null,"",null,"",null,"",null,"08:00:00",{"$nulls":4},"","","",""]
["09:00:00",null,"",null,"",null,"",null,"09:00:00",null,"Before Breakfast",null,null,"","","",""]
["10:00:00",163,"High",null,"",null,"",null,"10:00:00",null,"After Breakfast",null,null,163,"","",""]
["11:00:00",null,"",null,"",null,"",null,"11:00:00",null,"Before Lunch",null,null,"","","",""]
["12:00:00",null,"",null,"",null,"",null,"00:00:00",null,"After Lunch",null,null,"","","",""]
["13:00:00",null,"",null,"",null,"",null,"13:00:00",null,"Before Dinner",null,null,"","","",""]
["14:00:00",null,"",null,"",null,"",null,"14:00:00",null,"After Dinner",null,null,"","","",""]
["15:00:00",null,"",null,"",null,"",null,"15:00:00",{"$nulls":4},"","","",""]
["16:00:00",null,"",null,"",null,"",null,"16:00:00",{"$nulls":4},"","","",""]
["17:00:00",null,"",null,"",null,"",null,"17:00:00",{"$nulls":4},"","","",""]
["18:00:00",null,"",null,"",null,"",null,"18:00:00",null,"Legend",null,null,"","","",""]
["19:00:00",null,"",null,"",null,"",null,"19:00:00",null,"BB","Before Breakfast",null,"","","",""]
["20:00:00",null,"",null,"",null,"",null,"20:00:00",null,"AB","After Breakfast",null,"","","",""]
["21:00:00",null,"",null,"",null,"",null,"21:00:00",null,"BL","Before Lunch",null,"","","",""]
["22:00:00",null,"",null,"",null,"",null,"22:00:00",null,"AL","After Lunch",null,"","","",""]
["23:00:00",null,"",null,"",null,"",null,"23:00:00",null,"BD","Before Dinner",null,"","","",""]
[1,null,"",null,"",null,"",null,"00:00:00",{"$nulls":4},"","","",""]

{"sheet":"9","index":9,"n_rows":34,"n_cols":66,"rows_kept":34,"merged":[[0,0,0,8],[1,0,1,8],[7,0,7,1],[7,2,7,3],[8,0,8,1],[8,2,8,3],[27,10,27,12],[29,11,29,12],[30,11,30,12],[31,11,31,12],[32,11,32,12]]}
[{"$f":"IF(info!$B$2=\"\", \"\", info!$B$2)","v":"Jesse Hutton"},{"$nulls":64},{"$f":"info!$B$3&\" \"&9&\", \"&info!$B$4","v":"November 9, 2014"}]
[{"$f":"IF(info!$B$3=\"\", \"\", $BN$1)","v":"November 9, 2014"}]
[null,"Sugar","Status","Sys","Status","Dia","Status","Pul"]
["Morn",{"$f":"IFERROR(SUM(B11:B21)/COUNTIF(B11:B21, \">0\"), \"\")","v":""},{"$f":"IF(B4=\"\",\"\",IF(B4<70,\"TOO LOW\",IF(B4<=80,\"LOW\",IF(B4<=120,\"Normal\",\"High\"))))","v":""},{"$f":"IFERROR(SUM(D11:D21)/COUNTIF(D11:D21, \">0\"), \"\")","v":""},{"$f":"IF(D4=\"\", \"\", IF(D4<120, \"Normal\", IF(D4<140, \"Prehyperten\", IF(D4<160, \"Stage 1 hyperten\", \"Stage 2 hyperten\"))))","v":""},{"$f":"IFERROR(SUM(F11:F21)/COUNTIF(F11:F21, \">0\"), \"\")","v":""},{"$f":"IF(F4=\"\", \"\", IF(F4<80, \"Normal\", IF(F4<89, \"Prehyperten\", IF(F4<99, \"Stage 1 hyperten\", \"Stage 2 hyperten\"))))","v":""},{"$f":"IFERROR(SUM(H11:H21)/COUNTIF(H11:H21, \">0\"), \"\")","v":""}]
["Noon",{"$f":"IFERROR(SUM(B22:B28)/COUNTIF(B22:B28, \">0\"), \"\")","v":""},{"$f":"IF(B5=\"\",\"\",IF(B5<70,\"TOO LOW\",IF(B5<=80,\"LOW\",IF(B5<=120,\"Normal\",\"High\"))))","v":""},{"$f":"IFERROR(SUM(D22:D28)/COUNTIF(D22:D28, \">0\"), \"\")","v":""},{"$f":"IF(D5=\"\", \"\", IF(D5<120, \"Normal\", IF(D5<140, \"Prehyperten\", IF(D5<160, \"Stage 1 hyperten\", \"Stage 2 hyperten\"))))","v":""},{"$f":"IFERROR(SUM(F22:F28)/COUNTIF(F22:F28, \">0\"), \"\")","v":""},{"$f":"IF(F5=\"\", \"\", IF(F5<80, \"Normal\", IF(F5<89, \"Prehyperten\", IF(F5<99, \"Stage 1 hyperten\", \"Stage 2 hyperten\"))))","v":""},{"$f":"IFERROR(SUM(H22:H28)/COUNTIF(H22:H28, \">0\"), \"\")","v":""}]
["Eve",{"$f":"IFERROR(SUM(B29:B34)/COUNTIF(B29:B34, \">0\"), \"\")","v":""},"",{"$f":"IFERROR(SUM(D29:D34)/COUNTIF(D29:D34, \">0\"), \"\")","v":""},{"$f":"IF(D6=\"\", \"\", IF(D6<120, \"Normal\", IF(D6<140, \"Prehyperten\", IF(D6<160, \"Stage 1 hyperten\", \"Stage 2 hyperten\"))))","v":""},{"$f":"IFERROR(SUM(F29:F34)/COUNTIF(F29:F34, \">0\"), \"\")","v":""},{"$f":"IF(F6=\"\", \"\", IF(F6<80, \"Normal\", IF(F6<89, \"Prehyperten\", IF(F6<99, \"Stage 1 hyperten\", \"Stage 2 hyperten\"))))","v":""},{"$f":"IFERROR(SUM(H29:H34)/COUNTIF(H29:H34, \">0\"), \"\")","v":""}]
["Daily",{"$f":"IFERROR(SUM(B11:B34)/COUNTIF(B11:B34, \">0\"), \"\")","v":""},"",{"$f":"IFERROR(SUM(D11:D34)/COUNTIF(D11:D34, \">0\"), \"\")","v":""},{"$f":"IF(D7=\"\", \"\", IF(D7<120, \"Normal\", IF(D7<140, \"Prehyperten\", IF(D7<160, \"Stage 1 hyperten\", \"Stage 2 hyperten\"))))","v":""},{"$f":"IFERROR(SUM(F11:F34)/COUNTIF(F11:F34, \">0\"), \"\")","v":""},{"$f":"IF(F7=\"\", \"\", IF(F7<80, \"Normal\", IF(F7<89, \"Prehyperten\", IF(F7<99, \"Stage 1 hyperten\", \"Stage 2 hyperten\"))))","v":""},{"$f":"IFERROR(SUM(H11:H34)/COUNTIF(H11:H34, \">0\"), \"\")","v":""}]
["Weight",{"$nulls":4},{"$f":"IFERROR(#REF!/#REF!, \"\")","v":""},null,{"$f":"IFERROR(#REF!/#REF!, \"\")","v":""}]
["Doc weight"]
["Time (MIL)","Sugar","Status","Sys","Sys status","Dia","Dia status","Pul","Time (CIV)"]
["01:00:00",null,{"$f":"IF(B11=\"\",\"\",IF(B11<70,\"TOO LOW\",IF(B11<=80,\"LOW\",IF(B11<=120,\"Normal\",\"High\"))))","v":""},null,{"$f":"IF(D11=\"\", \"\", IF(D11<120, \"Normal\", IF(D11<140, \"Prehyperten\", IF(D11<160, \"Stage 1 hyperten\", \"Stage 2 hyperten\"))))","v":""},null,{"$f":"IF(F11=\"\", \"\", IF(F11<80, \"Normal\", IF(F11<89, \"Prehyperten\", IF(F11<99, \"Stage 1 hyperten\", \"Stage 2 hyperten\"))))","v":""},null,"01:00:00",{"$nulls":4},{"$f":"IF(B11=\"\", \"\", B11)","v":""},{"$f":"IF(D11=\"\", \"\", D11)","v":""},{"$f":"IF(F11=\"\", \"\", F11)","v":""},{"$f":"IF(H11=\"\", \"\", H11)","v":""}]
["02:00:00",null,{"$f":"IF(B12=\"\",\"\",IF(B12<70,\"TOO LOW\",IF(B12<=80,\"LOW\",IF(B12<=120,\"Normal\",\"High\"))))","v":""},null,{"$f":"IF(D12=\"\", \"\", IF(D12<120, \"Normal\", IF(D12<140, \"Prehyperten\", IF(D12<160, \"Stage 1 hyperten\", \"Stage 2 hyperten\"))))","v":""},null,{"$f":"IF(F12=\"\", \"\", IF(F12<80, \"Normal\", IF(F12<89, \"Prehyperten\", IF(F12<99, \"Stage 1 hyperten\", \"Stage 2 hyperten\"))))","v":""},null,"02:00:00",{"$nulls":4},{"$f":"IF(B12=\"\", \"\", B12)","v":""},{"$f":"IF(D12=\"\", \"\", D12)","v":""},{"$f":"IF(F12=\"\", \"\", F12)","v":""},{"$f":"IF(H12=\"\", \"\", H12)","v":""}]
["03:00:00",null,"",null,"",null,"",null,"03:00:00",{"$nulls":4},"","","",""]
["04:00:00",null,"",null,"",null,"",null,"04:00:00",{"$nulls":4},"","","",""]
["05:00:00",null,"",null,"",null,"",null,"05:00:00",{"$nulls":4},"","","",""]
["06:00:00",null,"",null,"",null,"",null,"06:00:00",{"$nulls":4},"","","",""]
["07:00:00",null,"",null,"",null,"",null,"07:00:00",{"$nulls":4},"","","",""]
["08:00:00",null,"",null,"",null,"",null,"08:00:00",{"$nulls":4},"","","",""]
["09:00:00",null,"",null,"",null,"",null,"09:00:00",null,"Before Breakfast",null,null,"","","",""]
["10:00:00",null,"",null,"",null,"",null,"10:00:00",null,"After Breakfast",null,null,"","","",""]
["11:00:00",null,"",null,"",null,"",null,"11:00:00",null,"Before Lunch",null,null,"","","",""]
["12:00:00",null,"",null,"",null,"",null,"00:00:00",null,"After Lunch",null,null,"","","",""]
["13:00:00",null,"",null,"",null,"",null,"13:00:00",null,"Before Dinner",null,null,"","","",""]
["14:00:00",null,"",null,"",null,"",null,"14:00:00",null,"After Dinner",null,null,"","","",""]
["15:00:00",null,"",null,"",null,"",null,"15:00:00",{"$nulls":4},"","","",""]
["16:00:00",null,"",null,"",null,"",null,"16:00:00",{"$nulls":4},"","","",""]
["17:00:00",null,"",null,"",null,"",null,"17:00:00",{"$nulls":4},"","","",""]
["18:00:00",null,"",null,"",null,"",null,"18:00:00",null,"Legend",null,null,"","","",""]
["19:00:00",null,"",null,"",null,"",null,"19:00:00",null,"BB","Before Breakfast",null,"","","",""]
["20:00:00",null,"",null,"",null,"",null,"20:00:00",null,"AB","After Breakfast",null,"","","",""]
["21:00:00",null,"",null,"",null,"",null,"21:00:00",null,"BL","Before Lunch",null,"","","",""]
["22:00:00",null,"",null,"",null,"",null,"22:00:00",null,"AL","After Lunch",null,"","","",""]
["23:00:00",null,"",null,"",null,"",null,"23:00:00",null,"BD","Before Dinner",null,"","","",""]
[1,null,"",null,"",null,"",null,"00:00:00",{"$nulls":4},"","","",""]

{"sheet":"10","index":10,"n_rows":34,"n_cols":66,"rows_kept":34,"merged":[[0,0,0,8],[1,0,1,8],[7,0,7,1],[7,2,7,3],[8,0,8,1],[8,2,8,3],[27,10,27,12],[29,11,29,12],[30,11,30,12],[31,11,31,12],[32,11,32,12]]}
[{"$f":"IF(info!$B$2=\"\", \"\", info!$B$2)","v":"Jesse Hutton"},{"$nulls":64},{"$f":"info!$B$3&\" \"&10&\", \"&info!$B$4","v":"November 10, 2014"}]
[{"$f":"IF(info!$B$3=\"\", \"\", $BN$1)","v":"November 10, 2014"}]
[null,"Sugar","Status","Sys","Status","Dia","Status","Pul"]
["Morn",{"$f":"IFERROR(SUM(B11:B21)/COUNTIF(B11:B21, \">0\"), \"\")","v":""},{"$f":"IF(B4=\"\",\"\",IF(B4<70,\"TOO LOW\",IF(B4<=80,\"LOW\",IF(B4<=120,\"Normal\",\"High\"))))","v":""},{"$f":"IFERROR(SUM(D11:D21)/COUNTIF(D11:D21, \">0\"), \"\")","v":""},{"$f":"IF(D4=\"\", \"\", IF(D4<120, \"Normal\", IF(D4<140, \"Prehyperten\", IF(D4<160, \"Stage 1 hyperten\", \"Stage 2 hyperten\"))))","v":""},{"$f":"IFERROR(SUM(F11:F21)/COUNTIF(F11:F21, \">0\"), \"\")","v":""},{"$f":"IF(F4=\"\", \"\", IF(F4<80, \"Normal\", IF(F4<89, \"Prehyperten\", IF(F4<99, \"Stage 1 hyperten\", \"Stage 2 hyperten\"))))","v":""},{"$f":"IFERROR(SUM(H11:H21)/COUNTIF(H11:H21, \">0\"), \"\")","v":""}]
["Noon",{"$f":"IFERROR(SUM(B22:B28)/COUNTIF(B22:B28, \">0\"), \"\")","v":""},{"$f":"IF(B5=\"\",\"\",IF(B5<70,\"TOO LOW\",IF(B5<=80,\"LOW\",IF(B5<=120,\"Normal\",\"High\"))))","v":""},{"$f":"IFERROR(SUM(D22:D28)/COUNTIF(D22:D28, \">0\"), \"\")","v":""},{"$f":"IF(D5=\"\", \"\", IF(D5<120, \"Normal\", IF(D5<140, \"Prehyperten\", IF(D5<160, \"Stage 1 hyperten\", \"Stage 2 hyperten\"))))","v":""},{"$f":"IFERROR(SUM(F22:F28)/COUNTIF(F22:F28, \">0\"), \"\")","v":""},{"$f":"IF(F5=\"\", \"\", IF(F5<80, \"Normal\", IF(F5<89, \"Prehyperten\", IF(F5<99, \"Stage 1 hyperten\", \"Stage 2 hyperten\"))))","v":""},{"$f":"IFERROR(SUM(H22:H28)/COUNTIF(H22:H28, \">0\"), \"\")","v":""}]
["Eve",{"$f":"IFERROR(SUM(B29:B34)/COUNTIF(B29:B34, \">0\"), \"\")","v":""},"",{"$f":"IFERROR(SUM(D29:D34)/COUNTIF(D29:D34, \">0\"), \"\")","v":""},{"$f":"IF(D6=\"\", \"\", IF(D6<120, \"Normal\", IF(D6<140, \"Prehyperten\", IF(D6<160, \"Stage 1 hyperten\", \"Stage 2 hyperten\"))))","v":""},{"$f":"IFERROR(SUM(F29:F34)/COUNTIF(F29:F34, \">0\"), \"\")","v":""},{"$f":"IF(F6=\"\", \"\", IF(F6<80, \"Normal\", IF(F6<89, \"Prehyperten\", IF(F6<99, \"Stage 1 hyperten\", \"Stage 2 hyperten\"))))","v":""},{"$f":"IFERROR(SUM(H29:H34)/COUNTIF(H29:H34, \">0\"), \"\")","v":""}]
["Daily",{"$f":"IFERROR(SUM(B11:B34)/COUNTIF(B11:B34, \">0\"), \"\")","v":""},"",{"$f":"IFERROR(SUM(D11:D34)/COUNTIF(D11:D34, \">0\"), \"\")","v":""},{"$f":"IF(D7=\"\", \"\", IF(D7<120, \"Normal\", IF(D7<140, \"Prehyperten\", IF(D7<160, \"Stage 1 hyperten\", \"Stage 2 hyperten\"))))","v":""},{"$f":"IFERROR(SUM(F11:F34)/COUNTIF(F11:F34, \">0\"), \"\")","v":""},{"$f":"IF(F7=\"\", \"\", IF(F7<80, \"Normal\", IF(F7<89, \"Prehyperten\", IF(F7<99, \"Stage 1 hyperten\", \"Stage 2 hyperten\"))))","v":""},{"$f":"IFERROR(SUM(H11:H34)/COUNTIF(H11:H34, \">0\"), \"\")","v":""}]
["Weight",{"$nulls":4},{"$f":"IFERROR(#REF!/#REF!, \"\")","v":""},null,{"$f":"IFERROR(#REF!/#REF!, \"\")","v":""}]
["Doc weight"]
["Time (MIL)","Sugar","Status","Sys","Sys status","Dia","Dia status","Pul","Time (CIV)"]
["01:00:00",null,{"$f":"IF(B11=\"\",\"\",IF(B11<70,\"TOO LOW\",IF(B11<=80,\"LOW\",IF(B11<=120,\"Normal\",\"High\"))))","v":""},null,{"$f":"IF(D11=\"\", \"\", IF(D11<120, \"Normal\", IF(D11<140, \"Prehyperten\", IF(D11<160, \"Stage 1 hyperten\", \"Stage 2 hyperten\"))))","v":""},null,{"$f":"IF(F11=\"\", \"\", IF(F11<80, \"Normal\", IF(F11<89, \"Prehyperten\", IF(F11<99, \"Stage 1 hyperten\", \"Stage 2 hyperten\"))))","v":""},null,"01:00:00",{"$nulls":4},{"$f":"IF(B11=\"\", \"\", B11)","v":""},{"$f":"IF(D11=\"\", \"\", D11)","v":""},{"$f":"IF(F11=\"\", \"\", F11)","v":""},{"$f":"IF(H11=\"\", \"\", H11)","v":""}]
["02:00:00",null,{"$f":"IF(B12=\"\",\"\",IF(B12<70,\"TOO LOW\",IF(B12<=80,\"LOW\",IF(B12<=120,\"Normal\",\"High\"))))","v":""},null,{"$f":"IF(D12=\"\", \"\", IF(D12<120, \"Normal\", IF(D12<140, \"Prehyperten\", IF(D12<160, \"Stage 1 hyperten\", \"Stage 2 hyperten\"))))","v":""},null,{"$f":"IF(F12=\"\", \"\", IF(F12<80, \"Normal\", IF(F12<89, \"Prehyperten\", IF(F12<99, \"Stage 1 hyperten\", \"Stage 2 hyperten\"))))","v":""},null,"02:00:00",{"$nulls":4},{"$f":"IF(B12=\"\", \"\", B12)","v":""},{"$f":"IF(D12=\"\", \"\", D12)","v":""},{"$f":"IF(F12=\"\", \"\", F12)","v":""},{"$f":"IF(H12=\"\", \"\", H12)","v":""}]
["03:00:00",null,"",null,"",null,"",null,"03:00:00",{"$nulls":4},"","","",""]
["04:00:00",null,"",null,"",null,"",null,"04:00:00",{"$nulls":4},"","","",""]
["05:00:00",null,"",null,"",null,"",null,"05:00:00",{"$nulls":4},"","","",""]
["06:00:00",null,"",null,"",null,"",null,"06:00:00",{"$nulls":4},"","","",""]
["07:00:00",null,"",null,"",null,"",null,"07:00:00",{"$nulls":4},"","","",""]
["08:00:00",null,"",null,"",null,"",null,"08:00:00",{"$nulls":4},"","","",""]
["09:00:00",null,"",null,"",null,"",null,"09:00:00",null,"Before Breakfast",null,null,"","","",""]
["10:00:00",null,"",null,"",null,"",null,"10:00:00",null,"After Breakfast",null,null,"","","",""]
["11:00:00",null,"",null,"",null,"",null,"11:00:00",null,"Before Lunch",null,null,"","","",""]
["12:00:00",null,"",null,"",null,"",null,"00:00:00",null,"After Lunch",null,null,"","","",""]
["13:00:00",null,"",null,"",null,"",null,"13:00:00",null,"Before Dinner",null,null,"","","",""]
["14:00:00",null,"",null,"",null,"",null,"14:00:00",null,"After Dinner",null,null,"","","",""]
["15:00:00",null,"",null,"",null,"",null,"15:00:00",{"$nulls":4},"","","",""]
["16:00:00",null,"",null,"",null,"",null,"16:00:00",{"$nulls":4},"","","",""]
["17:00:00",null,"",null,"",null,"",null,"17:00:00",{"$nulls":4},"","","",""]
["18:00:00",null,"",null,"",null,"",null,"18:00:00",null,"Legend",null,null,"","","",""]
["19:00:00",null,"",null,"",null,"",null,"19:00:00",null,"BB","Before Breakfast",null,"","","",""]
["20:00:00",null,"",null,"",null,"",null,"20:00:00",null,"AB","After Breakfast",null,"","","",""]
["21:00:00",null,"",null,"",null,"",null,"21:00:00",null,"BL","Before Lunch",null,"","","",""]
["22:00:00",null,"",null,"",null,"",null,"22:00:00",null,"AL","After Lunch",null,"","","",""]
["23:00:00",null,"",null,"",null,"",null,"23:00:00",null,"BD","Before Dinner",null,"","","",""]
[1,null,"",null,"",null,"",null,"00:00:00",{"$nulls":4},"","","",""]

{"sheet":"11","index":11,"n_rows":34,"n_cols":66,"rows_kept":34,"merged":[[0,0,0,8],[1,0,1,8],[7,0,7,1],[7,2,7,3],[8,0,8,1],[8,2,8,3],[27,10,27,12],[29,11,29,12],[30,11,30,12],[31,11,31,12],[32,11,32,12]]}
[{"$f":"IF(info!$B$2=\"\", \"\", info!$B$2)","v":"Jesse Hutton"},{"$nulls":64},{"$f":"info!$B$3&\" \"&11&\", \"&info!$B$4","v":"November 11, 2014"}]
[{"$f":"IF(info!$B$3=\"\", \"\", $BN$1)","v":"November 11, 2014"}]
[null,"Sugar","Status","Sys","Status","Dia","Status","Pul"]
["Morn",{"$f":"IFERROR(SUM(B11:B21)/COUNTIF(B11:B21, \">0\"), \"\")","v":""},{"$f":"IF(B4=\"\",\"\",IF(B4<70,\"TOO LOW\",IF(B4<=80,\"LOW\",IF(B4<=120,\"Normal\",\"High\"))))","v":""},{"$f":"IFERROR(SUM(D11:D21)/COUNTIF(D11:D21, \">0\"), \"\")","v":""},{"$f":"IF(D4=\"\", \"\", IF(D4<120, \"Normal\", IF(D4<140, \"Prehyperten\", IF(D4<160, \"Stage 1 hyperten\", \"Stage 2 hyperten\"))))","v":""},{"$f":"IFERROR(SUM(F11:F21)/COUNTIF(F11:F21, \">0\"), \"\")","v":""},{"$f":"IF(F4=\"\", \"\", IF(F4<80, \"Normal\", IF(F4<89, \"Prehyperten\", IF(F4<99, \"Stage 1 hyperten\", \"Stage 2 hyperten\"))))","v":""},{"$f":"IFERROR(SUM(H11:H21)/COUNTIF(H11:H21, \">0\"), \"\")","v":""}]
["Noon",{"$f":"IFERROR(SUM(B22:B28)/COUNTIF(B22:B28, \">0\"), \"\")","v":""},{"$f":"IF(B5=\"\",\"\",IF(B5<70,\"TOO LOW\",IF(B5<=80,\"LOW\",IF(B5<=120,\"Normal\",\"High\"))))","v":""},{"$f":"IFERROR(SUM(D22:D28)/COUNTIF(D22:D28, \">0\"), \"\")","v":""},{"$f":"IF(D5=\"\", \"\", IF(D5<120, \"Normal\", IF(D5<140, \"Prehyperten\", IF(D5<160, \"Stage 1 hyperten\", \"Stage 2 hyperten\"))))","v":""},{"$f":"IFERROR(SUM(F22:F28)/COUNTIF(F22:F28, \">0\"), \"\")","v":""},{"$f":"IF(F5=\"\", \"\", IF(F5<80, \"Normal\", IF(F5<89, \"Prehyperten\", IF(F5<99, \"Stage 1 hyperten\", \"Stage 2 hyperten\"))))","v":""},{"$f":"IFERROR(SUM(H22:H28)/COUNTIF(H22:H28, \">0\"), \"\")","v":""}]
["Eve",{"$f":"IFERROR(SUM(B29:B34)/COUNTIF(B29:B34, \">0\"), \"\")","v":""},"",{"$f":"IFERROR(SUM(D29:D34)/COUNTIF(D29:D34, \">0\"), \"\")","v":""},{"$f":"IF(D6=\"\", \"\", IF(D6<120, \"Normal\", IF(D6<140, \"Prehyperten\", IF(D6<160, \"Stage 1 hyperten\", \"Stage 2 hyperten\"))))","v":""},{"$f":"IFERROR(SUM(F29:F34)/COUNTIF(F29:F34, \">0\"), \"\")","v":""},{"$f":"IF(F6=\"\", \"\", IF(F6<80, \"Normal\", IF(F6<89, \"Prehyperten\", IF(F6<99, \"Stage 1 hyperten\", \"Stage 2 hyperten\"))))","v":""},{"$f":"IFERROR(SUM(H29:H34)/COUNTIF(H29:H34, \">0\"), \"\")","v":""}]
["Daily",{"$f":"IFERROR(SUM(B11:B34)/COUNTIF(B11:B34, \">0\"), \"\")","v":""},"",{"$f":"IFERROR(SUM(D11:D34)/COUNTIF(D11:D34, \">0\"), \"\")","v":""},{"$f":"IF(D7=\"\", \"\", IF(D7<120, \"Normal\", IF(D7<140, \"Prehyperten\", IF(D7<160, \"Stage 1 hyperten\", \"Stage 2 hyperten\"))))","v":""},{"$f":"IFERROR(SUM(F11:F34)/COUNTIF(F11:F34, \">0\"), \"\")","v":""},{"$f":"IF(F7=\"\", \"\", IF(F7<80, \"Normal\", IF(F7<89, \"Prehyperten\", IF(F7<99, \"Stage 1 hyperten\", \"Stage 2 hyperten\"))))","v":""},{"$f":"IFERROR(SUM(H11:H34)/COUNTIF(H11:H34, \">0\"), \"\")","v":""}]
["Weight",{"$nulls":4},{"$f":"IFERROR(#REF!/#REF!, \"\")","v":""},null,{"$f":"IFERROR(#REF!/#REF!, \"\")","v":""}]
["Doc weight"]
["Time (MIL)","Sugar","Status","Sys","Sys status","Dia","Dia status","Pul","Time (CIV)"]
["01:00:00",null,{"$f":"IF(B11=\"\",\"\",IF(B11<70,\"TOO LOW\",IF(B11<=80,\"LOW\",IF(B11<=120,\"Normal\",\"High\"))))","v":""},null,{"$f":"IF(D11=\"\", \"\", IF(D11<120, \"Normal\", IF(D11<140, \"Prehyperten\", IF(D11<160, \"Stage 1 hyperten\", \"Stage 2 hyperten\"))))","v":""},null,{"$f":"IF(F11=\"\", \"\", IF(F11<80, \"Normal\", IF(F11<89, \"Prehyperten\", IF(F11<99, \"Stage 1 hyperten\", \"Stage 2 hyperten\"))))","v":""},null,"01:00:00",{"$nulls":4},{"$f":"IF(B11=\"\", \"\", B11)","v":""},{"$f":"IF(D11=\"\", \"\", D11)","v":""},{"$f":"IF(F11=\"\", \"\", F11)","v":""},{"$f":"IF(H11=\"\", \"\", H11)","v":""}]
["02:00:00",null,{"$f":"IF(B12=\"\",\"\",IF(B12<70,\"TOO LOW\",IF(B12<=80,\"LOW\",IF(B12<=120,\"Normal\",\"High\"))))","v":""},null,{"$f":"IF(D12=\"\", \"\", IF(D12<120, \"Normal\", IF(D12<140, \"Prehyperten\", IF(D12<160, \"Stage 1 hyperten\", \"Stage 2 hyperten\"))))","v":""},null,{"$f":"IF(F12=\"\", \"\", IF(F12<80, \"Normal\", IF(F12<89, \"Prehyperten\", IF(F12<99, \"Stage 1 hyperten\", \"Stage 2 hyperten\"))))","v":""},null,"02:00:00",{"$nulls":4},{"$f":"IF(B12=\"\", \"\", B12)","v":""},{"$f":"IF(D12=\"\", \"\", D12)","v":""},{"$f":"IF(F12=\"\", \"\", F12)","v":""},{"$f":"IF(H12=\"\", \"\", H12)","v":""}]
["03:00:00",null,"",null,"",null,"",null,"03:00:00",{"$nulls":4},"","","",""]
["04:00:00",null,"",null,"",null,"",null,"04:00:00",{"$nulls":4},"","","",""]
["05:00:00",null,"",null,"",null,"",null,"05:00:00",{"$nulls":4},"","","",""]
["06:00:00",null,"",null,"",null,"",null,"06:00:00",{"$nulls":4},"","","",""]
["07:00:00",null,"",null,"",null,"",null,"07:00:00",{"$nulls":4},"","","",""]
["08:00:00",null,"",null,"",null,"",null,"08:00:00",{"$nulls":4},"","","",""]
["09:00:00",null,"",null,"",null,"",null,"09:00:00",null,"Before Breakfast",null,null,"","","",""]
["10:00:00",null,"",null,"",null,"",null,"10:00:00",null,"After Breakfast",null,null,"","","",""]
["11:00:00",null,"",null,"",null,"",null,"11:00:00",null,"Before Lunch",null,null,"","","",""]
["12:00:00",null,"",null,"",null,"",null,"00:00:00",null,"After Lunch",null,null,"","","",""]
["13:00:00",null,"",null,"",null,"",null,"13:00:00",null,"Before Dinner",null,null,"","","",""]
["14:00:00",null,"",null,"",null,"",null,"14:00:00",null,"After Dinner",null,null,"","","",""]
["15:00:00",null,"",null,"",null,"",null,"15:00:00",{"$nulls":4},"","","",""]
["16:00:00",null,"",null,"",null,"",null,"16:00:00",{"$nulls":4},"","","",""]
["17:00:00",null,"",null,"",null,"",null,"17:00:00",{"$nulls":4},"","","",""]
["18:00:00",null,"",null,"",null,"",null,"18:00:00",null,"Legend",null,null,"","","",""]
["19:00:00",null,"",null,"",null,"",null,"19:00:00",null,"BB","Before Breakfast",null,"","","",""]
["20:00:00",null,"",null,"",null,"",null,"20:00:00",null,"AB","After Breakfast",null,"","","",""]
["21:00:00",null,"",null,"",null,"",null,"21:00:00",null,"BL","Before Lunch",null,"","","",""]
["22:00:00",null,"",null,"",null,"",null,"22:00:00",null,"AL","After Lunch",null,"","","",""]
["23:00:00",null,"",null,"",null,"",null,"23:00:00",null,"BD","Before Dinner",null,"","","",""]
[1,null,"",null,"",null,"",null,"00:00:00",{"$nulls":4},"","","",""]

{"sheet":"12","index":12,"n_rows":34,"n_cols":66,"rows_kept":34,"merged":[[0,0,0,8],[1,0,1,8],[7,0,7,1],[7,2,7,3],[8,0,8,1],[8,2,8,3],[27,10,27,12],[29,11,29,12],[30,11,30,12],[31,11,31,12],[32,11,32,12]]}
[{"$f":"IF(info!$B$2=\"\", \"\", info!$B$2)","v":"Jesse Hutton"},{"$nulls":64},{"$f":"info!$B$3&\" \"&12&\", \"&info!$B$4","v":"November 12, 2014"}]
[{"$f":"IF(info!$B$3=\"\", \"\", $BN$1)","v":"November 12, 2014"}]
[null,"Sugar","Status","Sys","Status","Dia","Status","Pul"]
["Morn",{"$f":"IFERROR(SUM(B11:B21)/COUNTIF(B11:B21, \">0\"), \"\")","v":""},{"$f":"IF(B4=\"\",\"\",IF(B4<70,\"TOO LOW\",IF(B4<=80,\"LOW\",IF(B4<=120,\"Normal\",\"High\"))))","v":""},{"$f":"IFERROR(SUM(D11:D21)/COUNTIF(D11:D21, \">0\"), \"\")","v":""},{"$f":"IF(D4=\"\", \"\", IF(D4<120, \"Normal\", IF(D4<140, \"Prehyperten\", IF(D4<160, \"Stage 1 hyperten\", \"Stage 2 hyperten\"))))","v":""},{"$f":"IFERROR(SUM(F11:F21)/COUNTIF(F11:F21, \">0\"), \"\")","v":""},{"$f":"IF(F4=\"\", \"\", IF(F4<80, \"Normal\", IF(F4<89, \"Prehyperten\", IF(F4<99, \"Stage 1 hyperten\", \"Stage 2 hyperten\"))))","v":""},{"$f":"IFERROR(SUM(H11:H21)/COUNTIF(H11:H21, \">0\"), \"\")","v":""}]
["Noon",{"$f":"IFERROR(SUM(B22:B28)/COUNTIF(B22:B28, \">0\"), \"\")","v":""},{"$f":"IF(B5=\"\",\"\",IF(B5<70,\"TOO LOW\",IF(B5<=80,\"LOW\",IF(B5<=120,\"Normal\",\"High\"))))","v":""},{"$f":"IFERROR(SUM(D22:D28)/COUNTIF(D22:D28, \">0\"), \"\")","v":""},{"$f":"IF(D5=\"\", \"\", IF(D5<120, \"Normal\", IF(D5<140, \"Prehyperten\", IF(D5<160, \"Stage 1 hyperten\", \"Stage 2 hyperten\"))))","v":""},{"$f":"IFERROR(SUM(F22:F28)/COUNTIF(F22:F28, \">0\"), \"\")","v":""},{"$f":"IF(F5=\"\", \"\", IF(F5<80, \"Normal\", IF(F5<89, \"Prehyperten\", IF(F5<99, \"Stage 1 hyperten\", \"Stage 2 hyperten\"))))","v":""},{"$f":"IFERROR(SUM(H22:H28)/COUNTIF(H22:H28, \">0\"), \"\")","v":""}]
["Eve",{"$f":"IFERROR(SUM(B29:B34)/COUNTIF(B29:B34, \">0\"), \"\")","v":""},"",{"$f":"IFERROR(SUM(D29:D34)/COUNTIF(D29:D34, \">0\"), \"\")","v":""},{"$f":"IF(D6=\"\", \"\", IF(D6<120, \"Normal\", IF(D6<140, \"Prehyperten\", IF(D6<160, \"Stage 1 hyperten\", \"Stage 2 hyperten\"))))","v":""},{"$f":"IFERROR(SUM(F29:F34)/COUNTIF(F29:F34, \">0\"), \"\")","v":""},{"$f":"IF(F6=\"\", \"\", IF(F6<80, \"Normal\", IF(F6<89, \"Prehyperten\", IF(F6<99, \"Stage 1 hyperten\", \"Stage 2 hyperten\"))))","v":""},{"$f":"IFERROR(SUM(H29:H34)/COUNTIF(H29:H34, \">0\"), \"\")","v":""}]
["Daily",{"$f":"IFERROR(SUM(B11:B34)/COUNTIF(B11:B34, \">0\"), \"\")","v":""},"",{"$f":"IFERROR(SUM(D11:D34)/COUNTIF(D11:D34, \">0\"), \"\")","v":""},{"$f":"IF(D7=\"\", \"\", IF(D7<120, \"Normal\", IF(D7<140, \"Prehyperten\", IF(D7<160, \"Stage 1 hyperten\", \"Stage 2 hyperten\"))))","v":""},{"$f":"IFERROR(SUM(F11:F34)/COUNTIF(F11:F34, \">0\"), \"\")","v":""},{"$f":"IF(F7=\"\", \"\", IF(F7<80, \"Normal\", IF(F7<89, \"Prehyperten\", IF(F7<99, \"Stage 1 hyperten\", \"Stage 2 hyperten\"))))","v":""},{"$f":"IFERROR(SUM(H11:H34)/COUNTIF(H11:H34, \">0\"), \"\")","v":""}]
["Weight",{"$nulls":4},{"$f":"IFERROR(#REF!/#REF!, \"\")","v":""},null,{"$f":"IFERROR(#REF!/#REF!, \"\")","v":""}]
["Doc weight"]
["Time (MIL)","Sugar","Status","Sys","Sys status","Dia","Dia status","Pul","Time (CIV)"]
["01:00:00",null,{"$f":"IF(B11=\"\",\"\",IF(B11<70,\"TOO LOW\",IF(B11<=80,\"LOW\",IF(B11<=120,\"Normal\",\"High\"))))","v":""},null,{"$f":"IF(D11=\"\", \"\", IF(D11<120, \"Normal\", IF(D11<140, \"Prehyperten\", IF(D11<160, \"Stage 1 hyperten\", \"Stage 2 hyperten\"))))","v":""},null,{"$f":"IF(F11=\"\", \"\", IF(F11<80, \"Normal\", IF(F11<89, \"Prehyperten\", IF(F11<99, \"Stage 1 hyperten\", \"Stage 2 hyperten\"))))","v":""},null,"01:00:00",{"$nulls":4},{"$f":"IF(B11=\"\", \"\", B11)","v":""},{"$f":"IF(D11=\"\", \"\", D11)","v":""},{"$f":"IF(F11=\"\", \"\", F11)","v":""},{"$f":"IF(H11=\"\", \"\", H11)","v":""}]
["02:00:00",null,{"$f":"IF(B12=\"\",\"\",IF(B12<70,\"TOO LOW\",IF(B12<=80,\"LOW\",IF(B12<=120,\"Normal\",\"High\"))))","v":""},null,{"$f":"IF(D12=\"\", \"\", IF(D12<120, \"Normal\", IF(D12<140, \"Prehyperten\", IF(D12<160, \"Stage 1 hyperten\", \"Stage 2 hyperten\"))))","v":""},null,{"$f":"IF(F12=\"\", \"\", IF(F12<80, \"Normal\", IF(F12<89, \"Prehyperten\", IF(F12<99, \"Stage 1 hyperten\", \"Stage 2 hyperten\"))))","v":""},null,"02:00:00",{"$nulls":4},{"$f":"IF(B12=\"\", \"\", B12)","v":""},{"$f":"IF(D12=\"\", \"\", D12)","v":""},{"$f":"IF(F12=\"\", \"\", F12)","v":""},{"$f":"IF(H12=\"\", \"\", H12)","v":""}]
["03:00:00",null,"",null,"",null,"",null,"03:00:00",{"$nulls":4},"","","",""]
["04:00:00",null,"",null,"",null,"",null,"04:00:00",{"$nulls":4},"","","",""]
["05:00:00",null,"",null,"",null,"",null,"05:00:00",{"$nulls":4},"","","",""]
["06:00:00",null,"",null,"",null,"",null,"06:00:00",{"$nulls":4},"","","",""]
["07:00:00",null,"",null,"",null,"",null,"07:00:00",{"$nulls":4},"","","",""]
["08:00:00",null,"",null,"",null,"",null,"08:00:00",{"$nulls":4},"","","",""]
["09:00:00",null,"",null,"",null,"",null,"09:00:00",null,"Before Breakfast",null,null,"","","",""]
["10:00:00",null,"",null,"",null,"",null,"10:00:00",null,"After Breakfast",null,null,"","","",""]
["11:00:00",null,"",null,"",null,"",null,"11:00:00",null,"Before Lunch",null,null,"","","",""]
["12:00:00",null,"",null,"",null,"",null,"00:00:00",null,"After Lunch",null,null,"","","",""]
["13:00:00",null,"",null,"",null,"",null,"13:00:00",null,"Before Dinner",null,null,"","","",""]
["14:00:00",null,"",null,"",null,"",null,"14:00:00",null,"After Dinner",null,null,"","","",""]
["15:00:00",null,"",null,"",null,"",null,"15:00:00",{"$nulls":4},"","","",""]
["16:00:00",null,"",null,"",null,"",null,"16:00:00",{"$nulls":4},"","","",""]
["17:00:00",null,"",null,"",null,"",null,"17:00:00",{"$nulls":4},"","","",""]
["18:00:00",null,"",null,"",null,"",null,"18:00:00",null,"Legend",null,null,"","","",""]
["19:00:00",null,"",null,"",null,"",null,"19:00:00",null,"BB","Before Breakfast",null,"","","",""]
["20:00:00",null,"",null,"",null,"",null,"20:00:00",null,"AB","After Breakfast",null,"","","",""]
["21:00:00",null,"",null,"",null,"",null,"21:00:00",null,"BL","Before Lunch",null,"","","",""]
["22:00:00",null,"",null,"",null,"",null,"22:00:00",null,"AL","After Lunch",null,"","","",""]
["23:00:00",null,"",null,"",null,"",null,"23:00:00",null,"BD","Before Dinner",null,"","","",""]
[1,null,"",null,"",null,"",null,"00:00:00",{"$nulls":4},"","","",""]

{"sheet":"13","index":13,"n_rows":34,"n_cols":66,"rows_kept":34,"merged":[[0,0,0,8],[1,0,1,8],[7,0,7,1],[7,2,7,3],[8,0,8,1],[8,2,8,3],[27,10,27,12],[29,11,29,12],[30,11,30,12],[31,11,31,12],[32,11,32,12]]}
[{"$f":"IF(info!$B$2=\"\", \"\", info!$B$2)","v":"Jesse Hutton"},{"$nulls":64},{"$f":"info!$B$3&\" \"&13&\", \"&info!$B$4","v":"November 13, 2014"}]
[{"$f":"IF(info!$B$3=\"\", \"\", $BN$1)","v":"November 13, 2014"}]
[null,"Sugar","Status","Sys","Status","Dia","Status","Pul"]
["Morn",{"$f":"IFERROR(SUM(B11:B21)/COUNTIF(B11:B21, \">0\"), \"\")","v":""},{"$f":"IF(B4=\"\",\"\",IF(B4<70,\"TOO LOW\",IF(B4<=80,\"LOW\",IF(B4<=120,\"Normal\",\"High\"))))","v":""},{"$f":"IFERROR(SUM(D11:D21)/COUNTIF(D11:D21, \">0\"), \"\")","v":""},{"$f":"IF(D4=\"\", \"\", IF(D4<120, \"Normal\", IF(D4<140, \"Prehyperten\", IF(D4<160, \"Stage 1 hyperten\", \"Stage 2 hyperten\"))))","v":""},{"$f":"IFERROR(SUM(F11:F21)/COUNTIF(F11:F21, \">0\"), \"\")","v":""},{"$f":"IF(F4=\"\", \"\", IF(F4<80, \"Normal\", IF(F4<89, \"Prehyperten\", IF(F4<99, \"Stage 1 hyperten\", \"Stage 2 hyperten\"))))","v":""},{"$f":"IFERROR(SUM(H11:H21)/COUNTIF(H11:H21, \">0\"), \"\")","v":""}]
["Noon",{"$f":"IFERROR(SUM(B22:B28)/COUNTIF(B22:B28, \">0\"), \"\")","v":""},{"$f":"IF(B5=\"\",\"\",IF(B5<70,\"TOO LOW\",IF(B5<=80,\"LOW\",IF(B5<=120,\"Normal\",\"High\"))))","v":""},{"$f":"IFERROR(SUM(D22:D28)/COUNTIF(D22:D28, \">0\"), \"\")","v":""},{"$f":"IF(D5=\"\", \"\", IF(D5<120, \"Normal\", IF(D5<140, \"Prehyperten\", IF(D5<160, \"Stage 1 hyperten\", \"Stage 2 hyperten\"))))","v":""},{"$f":"IFERROR(SUM(F22:F28)/COUNTIF(F22:F28, \">0\"), \"\")","v":""},{"$f":"IF(F5=\"\", \"\", IF(F5<80, \"Normal\", IF(F5<89, \"Prehyperten\", IF(F5<99, \"Stage 1 hyperten\", \"Stage 2 hyperten\"))))","v":""},{"$f":"IFERROR(SUM(H22:H28)/COUNTIF(H22:H28, \">0\"), \"\")","v":""}]
["Eve",{"$f":"IFERROR(SUM(B29:B34)/COUNTIF(B29:B34, \">0\"), \"\")","v":""},"",{"$f":"IFERROR(SUM(D29:D34)/COUNTIF(D29:D34, \">0\"), \"\")","v":""},{"$f":"IF(D6=\"\", \"\", IF(D6<120, \"Normal\", IF(D6<140, \"Prehyperten\", IF(D6<160, \"Stage 1 hyperten\", \"Stage 2 hyperten\"))))","v":""},{"$f":"IFERROR(SUM(F29:F34)/COUNTIF(F29:F34, \">0\"), \"\")","v":""},{"$f":"IF(F6=\"\", \"\", IF(F6<80, \"Normal\", IF(F6<89, \"Prehyperten\", IF(F6<99, \"Stage 1 hyperten\", \"Stage 2 hyperten\"))))","v":""},{"$f":"IFERROR(SUM(H29:H34)/COUNTIF(H29:H34, \">0\"), \"\")","v":""}]
["Daily",{"$f":"IFERROR(SUM(B11:B34)/COUNTIF(B11:B34, \">0\"), \"\")","v":""},"",{"$f":"IFERROR(SUM(D11:D34)/COUNTIF(D11:D34, \">0\"), \"\")","v":""},{"$f":"IF(D7=\"\", \"\", IF(D7<120, \"Normal\", IF(D7<140, \"Prehyperten\", IF(D7<160, \"Stage 1 hyperten\", \"Stage 2 hyperten\"))))","v":""},{"$f":"IFERROR(SUM(F11:F34)/COUNTIF(F11:F34, \">0\"), \"\")","v":""},{"$f":"IF(F7=\"\", \"\", IF(F7<80, \"Normal\", IF(F7<89, \"Prehyperten\", IF(F7<99, \"Stage 1 hyperten\", \"Stage 2 hyperten\"))))","v":""},{"$f":"IFERROR(SUM(H11:H34)/COUNTIF(H11:H34, \">0\"), \"\")","v":""}]
["Weight",{"$nulls":4},{"$f":"IFERROR(#REF!/#REF!, \"\")","v":""},null,{"$f":"IFERROR(#REF!/#REF!, \"\")","v":""}]
["Doc weight"]
["Time (MIL)","Sugar","Status","Sys","Sys status","Dia","Dia status","Pul","Time (CIV)"]
["01:00:00",null,{"$f":"IF(B11=\"\",\"\",IF(B11<70,\"TOO LOW\",IF(B11<=80,\"LOW\",IF(B11<=120,\"Normal\",\"High\"))))","v":""},null,{"$f":"IF(D11=\"\", \"\", IF(D11<120, \"Normal\", IF(D11<140, \"Prehyperten\", IF(D11<160, \"Stage 1 hyperten\", \"Stage 2 hyperten\"))))","v":""},null,{"$f":"IF(F11=\"\", \"\", IF(F11<80, \"Normal\", IF(F11<89, \"Prehyperten\", IF(F11<99, \"Stage 1 hyperten\", \"Stage 2 hyperten\"))))","v":""},null,"01:00:00",{"$nulls":4},{"$f":"IF(B11=\"\", \"\", B11)","v":""},{"$f":"IF(D11=\"\", \"\", D11)","v":""},{"$f":"IF(F11=\"\", \"\", F11)","v":""},{"$f":"IF(H11=\"\", \"\", H11)","v":""}]
["02:00:00",null,{"$f":"IF(B12=\"\",\"\",IF(B12<70,\"TOO LOW\",IF(B12<=80,\"LOW\",IF(B12<=120,\"Normal\",\"High\"))))","v":""},null,{"$f":"IF(D12=\"\", \"\", IF(D12<120, \"Normal\", IF(D12<140, \"Prehyperten\", IF(D12<160, \"Stage 1 hyperten\", \"Stage 2 hyperten\"))))","v":""},null,{"$f":"IF(F12=\"\", \"\", IF(F12<80, \"Normal\", IF(F12<89, \"Prehyperten\", IF(F12<99, \"Stage 1 hyperten\", \"Stage 2 hyperten\"))))","v":""},null,"02:00:00",{"$nulls":4},{"$f":"IF(B12=\"\", \"\", B12)","v":""},{"$f":"IF(D12=\"\", \"\", D12)","v":""},{"$f":"IF(F12=\"\", \"\", F12)","v":""},{"$f":"IF(H12=\"\", \"\", H12)","v":""}]
["03:00:00",null,"",null,"",null,"",null,"03:00:00",{"$nulls":4},"","","",""]
["04:00:00",null,"",null,"",null,"",null,"04:00:00",{"$nulls":4},"","","",""]
["05:00:00",null,"",null,"",null,"",null,"05:00:00",{"$nulls":4},"","","",""]
["06:00:00",null,"",null,"",null,"",null,"06:00:00",{"$nulls":4},"","","",""]
["07:00:00",null,"",null,"",null,"",null,"07:00:00",{"$nulls":4},"","","",""]
["08:00:00",null,"",null,"",null,"",null,"08:00:00",{"$nulls":4},"","","",""]
["09:00:00",null,"",null,"",null,"",null,"09:00:00",null,"Before Breakfast",null,null,"","","",""]
["10:00:00",null,"",null,"",null,"",null,"10:00:00",null,"After Breakfast",null,null,"","","",""]
["11:00:00",null,"",null,"",null,"",null,"11:00:00",null,"Before Lunch",null,null,"","","",""]
["12:00:00",null,"",null,"",null,"",null,"00:00:00",null,"After Lunch",null,null,"","","",""]
["13:00:00",null,"",null,"",null,"",null,"13:00:00",null,"Before Dinner",null,null,"","","",""]
["14:00:00",null,"",null,"",null,"",null,"14:00:00",null,"After Dinner",null,null,"","","",""]
["15:00:00",null,"",null,"",null,"",null,"15:00:00",{"$nulls":4},"","","",""]
["16:00:00",null,"",null,"",null,"",null,"16:00:00",{"$nulls":4},"","","",""]
["17:00:00",null,"",null,"",null,"",null,"17:00:00",{"$nulls":4},"","","",""]
["18:00:00",null,"",null,"",null,"",null,"18:00:00",null,"Legend",null,null,"","","",""]
["19:00:00",null,"",null,"",null,"",null,"19:00:00",null,"BB","Before Breakfast",null,"","","",""]
["20:00:00",null,"",null,"",null,"",null,"20:00:00",null,"AB","After Breakfast",null,"","","",""]
["21:00:00",null,"",null,"",null,"",null,"21:00:00",null,"BL","Before Lunch",null,"","","",""]
["22:00:00",null,"",null,"",null,"",null,"22:00:00",null,"AL","After Lunch",null,"","","",""]
["23:00:00",null,"",null,"",null,"",null,"23:00:00",null,"BD","Before Dinner",null,"","","",""]
[1,null,"",null,"",null,"",null,"00:00:00",{"$nulls":4},"","","",""]

{"sheet":"14","index":14,"n_rows":34,"n_cols":66,"rows_kept":34,"merged":[[0,0,0,8],[1,0,1,8],[7,0,7,1],[7,2,7,3],[8,0,8,1],[8,2,8,3],[27,10,27,12],[29,11,29,12],[30,11,30,12],[31,11,31,12],[32,11,32,12]]}
[{"$f":"IF(info!$B$2=\"\", \"\", info!$B$2)","v":"Jesse Hutton"},{"$nulls":64},{"$f":"info!$B$3&\" \"&14&\", \"&info!$B$4","v":"November 14, 2014"}]
[{"$f":"IF(info!$B$3=\"\", \"\", $BN$1)","v":"November 14, 2014"}]
[null,"Sugar","Status","Sys","Status","Dia","Status","Pul"]
["Morn",{"$f":"IFERROR(SUM(B11:B21)/COUNTIF(B11:B21, \">0\"), \"\")","v":""},{"$f":"IF(B4=\"\",\"\",IF(B4<70,\"TOO LOW\",IF(B4<=80,\"LOW\",IF(B4<=120,\"Normal\",\"High\"))))","v":""},{"$f":"IFERROR(SUM(D11:D21)/COUNTIF(D11:D21, \">0\"), \"\")","v":""},{"$f":"IF(D4=\"\", \"\", IF(D4<120, \"Normal\", IF(D4<140, \"Prehyperten\", IF(D4<160, \"Stage 1 hyperten\", \"Stage 2 hyperten\"))))","v":""},{"$f":"IFERROR(SUM(F11:F21)/COUNTIF(F11:F21, \">0\"), \"\")","v":""},{"$f":"IF(F4=\"\", \"\", IF(F4<80, \"Normal\", IF(F4<89, \"Prehyperten\", IF(F4<99, \"Stage 1 hyperten\", \"Stage 2 hyperten\"))))","v":""},{"$f":"IFERROR(SUM(H11:H21)/COUNTIF(H11:H21, \">0\"), \"\")","v":""}]
["Noon",{"$f":"IFERROR(SUM(B22:B28)/COUNTIF(B22:B28, \">0\"), \"\")","v":""},{"$f":"IF(B5=\"\",\"\",IF(B5<70,\"TOO LOW\",IF(B5<=80,\"LOW\",IF(B5<=120,\"Normal\",\"High\"))))","v":""},{"$f":"IFERROR(SUM(D22:D28)/COUNTIF(D22:D28, \">0\"), \"\")","v":""},{"$f":"IF(D5=\"\", \"\", IF(D5<120, \"Normal\", IF(D5<140, \"Prehyperten\", IF(D5<160, \"Stage 1 hyperten\", \"Stage 2 hyperten\"))))","v":""},{"$f":"IFERROR(SUM(F22:F28)/COUNTIF(F22:F28, \">0\"), \"\")","v":""},{"$f":"IF(F5=\"\", \"\", IF(F5<80, \"Normal\", IF(F5<89, \"Prehyperten\", IF(F5<99, \"Stage 1 hyperten\", \"Stage 2 hyperten\"))))","v":""},{"$f":"IFERROR(SUM(H22:H28)/COUNTIF(H22:H28, \">0\"), \"\")","v":""}]
["Eve",{"$f":"IFERROR(SUM(B29:B34)/COUNTIF(B29:B34, \">0\"), \"\")","v":""},"",{"$f":"IFERROR(SUM(D29:D34)/COUNTIF(D29:D34, \">0\"), \"\")","v":""},{"$f":"IF(D6=\"\", \"\", IF(D6<120, \"Normal\", IF(D6<140, \"Prehyperten\", IF(D6<160, \"Stage 1 hyperten\", \"Stage 2 hyperten\"))))","v":""},{"$f":"IFERROR(SUM(F29:F34)/COUNTIF(F29:F34, \">0\"), \"\")","v":""},{"$f":"IF(F6=\"\", \"\", IF(F6<80, \"Normal\", IF(F6<89, \"Prehyperten\", IF(F6<99, \"Stage 1 hyperten\", \"Stage 2 hyperten\"))))","v":""},{"$f":"IFERROR(SUM(H29:H34)/COUNTIF(H29:H34, \">0\"), \"\")","v":""}]
["Daily",{"$f":"IFERROR(SUM(B11:B34)/COUNTIF(B11:B34, \">0\"), \"\")","v":""},"",{"$f":"IFERROR(SUM(D11:D34)/COUNTIF(D11:D34, \">0\"), \"\")","v":""},{"$f":"IF(D7=\"\", \"\", IF(D7<120, \"Normal\", IF(D7<140, \"Prehyperten\", IF(D7<160, \"Stage 1 hyperten\", \"Stage 2 hyperten\"))))","v":""},{"$f":"IFERROR(SUM(F11:F34)/COUNTIF(F11:F34, \">0\"), \"\")","v":""},{"$f":"IF(F7=\"\", \"\", IF(F7<80, \"Normal\", IF(F7<89, \"Prehyperten\", IF(F7<99, \"Stage 1 hyperten\", \"Stage 2 hyperten\"))))","v":""},{"$f":"IFERROR(SUM(H11:H34)/COUNTIF(H11:H34, \">0\"), \"\")","v":""}]
["Weight",{"$nulls":4},{"$f":"IFERROR(#REF!/#REF!, \"\")","v":""},null,{"$f":"IFERROR(#REF!/#REF!, \"\")","v":""}]
["Doc weight"]
["Time (MIL)","Sugar","Status","Sys","Sys status","Dia","Dia status","Pul","Time (CIV)"]
["01:00:00",null,{"$f":"IF(B11=\"\",\"\",IF(B11<70,\"TOO LOW\",IF(B11<=80,\"LOW\",IF(B11<=120,\"Normal\",\"High\"))))","v":""},null,{"$f":"IF(D11=\"\", \"\", IF(D11<120, \"Normal\", IF(D11<140, \"Prehyperten\", IF(D11<160, \"Stage 1 hyperten\", \"Stage 2 hyperten\"))))","v":""},null,{"$f":"IF(F11=\"\", \"\", IF(F11<80, \"Normal\", IF(F11<89, \"Prehyperten\", IF(F11<99, \"Stage 1 hyperten\", \"Stage 2 hyperten\"))))","v":""},null,"01:00:00",{"$nulls":4},{"$f":"IF(B11=\"\", \"\", B11)","v":""},{"$f":"IF(D11=\"\", \"\", D11)","v":""},{"$f":"IF(F11=\"\", \"\", F11)","v":""},{"$f":"IF(H11=\"\", \"\", H11)","v":""}]
["02:00:00",null,{"$f":"IF(B12=\"\",\"\",IF(B12<70,\"TOO LOW\",IF(B12<=80,\"LOW\",IF(B12<=120,\"Normal\",\"High\"))))","v":""},null,{"$f":"IF(D12=\"\", \"\", IF(D12<120, \"Normal\", IF(D12<140, \"Prehyperten\", IF(D12<160, \"Stage 1 hyperten\", \"Stage 2 hyperten\"))))","v":""},null,{"$f":"IF(F12=\"\", \"\", IF(F12<80, \"Normal\", IF(F12<89, \"Prehyperten\", IF(F12<99, \"Stage 1 hyperten\", \"Stage 2 hyperten\"))))","v":""},null,"02:00:00",{"$nulls":4},{"$f":"IF(B12=\"\", \"\", B12)","v":""},{"$f":"IF(D12=\"\", \"\", D12)","v":""},{"$f":"IF(F12=\"\", \"\", F12)","v":""},{"$f":"IF(H12=\"\", \"\", H12)","v":""}]
["03:00:00",null,"",null,"",null,"",null,"03:00:00",{"$nulls":4},"","","",""]
["04:00:00",null,"",null,"",null,"",null,"04:00:00",{"$nulls":4},"","","",""]
["05:00:00",null,"",null,"",null,"",null,"05:00:00",{"$nulls":4},"","","",""]
["06:00:00",null,"",null,"",null,"",null,"06:00:00",{"$nulls":4},"","","",""]
["07:00:00",null,"",null,"",null,"",null,"07:00:00",{"$nulls":4},"","","",""]
["08:00:00",null,"",null,"",null,"",null,"08:00:00",{"$nulls":4},"","","",""]
["09:00:00",null,"",null,"",null,"",null,"09:00:00",null,"Before Breakfast",null,null,"","","",""]
["10:00:00",null,"",null,"",null,"",null,"10:00:00",null,"After Breakfast",null,null,"","","",""]
["11:00:00",null,"",null,"",null,"",null,"11:00:00",null,"Before Lunch",null,null,"","","",""]
["12:00:00",null,"",null,"",null,"",null,"00:00:00",null,"After Lunch",null,null,"","","",""]
["13:00:00",null,"",null,"",null,"",null,"13:00:00",null,"Before Dinner",null,null,"","","",""]
["14:00:00",null,"",null,"",null,"",null,"14:00:00",null,"After Dinner",null,null,"","","",""]
["15:00:00",null,"",null,"",null,"",null,"15:00:00",{"$nulls":4},"","","",""]
["16:00:00",null,"",null,"",null,"",null,"16:00:00",{"$nulls":4},"","","",""]
["17:00:00",null,"",null,"",null,"",null,"17:00:00",{"$nulls":4},"","","",""]
["18:00:00",null,"",null,"",null,"",null,"18:00:00",null,"Legend",null,null,"","","",""]
["19:00:00",null,"",null,"",null,"",null,"19:00:00",null,"BB","Before Breakfast",null,"","","",""]
["20:00:00",null,"",null,"",null,"",null,"20:00:00",null,"AB","After Breakfast",null,"","","",""]
["21:00:00",null,"",null,"",null,"",null,"21:00:00",null,"BL","Before Lunch",null,"","","",""]
["22:00:00",null,"",null,"",null,"",null,"22:00:00",null,"AL","After Lunch",null,"","","",""]
["23:00:00",null,"",null,"",null,"",null,"23:00:00",null,"BD","Before Dinner",null,"","","",""]
[1,null,"",null,"",null,"",null,"00:00:00",{"$nulls":4},"","","",""]

{"sheet":"15","index":15,"n_rows":34,"n_cols":66,"rows_kept":34,"merged":[[0,0,0,8],[1,0,1,8],[7,0,7,1],[7,2,7,3],[8,0,8,1],[8,2,8,3],[27,10,27,12],[29,11,29,12],[30,11,30,12],[31,11,31,12],[32,11,32,12]]}
[{"$f":"IF(info!$B$2=\"\", \"\", info!$B$2)","v":"Jesse Hutton"},{"$nulls":64},{"$f":"info!$B$3&\" \"&15&\", \"&info!$B$4","v":"November 15, 2014"}]
[{"$f":"IF(info!$B$3=\"\", \"\", $BN$1)","v":"November 15, 2014"}]
[null,"Sugar","Status","Sys","Status","Dia","Status","Pul"]
["Morn",{"$f":"IFERROR(SUM(B11:B21)/COUNTIF(B11:B21, \">0\"), \"\")","v":""},{"$f":"IF(B4=\"\",\"\",IF(B4<70,\"TOO LOW\",IF(B4<=80,\"LOW\",IF(B4<=120,\"Normal\",\"High\"))))","v":""},{"$f":"IFERROR(SUM(D11:D21)/COUNTIF(D11:D21, \">0\"), \"\")","v":""},{"$f":"IF(D4=\"\", \"\", IF(D4<120, \"Normal\", IF(D4<140, \"Prehyperten\", IF(D4<160, \"Stage 1 hyperten\", \"Stage 2 hyperten\"))))","v":""},{"$f":"IFERROR(SUM(F11:F21)/COUNTIF(F11:F21, \">0\"), \"\")","v":""},{"$f":"IF(F4=\"\", \"\", IF(F4<80, \"Normal\", IF(F4<89, \"Prehyperten\", IF(F4<99, \"Stage 1 hyperten\", \"Stage 2 hyperten\"))))","v":""},{"$f":"IFERROR(SUM(H11:H21)/COUNTIF(H11:H21, \">0\"), \"\")","v":""}]
["Noon",{"$f":"IFERROR(SUM(B22:B28)/COUNTIF(B22:B28, \">0\"), \"\")","v":""},{"$f":"IF(B5=\"\",\"\",IF(B5<70,\"TOO LOW\",IF(B5<=80,\"LOW\",IF(B5<=120,\"Normal\",\"High\"))))","v":""},{"$f":"IFERROR(SUM(D22:D28)/COUNTIF(D22:D28, \">0\"), \"\")","v":""},{"$f":"IF(D5=\"\", \"\", IF(D5<120, \"Normal\", IF(D5<140, \"Prehyperten\", IF(D5<160, \"Stage 1 hyperten\", \"Stage 2 hyperten\"))))","v":""},{"$f":"IFERROR(SUM(F22:F28)/COUNTIF(F22:F28, \">0\"), \"\")","v":""},{"$f":"IF(F5=\"\", \"\", IF(F5<80, \"Normal\", IF(F5<89, \"Prehyperten\", IF(F5<99, \"Stage 1 hyperten\", \"Stage 2 hyperten\"))))","v":""},{"$f":"IFERROR(SUM(H22:H28)/COUNTIF(H22:H28, \">0\"), \"\")","v":""}]
["Eve",{"$f":"IFERROR(SUM(B29:B34)/COUNTIF(B29:B34, \">0\"), \"\")","v":""},"",{"$f":"IFERROR(SUM(D29:D34)/COUNTIF(D29:D34, \">0\"), \"\")","v":""},{"$f":"IF(D6=\"\", \"\", IF(D6<120, \"Normal\", IF(D6<140, \"Prehyperten\", IF(D6<160, \"Stage 1 hyperten\", \"Stage 2 hyperten\"))))","v":""},{"$f":"IFERROR(SUM(F29:F34)/COUNTIF(F29:F34, \">0\"), \"\")","v":""},{"$f":"IF(F6=\"\", \"\", IF(F6<80, \"Normal\", IF(F6<89, \"Prehyperten\", IF(F6<99, \"Stage 1 hyperten\", \"Stage 2 hyperten\"))))","v":""},{"$f":"IFERROR(SUM(H29:H34)/COUNTIF(H29:H34, \">0\"), \"\")","v":""}]
["Daily",{"$f":"IFERROR(SUM(B11:B34)/COUNTIF(B11:B34, \">0\"), \"\")","v":""},"",{"$f":"IFERROR(SUM(D11:D34)/COUNTIF(D11:D34, \">0\"), \"\")","v":""},{"$f":"IF(D7=\"\", \"\", IF(D7<120, \"Normal\", IF(D7<140, \"Prehyperten\", IF(D7<160, \"Stage 1 hyperten\", \"Stage 2 hyperten\"))))","v":""},{"$f":"IFERROR(SUM(F11:F34)/COUNTIF(F11:F34, \">0\"), \"\")","v":""},{"$f":"IF(F7=\"\", \"\", IF(F7<80, \"Normal\", IF(F7<89, \"Prehyperten\", IF(F7<99, \"Stage 1 hyperten\", \"Stage 2 hyperten\"))))","v":""},{"$f":"IFERROR(SUM(H11:H34)/COUNTIF(H11:H34, \">0\"), \"\")","v":""}]
["Weight",{"$nulls":4},{"$f":"IFERROR(#REF!/#REF!, \"\")","v":""},null,{"$f":"IFERROR(#REF!/#REF!, \"\")","v":""}]
["Doc weight"]
["Time (MIL)","Sugar","Status","Sys","Sys status","Dia","Dia status","Pul","Time (CIV)"]
["01:00:00",null,{"$f":"IF(B11=\"\",\"\",IF(B11<70,\"TOO LOW\",IF(B11<=80,\"LOW\",IF(B11<=120,\"Normal\",\"High\"))))","v":""},null,{"$f":"IF(D11=\"\", \"\", IF(D11<120, \"Normal\", IF(D11<140, \"Prehyperten\", IF(D11<160, \"Stage 1 hyperten\", \"Stage 2 hyperten\"))))","v":""},null,{"$f":"IF(F11=\"\", \"\", IF(F11<80, \"Normal\", IF(F11<89, \"Prehyperten\", IF(F11<99, \"Stage 1 hyperten\", \"Stage 2 hyperten\"))))","v":""},null,"01:00:00",{"$nulls":4},{"$f":"IF(B11=\"\", \"\", B11)","v":""},{"$f":"IF(D11=\"\", \"\", D11)","v":""},{"$f":"IF(F11=\"\", \"\", F11)","v":""},{"$f":"IF(H11=\"\", \"\", H11)","v":""}]
["02:00:00",null,{"$f":"IF(B12=\"\",\"\",IF(B12<70,\"TOO LOW\",IF(B12<=80,\"LOW\",IF(B12<=120,\"Normal\",\"High\"))))","v":""},null,{"$f":"IF(D12=\"\", \"\", IF(D12<120, \"Normal\", IF(D12<140, \"Prehyperten\", IF(D12<160, \"Stage 1 hyperten\", \"Stage 2 hyperten\"))))","v":""},null,{"$f":"IF(F12=\"\", \"\", IF(F12<80, \"Normal\", IF(F12<89, \"Prehyperten\", IF(F12<99, \"Stage 1 hyperten\", \"Stage 2 hyperten\"))))","v":""},null,"02:00:00",{"$nulls":4},{"$f":"IF(B12=\"\", \"\", B12)","v":""},{"$f":"IF(D12=\"\", \"\", D12)","v":""},{"$f":"IF(F12=\"\", \"\", F12)","v":""},{"$f":"IF(H12=\"\", \"\", H12)","v":""}]
["03:00:00",null,"",null,"",null,"",null,"03:00:00",{"$nulls":4},"","","",""]
["04:00:00",null,"",null,"",null,"",null,"04:00:00",{"$nulls":4},"","","",""]
["05:00:00",null,"",null,"",null,"",null,"05:00:00",{"$nulls":4},"","","",""]
["06:00:00",null,"",null,"",null,"",null,"06:00:00",{"$nulls":4},"","","",""]
["07:00:00",null,"",null,"",null,"",null,"07:00:00",{"$nulls":4},"","","",""]
["08:00:00",null,"",null,"",null,"",null,"08:00:00",{"$nulls":4},"","","",""]
["09:00:00",null,"",null,"",null,"",null,"09:00:00",null,"Before Breakfast",null,null,"","","",""]
["10:00:00",null,"",null,"",null,"",null,"10:00:00",null,"After Breakfast",null,null,"","","",""]
["11:00:00",null,"",null,"",null,"",null,"11:00:00",null,"Before Lunch",null,null,"","","",""]
["12:00:00",null,"",null,"",null,"",null,"00:00:00",null,"After Lunch",null,null,"","","",""]
["13:00:00",null,"",null,"",null,"",null,"13:00:00",null,"Before Dinner",null,null,"","","",""]
["14:00:00",null,"",null,"",null,"",null,"14:00:00",null,"After Dinner",null,null,"","","",""]
["15:00:00",null,"",null,"",null,"",null,"15:00:00",{"$nulls":4},"","","",""]
["16:00:00",null,"",null,"",null,"",null,"16:00:00",{"$nulls":4},"","","",""]
["17:00:00",null,"",null,"",null,"",null,"17:00:00",{"$nulls":4},"","","",""]
["18:00:00",null,"",null,"",null,"",null,"18:00:00",null,"Legend",null,null,"","","",""]
["19:00:00",null,"",null,"",null,"",null,"19:00:00",null,"BB","Before Breakfast",null,"","","",""]
["20:00:00",null,"",null,"",null,"",null,"20:00:00",null,"AB","After Breakfast",null,"","","",""]
["21:00:00",null,"",null,"",null,"",null,"21:00:00",null,"BL","Before Lunch",null,"","","",""]
["22:00:00",null,"",null,"",null,"",null,"22:00:00",null,"AL","After Lunch",null,"","","",""]
["23:00:00",null,"",null,"",null,"",null,"23:00:00",null,"BD","Before Dinner",null,"","","",""]
[1,null,"",null,"",null,"",null,"00:00:00",{"$nulls":4},"","","",""]

{"sheet":"16","index":16,"n_rows":34,"n_cols":66,"rows_kept":34,"merged":[[0,0,0,8],[1,0,1,8],[7,0,7,1],[7,2,7,3],[8,0,8,1],[8,2,8,3],[27,10,27,12],[29,11,29,12],[30,11,30,12],[31,11,31,12],[32,11,32,12]]}
[{"$f":"IF(info!$B$2=\"\", \"\", info!$B$2)","v":"Jesse Hutton"},{"$nulls":64},{"$f":"info!$B$3&\" \"&16&\", \"&info!$B$4","v":"November 16, 2014"}]
[{"$f":"IF(info!$B$3=\"\", \"\", $BN$1)","v":"November 16, 2014"}]
[null,"Sugar","Status","Sys","Status","Dia","Status","Pul"]
["Morn",{"$f":"IFERROR(SUM(B11:B21)/COUNTIF(B11:B21, \">0\"), \"\")","v":""},{"$f":"IF(B4=\"\",\"\",IF(B4<70,\"TOO LOW\",IF(B4<=80,\"LOW\",IF(B4<=120,\"Normal\",\"High\"))))","v":""},{"$f":"IFERROR(SUM(D11:D21)/COUNTIF(D11:D21, \">0\"), \"\")","v":""},{"$f":"IF(D4=\"\", \"\", IF(D4<120, \"Normal\", IF(D4<140, \"Prehyperten\", IF(D4<160, \"Stage 1 hyperten\", \"Stage 2 hyperten\"))))","v":""},{"$f":"IFERROR(SUM(F11:F21)/COUNTIF(F11:F21, \">0\"), \"\")","v":""},{"$f":"IF(F4=\"\", \"\", IF(F4<80, \"Normal\", IF(F4<89, \"Prehyperten\", IF(F4<99, \"Stage 1 hyperten\", \"Stage 2 hyperten\"))))","v":""},{"$f":"IFERROR(SUM(H11:H21)/COUNTIF(H11:H21, \">0\"), \"\")","v":""}]
["Noon",{"$f":"IFERROR(SUM(B22:B28)/COUNTIF(B22:B28, \">0\"), \"\")","v":""},{"$f":"IF(B5=\"\",\"\",IF(B5<70,\"TOO LOW\",IF(B5<=80,\"LOW\",IF(B5<=120,\"Normal\",\"High\"))))","v":""},{"$f":"IFERROR(SUM(D22:D28)/COUNTIF(D22:D28, \">0\"), \"\")","v":""},{"$f":"IF(D5=\"\", \"\", IF(D5<120, \"Normal\", IF(D5<140, \"Prehyperten\", IF(D5<160, \"Stage 1 hyperten\", \"Stage 2 hyperten\"))))","v":""},{"$f":"IFERROR(SUM(F22:F28)/COUNTIF(F22:F28, \">0\"), \"\")","v":""},{"$f":"IF(F5=\"\", \"\", IF(F5<80, \"Normal\", IF(F5<89, \"Prehyperten\", IF(F5<99, \"Stage 1 hyperten\", \"Stage 2 hyperten\"))))","v":""},{"$f":"IFERROR(SUM(H22:H28)/COUNTIF(H22:H28, \">0\"), \"\")","v":""}]
["Eve",{"$f":"IFERROR(SUM(B29:B34)/COUNTIF(B29:B34, \">0\"), \"\")","v":""},"",{"$f":"IFERROR(SUM(D29:D34)/COUNTIF(D29:D34, \">0\"), \"\")","v":""},{"$f":"IF(D6=\"\", \"\", IF(D6<120, \"Normal\", IF(D6<140, \"Prehyperten\", IF(D6<160, \"Stage 1 hyperten\", \"Stage 2 hyperten\"))))","v":""},{"$f":"IFERROR(SUM(F29:F34)/COUNTIF(F29:F34, \">0\"), \"\")","v":""},{"$f":"IF(F6=\"\", \"\", IF(F6<80, \"Normal\", IF(F6<89, \"Prehyperten\", IF(F6<99, \"Stage 1 hyperten\", \"Stage 2 hyperten\"))))","v":""},{"$f":"IFERROR(SUM(H29:H34)/COUNTIF(H29:H34, \">0\"), \"\")","v":""}]
["Daily",{"$f":"IFERROR(SUM(B11:B34)/COUNTIF(B11:B34, \">0\"), \"\")","v":""},"",{"$f":"IFERROR(SUM(D11:D34)/COUNTIF(D11:D34, \">0\"), \"\")","v":""},{"$f":"IF(D7=\"\", \"\", IF(D7<120, \"Normal\", IF(D7<140, \"Prehyperten\", IF(D7<160, \"Stage 1 hyperten\", \"Stage 2 hyperten\"))))","v":""},{"$f":"IFERROR(SUM(F11:F34)/COUNTIF(F11:F34, \">0\"), \"\")","v":""},{"$f":"IF(F7=\"\", \"\", IF(F7<80, \"Normal\", IF(F7<89, \"Prehyperten\", IF(F7<99, \"Stage 1 hyperten\", \"Stage 2 hyperten\"))))","v":""},{"$f":"IFERROR(SUM(H11:H34)/COUNTIF(H11:H34, \">0\"), \"\")","v":""}]
["Weight",{"$nulls":4},{"$f":"IFERROR(#REF!/#REF!, \"\")","v":""},null,{"$f":"IFERROR(#REF!/#REF!, \"\")","v":""}]
["Doc weight"]
["Time (MIL)","Sugar","Status","Sys","Sys status","Dia","Dia status","Pul","Time (CIV)"]
["01:00:00",null,{"$f":"IF(B11=\"\",\"\",IF(B11<70,\"TOO LOW\",IF(B11<=80,\"LOW\",IF(B11<=120,\"Normal\",\"High\"))))","v":""},null,{"$f":"IF(D11=\"\", \"\", IF(D11<120, \"Normal\", IF(D11<140, \"Prehyperten\", IF(D11<160, \"Stage 1 hyperten\", \"Stage 2 hyperten\"))))","v":""},null,{"$f":"IF(F11=\"\", \"\", IF(F11<80, \"Normal\", IF(F11<89, \"Prehyperten\", IF(F11<99, \"Stage 1 hyperten\", \"Stage 2 hyperten\"))))","v":""},null,"01:00:00",{"$nulls":4},{"$f":"IF(B11=\"\", \"\", B11)","v":""},{"$f":"IF(D11=\"\", \"\", D11)","v":""},{"$f":"IF(F11=\"\", \"\", F11)","v":""},{"$f":"IF(H11=\"\", \"\", H11)","v":""}]
["02:00:00",null,{"$f":"IF(B12=\"\",\"\",IF(B12<70,\"TOO LOW\",IF(B12<=80,\"LOW\",IF(B12<=120,\"Normal\",\"High\"))))","v":""},null,{"$f":"IF(D12=\"\", \"\", IF(D12<120, \"Normal\", IF(D12<140, \"Prehyperten\", IF(D12<160, \"Stage 1 hyperten\", \"Stage 2 hyperten\"))))","v":""},null,{"$f":"IF(F12=\"\", \"\", IF(F12<80, \"Normal\", IF(F12<89, \"Prehyperten\", IF(F12<99, \"Stage 1 hyperten\", \"Stage 2 hyperten\"))))","v":""},null,"02:00:00",{"$nulls":4},{"$f":"IF(B12=\"\", \"\", B12)","v":""},{"$f":"IF(D12=\"\", \"\", D12)","v":""},{"$f":"IF(F12=\"\", \"\", F12)","v":""},{"$f":"IF(H12=\"\", \"\", H12)","v":""}]
["03:00:00",null,"",null,"",null,"",null,"03:00:00",{"$nulls":4},"","","",""]
["04:00:00",null,"",null,"",null,"",null,"04:00:00",{"$nulls":4},"","","",""]
["05:00:00",null,"",null,"",null,"",null,"05:00:00",{"$nulls":4},"","","",""]
["06:00:00",null,"",null,"",null,"",null,"06:00:00",{"$nulls":4},"","","",""]
["07:00:00",null,"",null,"",null,"",null,"07:00:00",{"$nulls":4},"","","",""]
["08:00:00",null,"",null,"",null,"",null,"08:00:00",{"$nulls":4},"","","",""]
["09:00:00",null,"",null,"",null,"",null,"09:00:00",null,"Before Breakfast",null,null,"","","",""]
["10:00:00",null,"",null,"",null,"",null,"10:00:00",null,"After Breakfast",null,null,"","","",""]
["11:00:00",null,"",null,"",null,"",null,"11:00:00",null,"Before Lunch",null,null,"","","",""]
["12:00:00",null,"",null,"",null,"",null,"00:00:00",null,"After Lunch",null,null,"","","",""]
["13:00:00",null,"",null,"",null,"",null,"13:00:00",null,"Before Dinner",null,null,"","","",""]
["14:00:00",null,"",null,"",null,"",null,"14:00:00",null,"After Dinner",null,null,"","","",""]
["15:00:00",null,"",null,"",null,"",null,"15:00:00",{"$nulls":4},"","","",""]
["16:00:00",null,"",null,"",null,"",null,"16:00:00",{"$nulls":4},"","","",""]
["17:00:00",null,"",null,"",null,"",null,"17:00:00",{"$nulls":4},"","","",""]
["18:00:00",null,"",null,"",null,"",null,"18:00:00",null,"Legend",null,null,"","","",""]
["19:00:00",null,"",null,"",null,"",null,"19:00:00",null,"BB","Before Breakfast",null,"","","",""]
["20:00:00",null,"",null,"",null,"",null,"20:00:00",null,"AB","After Breakfast",null,"","","",""]
["21:00:00",null,"",null,"",null,"",null,"21:00:00",null,"BL","Before Lunch",null,"","","",""]
["22:00:00",null,"",null,"",null,"",null,"22:00:00",null,"AL","After Lunch",null,"","","",""]
["23:00:00",null,"",null,"",null,"",null,"23:00:00",null,"BD","Before Dinner",null,"","","",""]
[1,null,"",null,"",null,"",null,"00:00:00",{"$nulls":4},"","","",""]

{"sheet":"17","index":17,"n_rows":34,"n_cols":66,"rows_kept":34,"merged":[[0,0,0,8],[1,0,1,8],[7,0,7,1],[7,2,7,3],[8,0,8,1],[8,2,8,3],[27,10,27,12],[29,11,29,12],[30,11,30,12],[31,11,31,12],[32,11,32,12]]}
[{"$f":"IF(info!$B$2=\"\", \"\", info!$B$2)","v":"Jesse Hutton"},{"$nulls":64},{"$f":"info!$B$3&\" \"&17&\", \"&info!$B$4","v":"November 17, 2014"}]
[{"$f":"IF(info!$B$3=\"\", \"\", $BN$1)","v":"November 17, 2014"}]
[null,"Sugar","Status","Sys","Status","Dia","Status","Pul"]
["Morn",{"$f":"IFERROR(SUM(B11:B21)/COUNTIF(B11:B21, \">0\"), \"\")","v":""},{"$f":"IF(B4=\"\",\"\",IF(B4<70,\"TOO LOW\",IF(B4<=80,\"LOW\",IF(B4<=120,\"Normal\",\"High\"))))","v":""},{"$f":"IFERROR(SUM(D11:D21)/COUNTIF(D11:D21, \">0\"), \"\")","v":""},{"$f":"IF(D4=\"\", \"\", IF(D4<120, \"Normal\", IF(D4<140, \"Prehyperten\", IF(D4<160, \"Stage 1 hyperten\", \"Stage 2 hyperten\"))))","v":""},{"$f":"IFERROR(SUM(F11:F21)/COUNTIF(F11:F21, \">0\"), \"\")","v":""},{"$f":"IF(F4=\"\", \"\", IF(F4<80, \"Normal\", IF(F4<89, \"Prehyperten\", IF(F4<99, \"Stage 1 hyperten\", \"Stage 2 hyperten\"))))","v":""},{"$f":"IFERROR(SUM(H11:H21)/COUNTIF(H11:H21, \">0\"), \"\")","v":""}]
["Noon",{"$f":"IFERROR(SUM(B22:B28)/COUNTIF(B22:B28, \">0\"), \"\")","v":""},{"$f":"IF(B5=\"\",\"\",IF(B5<70,\"TOO LOW\",IF(B5<=80,\"LOW\",IF(B5<=120,\"Normal\",\"High\"))))","v":""},{"$f":"IFERROR(SUM(D22:D28)/COUNTIF(D22:D28, \">0\"), \"\")","v":""},{"$f":"IF(D5=\"\", \"\", IF(D5<120, \"Normal\", IF(D5<140, \"Prehyperten\", IF(D5<160, \"Stage 1 hyperten\", \"Stage 2 hyperten\"))))","v":""},{"$f":"IFERROR(SUM(F22:F28)/COUNTIF(F22:F28, \">0\"), \"\")","v":""},{"$f":"IF(F5=\"\", \"\", IF(F5<80, \"Normal\", IF(F5<89, \"Prehyperten\", IF(F5<99, \"Stage 1 hyperten\", \"Stage 2 hyperten\"))))","v":""},{"$f":"IFERROR(SUM(H22:H28)/COUNTIF(H22:H28, \">0\"), \"\")","v":""}]
["Eve",{"$f":"IFERROR(SUM(B29:B34)/COUNTIF(B29:B34, \">0\"), \"\")","v":""},"",{"$f":"IFERROR(SUM(D29:D34)/COUNTIF(D29:D34, \">0\"), \"\")","v":""},{"$f":"IF(D6=\"\", \"\", IF(D6<120, \"Normal\", IF(D6<140, \"Prehyperten\", IF(D6<160, \"Stage 1 hyperten\", \"Stage 2 hyperten\"))))","v":""},{"$f":"IFERROR(SUM(F29:F34)/COUNTIF(F29:F34, \">0\"), \"\")","v":""},{"$f":"IF(F6=\"\", \"\", IF(F6<80, \"Normal\", IF(F6<89, \"Prehyperten\", IF(F6<99, \"Stage 1 hyperten\", \"Stage 2 hyperten\"))))","v":""},{"$f":"IFERROR(SUM(H29:H34)/COUNTIF(H29:H34, \">0\"), \"\")","v":""}]
["Daily",{"$f":"IFERROR(SUM(B11:B34)/COUNTIF(B11:B34, \">0\"), \"\")","v":""},"",{"$f":"IFERROR(SUM(D11:D34)/COUNTIF(D11:D34, \">0\"), \"\")","v":""},{"$f":"IF(D7=\"\", \"\", IF(D7<120, \"Normal\", IF(D7<140, \"Prehyperten\", IF(D7<160, \"Stage 1 hyperten\", \"Stage 2 hyperten\"))))","v":""},{"$f":"IFERROR(SUM(F11:F34)/COUNTIF(F11:F34, \">0\"), \"\")","v":""},{"$f":"IF(F7=\"\", \"\", IF(F7<80, \"Normal\", IF(F7<89, \"Prehyperten\", IF(F7<99, \"Stage 1 hyperten\", \"Stage 2 hyperten\"))))","v":""},{"$f":"IFERROR(SUM(H11:H34)/COUNTIF(H11:H34, \">0\"), \"\")","v":""}]
["Weight",{"$nulls":4},{"$f":"IFERROR(#REF!/#REF!, \"\")","v":""},null,{"$f":"IFERROR(#REF!/#REF!, \"\")","v":""}]
["Doc weight"]
["Time (MIL)","Sugar","Status","Sys","Sys status","Dia","Dia status","Pul","Time (CIV)"]
["01:00:00",null,{"$f":"IF(B11=\"\",\"\",IF(B11<70,\"TOO LOW\",IF(B11<=80,\"LOW\",IF(B11<=120,\"Normal\",\"High\"))))","v":""},null,{"$f":"IF(D11=\"\", \"\", IF(D11<120, \"Normal\", IF(D11<140, \"Prehyperten\", IF(D11<160, \"Stage 1 hyperten\", \"Stage 2 hyperten\"))))","v":""},null,{"$f":"IF(F11=\"\", \"\", IF(F11<80, \"Normal\", IF(F11<89, \"Prehyperten\", IF(F11<99, \"Stage 1 hyperten\", \"Stage 2 hyperten\"))))","v":""},null,"01:00:00",{"$nulls":4},{"$f":"IF(B11=\"\", \"\", B11)","v":""},{"$f":"IF(D11=\"\", \"\", D11)","v":""},{"$f":"IF(F11=\"\", \"\", F11)","v":""},{"$f":"IF(H11=\"\", \"\", H11)","v":""}]
["02:00:00",null,{"$f":"IF(B12=\"\",\"\",IF(B12<70,\"TOO LOW\",IF(B12<=80,\"LOW\",IF(B12<=120,\"Normal\",\"High\"))))","v":""},null,{"$f":"IF(D12=\"\", \"\", IF(D12<120, \"Normal\", IF(D12<140, \"Prehyperten\", IF(D12<160, \"Stage 1 hyperten\", \"Stage 2 hyperten\"))))","v":""},null,{"$f":"IF(F12=\"\", \"\", IF(F12<80, \"Normal\", IF(F12<89, \"Prehyperten\", IF(F12<99, \"Stage 1 hyperten\", \"Stage 2 hyperten\"))))","v":""},null,"02:00:00",{"$nulls":4},{"$f":"IF(B12=\"\", \"\", B12)","v":""},{"$f":"IF(D12=\"\", \"\", D12)","v":""},{"$f":"IF(F12=\"\", \"\", F12)","v":""},{"$f":"IF(H12=\"\", \"\", H12)","v":""}]
["03:00:00",null,"",null,"",null,"",null,"03:00:00",{"$nulls":4},"","","",""]
["04:00:00",null,"",null,"",null,"",null,"04:00:00",{"$nulls":4},"","","",""]
["05:00:00",null,"",null,"",null,"",null,"05:00:00",{"$nulls":4},"","","",""]
["06:00:00",null,"",null,"",null,"",null,"06:00:00",{"$nulls":4},"","","",""]
["07:00:00",null,"",null,"",null,"",null,"07:00:00",{"$nulls":4},"","","",""]
["08:00:00",null,"",null,"",null,"",null,"08:00:00",{"$nulls":4},"","","",""]
["09:00:00",null,"",null,"",null,"",null,"09:00:00",null,"Before Breakfast",null,null,"","","",""]
["10:00:00",null,"",null,"",null,"",null,"10:00:00",null,"After Breakfast",null,null,"","","",""]
["11:00:00",null,"",null,"",null,"",null,"11:00:00",null,"Before Lunch",null,null,"","","",""]
["12:00:00",null,"",null,"",null,"",null,"00:00:00",null,"After Lunch",null,null,"","","",""]
["13:00:00",null,"",null,"",null,"",null,"13:00:00",null,"Before Dinner",null,null,"","","",""]
["14:00:00",null,"",null,"",null,"",null,"14:00:00",null,"After Dinner",null,null,"","","",""]
["15:00:00",null,"",null,"",null,"",null,"15:00:00",{"$nulls":4},"","","",""]
["16:00:00",null,"",null,"",null,"",null,"16:00:00",{"$nulls":4},"","","",""]
["17:00:00",null,"",null,"",null,"",null,"17:00:00",{"$nulls":4},"","","",""]
["18:00:00",null,"",null,"",null,"",null,"18:00:00",null,"Legend",null,null,"","","",""]
["19:00:00",null,"",null,"",null,"",null,"19:00:00",null,"BB","Before Breakfast",null,"","","",""]
["20:00:00",null,"",null,"",null,"",null,"20:00:00",null,"AB","After Breakfast",null,"","","",""]
["21:00:00",null,"",null,"",null,"",null,"21:00:00",null,"BL","Before Lunch",null,"","","",""]
["22:00:00",null,"",null,"",null,"",null,"22:00:00",null,"AL","After Lunch",null,"","","",""]
["23:00:00",null,"",null,"",null,"",null,"23:00:00",null,"BD","Before Dinner",null,"","","",""]
[1,null,"",null,"",null,"",null,"00:00:00",{"$nulls":4},"","","",""]

{"sheet":"18","index":18,"n_rows":34,"n_cols":66,"rows_kept":34,"merged":[[0,0,0,8],[1,0,1,8],[7,0,7,1],[7,2,7,3],[8,0,8,1],[8,2,8,3],[27,10,27,12],[29,11,29,12],[30,11,30,12],[31,11,31,12],[32,11,32,12]]}
[{"$f":"IF(info!$B$2=\"\", \"\", info!$B$2)","v":"Jesse Hutton"},{"$nulls":64},{"$f":"info!$B$3&\" \"&18&\", \"&info!$B$4","v":"November 18, 2014"}]
[{"$f":"IF(info!$B$3=\"\", \"\", $BN$1)","v":"November 18, 2014"}]
[null,"Sugar","Status","Sys","Status","Dia","Status","Pul"]
["Morn",{"$f":"IFERROR(SUM(B11:B21)/COUNTIF(B11:B21, \">0\"), \"\")","v":""},{"$f":"IF(B4=\"\",\"\",IF(B4<70,\"TOO LOW\",IF(B4<=80,\"LOW\",IF(B4<=120,\"Normal\",\"High\"))))","v":""},{"$f":"IFERROR(SUM(D11:D21)/COUNTIF(D11:D21, \">0\"), \"\")","v":""},{"$f":"IF(D4=\"\", \"\", IF(D4<120, \"Normal\", IF(D4<140, \"Prehyperten\", IF(D4<160, \"Stage 1 hyperten\", \"Stage 2 hyperten\"))))","v":""},{"$f":"IFERROR(SUM(F11:F21)/COUNTIF(F11:F21, \">0\"), \"\")","v":""},{"$f":"IF(F4=\"\", \"\", IF(F4<80, \"Normal\", IF(F4<89, \"Prehyperten\", IF(F4<99, \"Stage 1 hyperten\", \"Stage 2 hyperten\"))))","v":""},{"$f":"IFERROR(SUM(H11:H21)/COUNTIF(H11:H21, \">0\"), \"\")","v":""}]
["Noon",{"$f":"IFERROR(SUM(B22:B28)/COUNTIF(B22:B28, \">0\"), \"\")","v":""},{"$f":"IF(B5=\"\",\"\",IF(B5<70,\"TOO LOW\",IF(B5<=80,\"LOW\",IF(B5<=120,\"Normal\",\"High\"))))","v":""},{"$f":"IFERROR(SUM(D22:D28)/COUNTIF(D22:D28, \">0\"), \"\")","v":""},{"$f":"IF(D5=\"\", \"\", IF(D5<120, \"Normal\", IF(D5<140, \"Prehyperten\", IF(D5<160, \"Stage 1 hyperten\", \"Stage 2 hyperten\"))))","v":""},{"$f":"IFERROR(SUM(F22:F28)/COUNTIF(F22:F28, \">0\"), \"\")","v":""},{"$f":"IF(F5=\"\", \"\", IF(F5<80, \"Normal\", IF(F5<89, \"Prehyperten\", IF(F5<99, \"Stage 1 hyperten\", \"Stage 2 hyperten\"))))","v":""},{"$f":"IFERROR(SUM(H22:H28)/COUNTIF(H22:H28, \">0\"), \"\")","v":""}]
["Eve",{"$f":"IFERROR(SUM(B29:B34)/COUNTIF(B29:B34, \">0\"), \"\")","v":""},"",{"$f":"IFERROR(SUM(D29:D34)/COUNTIF(D29:D34, \">0\"), \"\")","v":""},{"$f":"IF(D6=\"\", \"\", IF(D6<120, \"Normal\", IF(D6<140, \"Prehyperten\", IF(D6<160, \"Stage 1 hyperten\", \"Stage 2 hyperten\"))))","v":""},{"$f":"IFERROR(SUM(F29:F34)/COUNTIF(F29:F34, \">0\"), \"\")","v":""},{"$f":"IF(F6=\"\", \"\", IF(F6<80, \"Normal\", IF(F6<89, \"Prehyperten\", IF(F6<99, \"Stage 1 hyperten\", \"Stage 2 hyperten\"))))","v":""},{"$f":"IFERROR(SUM(H29:H34)/COUNTIF(H29:H34, \">0\"), \"\")","v":""}]
["Daily",{"$f":"IFERROR(SUM(B11:B34)/COUNTIF(B11:B34, \">0\"), \"\")","v":""},"",{"$f":"IFERROR(SUM(D11:D34)/COUNTIF(D11:D34, \">0\"), \"\")","v":""},{"$f":"IF(D7=\"\", \"\", IF(D7<120, \"Normal\", IF(D7<140, \"Prehyperten\", IF(D7<160, \"Stage 1 hyperten\", \"Stage 2 hyperten\"))))","v":""},{"$f":"IFERROR(SUM(F11:F34)/COUNTIF(F11:F34, \">0\"), \"\")","v":""},{"$f":"IF(F7=\"\", \"\", IF(F7<80, \"Normal\", IF(F7<89, \"Prehyperten\", IF(F7<99, \"Stage 1 hyperten\", \"Stage 2 hyperten\"))))","v":""},{"$f":"IFERROR(SUM(H11:H34)/COUNTIF(H11:H34, \">0\"), \"\")","v":""}]
["Weight",{"$nulls":4},{"$f":"IFERROR(#REF!/#REF!, \"\")","v":""},null,{"$f":"IFERROR(#REF!/#REF!, \"\")","v":""}]
["Doc weight"]
["Time (MIL)","Sugar","Status","Sys","Sys status","Dia","Dia status","Pul","Time (CIV)"]
["01:00:00",null,{"$f":"IF(B11=\"\",\"\",IF(B11<70,\"TOO LOW\",IF(B11<=80,\"LOW\",IF(B11<=120,\"Normal\",\"High\"))))","v":""},null,{"$f":"IF(D11=\"\", \"\", IF(D11<120, \"Normal\", IF(D11<140, \"Prehyperten\", IF(D11<160, \"Stage 1 hyperten\", \"Stage 2 hyperten\"))))","v":""},null,{"$f":"IF(F11=\"\", \"\", IF(F11<80, \"Normal\", IF(F11<89, \"Prehyperten\", IF(F11<99, \"Stage 1 hyperten\", \"Stage 2 hyperten\"))))","v":""},null,"01:00:00",{"$nulls":4},{"$f":"IF(B11=\"\", \"\", B11)","v":""},{"$f":"IF(D11=\"\", \"\", D11)","v":""},{"$f":"IF(F11=\"\", \"\", F11)","v":""},{"$f":"IF(H11=\"\", \"\", H11)","v":""}]
["02:00:00",null,{"$f":"IF(B12=\"\",\"\",IF(B12<70,\"TOO LOW\",IF(B12<=80,\"LOW\",IF(B12<=120,\"Normal\",\"High\"))))","v":""},null,{"$f":"IF(D12=\"\", \"\", IF(D12<120, \"Normal\", IF(D12<140, \"Prehyperten\", IF(D12<160, \"Stage 1 hyperten\", \"Stage 2 hyperten\"))))","v":""},null,{"$f":"IF(F12=\"\", \"\", IF(F12<80, \"Normal\", IF(F12<89, \"Prehyperten\", IF(F12<99, \"Stage 1 hyperten\", \"Stage 2 hyperten\"))))","v":""},null,"02:00:00",{"$nulls":4},{"$f":"IF(B12=\"\", \"\", B12)","v":""},{"$f":"IF(D12=\"\", \"\", D12)","v":""},{"$f":"IF(F12=\"\", \"\", F12)","v":""},{"$f":"IF(H12=\"\", \"\", H12)","v":""}]
["03:00:00",null,"",null,"",null,"",null,"03:00:00",{"$nulls":4},"","","",""]
["04:00:00",null,"",null,"",null,"",null,"04:00:00",{"$nulls":4},"","","",""]
["05:00:00",null,"",null,"",null,"",null,"05:00:00",{"$nulls":4},"","","",""]
["06:00:00",null,"",null,"",null,"",null,"06:00:00",{"$nulls":4},"","","",""]
["07:00:00",null,"",null,"",null,"",null,"07:00:00",{"$nulls":4},"","","",""]
["08:00:00",null,"",null,"",null,"",null,"08:00:00",{"$nulls":4},"","","",""]
["09:00:00",null,"",null,"",null,"",null,"09:00:00",null,"Before Breakfast",null,null,"","","",""]
["10:00:00",null,"",null,"",null,"",null,"10:00:00",null,"After Breakfast",null,null,"","","",""]
["11:00:00",null,"",null,"",null,"",null,"11:00:00",null,"Before Lunch",null,null,"","","",""]
["12:00:00",null,"",null,"",null,"",null,"00:00:00",null,"After Lunch",null,null,"","","",""]
["13:00:00",null,"",null,"",null,"",null,"13:00:00",null,"Before Dinner",null,null,"","","",""]
["14:00:00",null,"",null,"",null,"",null,"14:00:00",null,"After Dinner",null,null,"","","",""]
["15:00:00",null,"",null,"",null,"",null,"15:00:00",{"$nulls":4},"","","",""]
["16:00:00",null,"",null,"",null,"",null,"16:00:00",{"$nulls":4},"","","",""]
["17:00:00",null,"",null,"",null,"",null,"17:00:00",{"$nulls":4},"","","",""]
["18:00:00",null,"",null,"",null,"",null,"18:00:00",null,"Legend",null,null,"","","",""]
["19:00:00",null,"",null,"",null,"",null,"19:00:00",null,"BB","Before Breakfast",null,"","","",""]
["20:00:00",null,"",null,"",null,"",null,"20:00:00",null,"AB","After Breakfast",null,"","","",""]
["21:00:00",null,"",null,"",null,"",null,"21:00:00",null,"BL","Before Lunch",null,"","","",""]
["22:00:00",null,"",null,"",null,"",null,"22:00:00",null,"AL","After Lunch",null,"","","",""]
["23:00:00",null,"",null,"",null,"",null,"23:00:00",null,"BD","Before Dinner",null,"","","",""]
[1,null,"",null,"",null,"",null,"00:00:00",{"$nulls":4},"","","",""]

{"sheet":"19","index":19,"n_rows":34,"n_cols":66,"rows_kept":34,"merged":[[0,0,0,8],[1,0,1,8],[7,0,7,1],[7,2,7,3],[8,0,8,1],[8,2,8,3],[27,10,27,12],[29,11,29,12],[30,11,30,12],[31,11,31,12],[32,11,32,12]]}
[{"$f":"IF(info!$B$2=\"\", \"\", info!$B$2)","v":"Jesse Hutton"},{"$nulls":64},{"$f":"info!$B$3&\" \"&19&\", \"&info!$B$4","v":"November 19, 2014"}]
[{"$f":"IF(info!$B$3=\"\", \"\", $BN$1)","v":"November 19, 2014"}]
[null,"Sugar","Status","Sys","Status","Dia","Status","Pul"]
["Morn",{"$f":"IFERROR(SUM(B11:B21)/COUNTIF(B11:B21, \">0\"), \"\")","v":""},{"$f":"IF(B4=\"\",\"\",IF(B4<70,\"TOO LOW\",IF(B4<=80,\"LOW\",IF(B4<=120,\"Normal\",\"High\"))))","v":""},{"$f":"IFERROR(SUM(D11:D21)/COUNTIF(D11:D21, \">0\"), \"\")","v":""},{"$f":"IF(D4=\"\", \"\", IF(D4<120, \"Normal\", IF(D4<140, \"Prehyperten\", IF(D4<160, \"Stage 1 hyperten\", \"Stage 2 hyperten\"))))","v":""},{"$f":"IFERROR(SUM(F11:F21)/COUNTIF(F11:F21, \">0\"), \"\")","v":""},{"$f":"IF(F4=\"\", \"\", IF(F4<80, \"Normal\", IF(F4<89, \"Prehyperten\", IF(F4<99, \"Stage 1 hyperten\", \"Stage 2 hyperten\"))))","v":""},{"$f":"IFERROR(SUM(H11:H21)/COUNTIF(H11:H21, \">0\"), \"\")","v":""}]
["Noon",{"$f":"IFERROR(SUM(B22:B28)/COUNTIF(B22:B28, \">0\"), \"\")","v":""},{"$f":"IF(B5=\"\",\"\",IF(B5<70,\"TOO LOW\",IF(B5<=80,\"LOW\",IF(B5<=120,\"Normal\",\"High\"))))","v":""},{"$f":"IFERROR(SUM(D22:D28)/COUNTIF(D22:D28, \">0\"), \"\")","v":""},{"$f":"IF(D5=\"\", \"\", IF(D5<120, \"Normal\", IF(D5<140, \"Prehyperten\", IF(D5<160, \"Stage 1 hyperten\", \"Stage 2 hyperten\"))))","v":""},{"$f":"IFERROR(SUM(F22:F28)/COUNTIF(F22:F28, \">0\"), \"\")","v":""},{"$f":"IF(F5=\"\", \"\", IF(F5<80, \"Normal\", IF(F5<89, \"Prehyperten\", IF(F5<99, \"Stage 1 hyperten\", \"Stage 2 hyperten\"))))","v":""},{"$f":"IFERROR(SUM(H22:H28)/COUNTIF(H22:H28, \">0\"), \"\")","v":""}]
["Eve",{"$f":"IFERROR(SUM(B29:B34)/COUNTIF(B29:B34, \">0\"), \"\")","v":""},"",{"$f":"IFERROR(SUM(D29:D34)/COUNTIF(D29:D34, \">0\"), \"\")","v":""},{"$f":"IF(D6=\"\", \"\", IF(D6<120, \"Normal\", IF(D6<140, \"Prehyperten\", IF(D6<160, \"Stage 1 hyperten\", \"Stage 2 hyperten\"))))","v":""},{"$f":"IFERROR(SUM(F29:F34)/COUNTIF(F29:F34, \">0\"), \"\")","v":""},{"$f":"IF(F6=\"\", \"\", IF(F6<80, \"Normal\", IF(F6<89, \"Prehyperten\", IF(F6<99, \"Stage 1 hyperten\", \"Stage 2 hyperten\"))))","v":""},{"$f":"IFERROR(SUM(H29:H34)/COUNTIF(H29:H34, \">0\"), \"\")","v":""}]
["Daily",{"$f":"IFERROR(SUM(B11:B34)/COUNTIF(B11:B34, \">0\"), \"\")","v":""},"",{"$f":"IFERROR(SUM(D11:D34)/COUNTIF(D11:D34, \">0\"), \"\")","v":""},{"$f":"IF(D7=\"\", \"\", IF(D7<120, \"Normal\", IF(D7<140, \"Prehyperten\", IF(D7<160, \"Stage 1 hyperten\", \"Stage 2 hyperten\"))))","v":""},{"$f":"IFERROR(SUM(F11:F34)/COUNTIF(F11:F34, \">0\"), \"\")","v":""},{"$f":"IF(F7=\"\", \"\", IF(F7<80, \"Normal\", IF(F7<89, \"Prehyperten\", IF(F7<99, \"Stage 1 hyperten\", \"Stage 2 hyperten\"))))","v":""},{"$f":"IFERROR(SUM(H11:H34)/COUNTIF(H11:H34, \">0\"), \"\")","v":""}]
["Weight",{"$nulls":4},{"$f":"IFERROR(#REF!/#REF!, \"\")","v":""},null,{"$f":"IFERROR(#REF!/#REF!, \"\")","v":""}]
["Doc weight"]
["Time (MIL)","Sugar","Status","Sys","Sys status","Dia","Dia status","Pul","Time (CIV)"]
["01:00:00",null,{"$f":"IF(B11=\"\",\"\",IF(B11<70,\"TOO LOW\",IF(B11<=80,\"LOW\",IF(B11<=120,\"Normal\",\"High\"))))","v":""},null,{"$f":"IF(D11=\"\", \"\", IF(D11<120, \"Normal\", IF(D11<140, \"Prehyperten\", IF(D11<160, \"Stage 1 hyperten\", \"Stage 2 hyperten\"))))","v":""},null,{"$f":"IF(F11=\"\", \"\", IF(F11<80, \"Normal\", IF(F11<89, \"Prehyperten\", IF(F11<99, \"Stage 1 hyperten\", \"Stage 2 hyperten\"))))","v":""},null,"01:00:00",{"$nulls":4},{"$f":"IF(B11=\"\", \"\", B11)","v":""},{"$f":"IF(D11=\"\", \"\", D11)","v":""},{"$f":"IF(F11=\"\", \"\", F11)","v":""},{"$f":"IF(H11=\"\", \"\", H11)","v":""}]
["02:00:00",null,{"$f":"IF(B12=\"\",\"\",IF(B12<70,\"TOO LOW\",IF(B12<=80,\"LOW\",IF(B12<=120,\"Normal\",\"High\"))))","v":""},null,{"$f":"IF(D12=\"\", \"\", IF(D12<120, \"Normal\", IF(D12<140, \"Prehyperten\", IF(D12<160, \"Stage 1 hyperten\", \"Stage 2 hyperten\"))))","v":""},null,{"$f":"IF(F12=\"\", \"\", IF(F12<80, \"Normal\", IF(F12<89, \"Prehyperten\", IF(F12<99, \"Stage 1 hyperten\", \"Stage 2 hyperten\"))))","v":""},null,"02:00:00",{"$nulls":4},{"$f":"IF(B12=\"\", \"\", B12)","v":""},{"$f":"IF(D12=\"\", \"\", D12)","v":""},{"$f":"IF(F12=\"\", \"\", F12)","v":""},{"$f":"IF(H12=\"\", \"\", H12)","v":""}]
["03:00:00",null,"",null,"",null,"",null,"03:00:00",{"$nulls":4},"","","",""]
["04:00:00",null,"",null,"",null,"",null,"04:00:00",{"$nulls":4},"","","",""]
["05:00:00",null,"",null,"",null,"",null,"05:00:00",{"$nulls":4},"","","",""]
["06:00:00",null,"",null,"",null,"",null,"06:00:00",{"$nulls":4},"","","",""]
["07:00:00",null,"",null,"",null,"",null,"07:00:00",{"$nulls":4},"","","",""]
["08:00:00",null,"",null,"",null,"",null,"08:00:00",{"$nulls":4},"","","",""]
["09:00:00",null,"",null,"",null,"",null,"09:00:00",null,"Before Breakfast",null,null,"","","",""]
["10:00:00",null,"",null,"",null,"",null,"10:00:00",null,"After Breakfast",null,null,"","","",""]
["11:00:00",null,"",null,"",null,"",null,"11:00:00",null,"Before Lunch",null,null,"","","",""]
["12:00:00",null,"",null,"",null,"",null,"00:00:00",null,"After Lunch",null,null,"","","",""]
["13:00:00",null,"",null,"",null,"",null,"13:00:00",null,"Before Dinner",null,null,"","","",""]
["14:00:00",null,"",null,"",null,"",null,"14:00:00",null,"After Dinner",null,null,"","","",""]
["15:00:00",null,"",null,"",null,"",null,"15:00:00",{"$nulls":4},"","","",""]
["16:00:00",null,"",null,"",null,"",null,"16:00:00",{"$nulls":4},"","","",""]
["17:00:00",null,"",null,"",null,"",null,"17:00:00",{"$nulls":4},"","","",""]
["18:00:00",null,"",null,"",null,"",null,"18:00:00",null,"Legend",null,null,"","","",""]
["19:00:00",null,"",null,"",null,"",null,"19:00:00",null,"BB","Before Breakfast",null,"","","",""]
["20:00:00",null,"",null,"",null,"",null,"20:00:00",null,"AB","After Breakfast",null,"","","",""]
["21:00:00",null,"",null,"",null,"",null,"21:00:00",null,"BL","Before Lunch",null,"","","",""]
["22:00:00",null,"",null,"",null,"",null,"22:00:00",null,"AL","After Lunch",null,"","","",""]
["23:00:00",null,"",null,"",null,"",null,"23:00:00",null,"BD","Before Dinner",null,"","","",""]
[1,null,"",null,"",null,"",null,"00:00:00",{"$nulls":4},"","","",""]

{"sheet":"20","index":20,"n_rows":34,"n_cols":66,"rows_kept":34,"merged":[[0,0,0,8],[1,0,1,8],[7,0,7,1],[7,2,7,3],[8,0,8,1],[8,2,8,3],[27,10,27,12],[29,11,29,12],[30,11,30,12],[31,11,31,12],[32,11,32,12]]}
[{"$f":"IF(info!$B$2=\"\", \"\", info!$B$2)","v":"Jesse Hutton"},{"$nulls":64},{"$f":"info!$B$3&\" \"&20&\", \"&info!$B$4","v":"November 20, 2014"}]
[{"$f":"IF(info!$B$3=\"\", \"\", $BN$1)","v":"November 20, 2014"}]
[null,"Sugar","Status","Sys","Status","Dia","Status","Pul"]
["Morn",{"$f":"IFERROR(SUM(B11:B21)/COUNTIF(B11:B21, \">0\"), \"\")","v":""},{"$f":"IF(B4=\"\",\"\",IF(B4<70,\"TOO LOW\",IF(B4<=80,\"LOW\",IF(B4<=120,\"Normal\",\"High\"))))","v":""},{"$f":"IFERROR(SUM(D11:D21)/COUNTIF(D11:D21, \">0\"), \"\")","v":""},{"$f":"IF(D4=\"\", \"\", IF(D4<120, \"Normal\", IF(D4<140, \"Prehyperten\", IF(D4<160, \"Stage 1 hyperten\", \"Stage 2 hyperten\"))))","v":""},{"$f":"IFERROR(SUM(F11:F21)/COUNTIF(F11:F21, \">0\"), \"\")","v":""},{"$f":"IF(F4=\"\", \"\", IF(F4<80, \"Normal\", IF(F4<89, \"Prehyperten\", IF(F4<99, \"Stage 1 hyperten\", \"Stage 2 hyperten\"))))","v":""},{"$f":"IFERROR(SUM(H11:H21)/COUNTIF(H11:H21, \">0\"), \"\")","v":""}]
["Noon",{"$f":"IFERROR(SUM(B22:B28)/COUNTIF(B22:B28, \">0\"), \"\")","v":""},{"$f":"IF(B5=\"\",\"\",IF(B5<70,\"TOO LOW\",IF(B5<=80,\"LOW\",IF(B5<=120,\"Normal\",\"High\"))))","v":""},{"$f":"IFERROR(SUM(D22:D28)/COUNTIF(D22:D28, \">0\"), \"\")","v":""},{"$f":"IF(D5=\"\", \"\", IF(D5<120, \"Normal\", IF(D5<140, \"Prehyperten\", IF(D5<160, \"Stage 1 hyperten\", \"Stage 2 hyperten\"))))","v":""},{"$f":"IFERROR(SUM(F22:F28)/COUNTIF(F22:F28, \">0\"), \"\")","v":""},{"$f":"IF(F5=\"\", \"\", IF(F5<80, \"Normal\", IF(F5<89, \"Prehyperten\", IF(F5<99, \"Stage 1 hyperten\", \"Stage 2 hyperten\"))))","v":""},{"$f":"IFERROR(SUM(H22:H28)/COUNTIF(H22:H28, \">0\"), \"\")","v":""}]
["Eve",{"$f":"IFERROR(SUM(B29:B34)/COUNTIF(B29:B34, \">0\"), \"\")","v":""},"",{"$f":"IFERROR(SUM(D29:D34)/COUNTIF(D29:D34, \">0\"), \"\")","v":""},{"$f":"IF(D6=\"\", \"\", IF(D6<120, \"Normal\", IF(D6<140, \"Prehyperten\", IF(D6<160, \"Stage 1 hyperten\", \"Stage 2 hyperten\"))))","v":""},{"$f":"IFERROR(SUM(F29:F34)/COUNTIF(F29:F34, \">0\"), \"\")","v":""},{"$f":"IF(F6=\"\", \"\", IF(F6<80, \"Normal\", IF(F6<89, \"Prehyperten\", IF(F6<99, \"Stage 1 hyperten\", \"Stage 2 hyperten\"))))","v":""},{"$f":"IFERROR(SUM(H29:H34)/COUNTIF(H29:H34, \">0\"), \"\")","v":""}]
["Daily",{"$f":"IFERROR(SUM(B11:B34)/COUNTIF(B11:B34, \">0\"), \"\")","v":""},"",{"$f":"IFERROR(SUM(D11:D34)/COUNTIF(D11:D34, \">0\"), \"\")","v":""},{"$f":"IF(D7=\"\", \"\", IF(D7<120, \"Normal\", IF(D7<140, \"Prehyperten\", IF(D7<160, \"Stage 1 hyperten\", \"Stage 2 hyperten\"))))","v":""},{"$f":"IFERROR(SUM(F11:F34)/COUNTIF(F11:F34, \">0\"), \"\")","v":""},{"$f":"IF(F7=\"\", \"\", IF(F7<80, \"Normal\", IF(F7<89, \"Prehyperten\", IF(F7<99, \"Stage 1 hyperten\", \"Stage 2 hyperten\"))))","v":""},{"$f":"IFERROR(SUM(H11:H34)/COUNTIF(H11:H34, \">0\"), \"\")","v":""}]
["Weight",{"$nulls":4},{"$f":"IFERROR(#REF!/#REF!, \"\")","v":""},null,{"$f":"IFERROR(#REF!/#REF!, \"\")","v":""}]
["Doc weight"]
["Time (MIL)","Sugar","Status","Sys","Sys status","Dia","Dia status","Pul","Time (CIV)"]
["01:00:00",null,{"$f":"IF(B11=\"\",\"\",IF(B11<70,\"TOO LOW\",IF(B11<=80,\"LOW\",IF(B11<=120,\"Normal\",\"High\"))))","v":""},null,{"$f":"IF(D11=\"\", \"\", IF(D11<120, \"Normal\", IF(D11<140, \"Prehyperten\", IF(D11<160, \"Stage 1 hyperten\", \"Stage 2 hyperten\"))))","v":""},null,{"$f":"IF(F11=\"\", \"\", IF(F11<80, \"Normal\", IF(F11<89, \"Prehyperten\", IF(F11<99, \"Stage 1 hyperten\", \"Stage 2 hyperten\"))))","v":""},null,"01:00:00",{"$nulls":4},{"$f":"IF(B11=\"\", \"\", B11)","v":""},{"$f":"IF(D11=\"\", \"\", D11)","v":""},{"$f":"IF(F11=\"\", \"\", F11)","v":""},{"$f":"IF(H11=\"\", \"\", H11)","v":""}]
["02:00:00",null,{"$f":"IF(B12=\"\",\"\",IF(B12<70,\"TOO LOW\",IF(B12<=80,\"LOW\",IF(B12<=120,\"Normal\",\"High\"))))","v":""},null,{"$f":"IF(D12=\"\", \"\", IF(D12<120, \"Normal\", IF(D12<140, \"Prehyperten\", IF(D12<160, \"Stage 1 hyperten\", \"Stage 2 hyperten\"))))","v":""},null,{"$f":"IF(F12=\"\", \"\", IF(F12<80, \"Normal\", IF(F12<89, \"Prehyperten\", IF(F12<99, \"Stage 1 hyperten\", \"Stage 2 hyperten\"))))","v":""},null,"02:00:00",{"$nulls":4},{"$f":"IF(B12=\"\", \"\", B12)","v":""},{"$f":"IF(D12=\"\", \"\", D12)","v":""},{"$f":"IF(F12=\"\", \"\", F12)","v":""},{"$f":"IF(H12=\"\", \"\", H12)","v":""}]
["03:00:00",null,"",null,"",null,"",null,"03:00:00",{"$nulls":4},"","","",""]
["04:00:00",null,"",null,"",null,"",null,"04:00:00",{"$nulls":4},"","","",""]
["05:00:00",null,"",null,"",null,"",null,"05:00:00",{"$nulls":4},"","","",""]
["06:00:00",null,"",null,"",null,"",null,"06:00:00",{"$nulls":4},"","","",""]
["07:00:00",null,"",null,"",null,"",null,"07:00:00",{"$nulls":4},"","","",""]
["08:00:00",null,"",null,"",null,"",null,"08:00:00",{"$nulls":4},"","","",""]
["09:00:00",null,"",null,"",null,"",null,"09:00:00",null,"Before Breakfast",null,null,"","","",""]
["10:00:00",null,"",null,"",null,"",null,"10:00:00",null,"After Breakfast",null,null,"","","",""]
["11:00:00",null,"",null,"",null,"",null,"11:00:00",null,"Before Lunch",null,null,"","","",""]
["12:00:00",null,"",null,"",null,"",null,"00:00:00",null,"After Lunch",null,null,"","","",""]
["13:00:00",null,"",null,"",null,"",null,"13:00:00",null,"Before Dinner",null,null,"","","",""]
["14:00:00",null,"",null,"",null,"",null,"14:00:00",null,"After Dinner",null,null,"","","",""]
["15:00:00",null,"",null,"",null,"",null,"15:00:00",{"$nulls":4},"","","",""]
["16:00:00",null,"",null,"",null,"",null,"16:00:00",{"$nulls":4},"","","",""]
["17:00:00",null,"",null,"",null,"",null,"17:00:00",{"$nulls":4},"","","",""]
["18:00:00",null,"",null,"",null,"",null,"18:00:00",null,"Legend",null,null,"","","",""]
["19:00:00",null,"",null,"",null,"",null,"19:00:00",null,"BB","Before Breakfast",null,"","","",""]
["20:00:00",null,"",null,"",null,"",null,"20:00:00",null,"AB","After Breakfast",null,"","","",""]
["21:00:00",null,"",null,"",null,"",null,"21:00:00",null,"BL","Before Lunch",null,"","","",""]
["22:00:00",null,"",null,"",null,"",null,"22:00:00",null,"AL","After Lunch",null,"","","",""]
["23:00:00",null,"",null,"",null,"",null,"23:00:00",null,"BD","Before Dinner",null,"","","",""]
[1,null,"",null,"",null,"",null,"00:00:00",{"$nulls":4},"","","",""]

{"sheet":"21","index":21,"n_rows":34,"n_cols":66,"rows_kept":34,"merged":[[0,0,0,8],[1,0,1,8],[7,0,7,1],[7,2,7,3],[8,0,8,1],[8,2,8,3],[27,10,27,12],[29,11,29,12],[30,11,30,12],[31,11,31,12],[32,11,32,12]]}
[{"$f":"IF(info!$B$2=\"\", \"\", info!$B$2)","v":"Jesse Hutton"},{"$nulls":64},{"$f":"info!$B$3&\" \"&21&\", \"&info!$B$4","v":"November 21, 2014"}]
[{"$f":"IF(info!$B$3=\"\", \"\", $BN$1)","v":"November 21, 2014"}]
[null,"Sugar","Status","Sys","Status","Dia","Status","Pul"]
["Morn",{"$f":"IFERROR(SUM(B11:B21)/COUNTIF(B11:B21, \">0\"), \"\")","v":""},{"$f":"IF(B4=\"\",\"\",IF(B4<70,\"TOO LOW\",IF(B4<=80,\"LOW\",IF(B4<=120,\"Normal\",\"High\"))))","v":""},{"$f":"IFERROR(SUM(D11:D21)/COUNTIF(D11:D21, \">0\"), \"\")","v":""},{"$f":"IF(D4=\"\", \"\", IF(D4<120, \"Normal\", IF(D4<140, \"Prehyperten\", IF(D4<160, \"Stage 1 hyperten\", \"Stage 2 hyperten\"))))","v":""},{"$f":"IFERROR(SUM(F11:F21)/COUNTIF(F11:F21, \">0\"), \"\")","v":""},{"$f":"IF(F4=\"\", \"\", IF(F4<80, \"Normal\", IF(F4<89, \"Prehyperten\", IF(F4<99, \"Stage 1 hyperten\", \"Stage 2 hyperten\"))))","v":""},{"$f":"IFERROR(SUM(H11:H21)/COUNTIF(H11:H21, \">0\"), \"\")","v":""}]
["Noon",{"$f":"IFERROR(SUM(B22:B28)/COUNTIF(B22:B28, \">0\"), \"\")","v":""},{"$f":"IF(B5=\"\",\"\",IF(B5<70,\"TOO LOW\",IF(B5<=80,\"LOW\",IF(B5<=120,\"Normal\",\"High\"))))","v":""},{"$f":"IFERROR(SUM(D22:D28)/COUNTIF(D22:D28, \">0\"), \"\")","v":""},{"$f":"IF(D5=\"\", \"\", IF(D5<120, \"Normal\", IF(D5<140, \"Prehyperten\", IF(D5<160, \"Stage 1 hyperten\", \"Stage 2 hyperten\"))))","v":""},{"$f":"IFERROR(SUM(F22:F28)/COUNTIF(F22:F28, \">0\"), \"\")","v":""},{"$f":"IF(F5=\"\", \"\", IF(F5<80, \"Normal\", IF(F5<89, \"Prehyperten\", IF(F5<99, \"Stage 1 hyperten\", \"Stage 2 hyperten\"))))","v":""},{"$f":"IFERROR(SUM(H22:H28)/COUNTIF(H22:H28, \">0\"), \"\")","v":""}]
["Eve",{"$f":"IFERROR(SUM(B29:B34)/COUNTIF(B29:B34, \">0\"), \"\")","v":""},"",{"$f":"IFERROR(SUM(D29:D34)/COUNTIF(D29:D34, \">0\"), \"\")","v":""},{"$f":"IF(D6=\"\", \"\", IF(D6<120, \"Normal\", IF(D6<140, \"Prehyperten\", IF(D6<160, \"Stage 1 hyperten\", \"Stage 2 hyperten\"))))","v":""},{"$f":"IFERROR(SUM(F29:F34)/COUNTIF(F29:F34, \">0\"), \"\")","v":""},{"$f":"IF(F6=\"\", \"\", IF(F6<80, \"Normal\", IF(F6<89, \"Prehyperten\", IF(F6<99, \"Stage 1 hyperten\", \"Stage 2 hyperten\"))))","v":""},{"$f":"IFERROR(SUM(H29:H34)/COUNTIF(H29:H34, \">0\"), \"\")","v":""}]
["Daily",{"$f":"IFERROR(SUM(B11:B34)/COUNTIF(B11:B34, \">0\"), \"\")","v":""},"",{"$f":"IFERROR(SUM(D11:D34)/COUNTIF(D11:D34, \">0\"), \"\")","v":""},{"$f":"IF(D7=\"\", \"\", IF(D7<120, \"Normal\", IF(D7<140, \"Prehyperten\", IF(D7<160, \"Stage 1 hyperten\", \"Stage 2 hyperten\"))))","v":""},{"$f":"IFERROR(SUM(F11:F34)/COUNTIF(F11:F34, \">0\"), \"\")","v":""},{"$f":"IF(F7=\"\", \"\", IF(F7<80, \"Normal\", IF(F7<89, \"Prehyperten\", IF(F7<99, \"Stage 1 hyperten\", \"Stage 2 hyperten\"))))","v":""},{"$f":"IFERROR(SUM(H11:H34)/COUNTIF(H11:H34, \">0\"), \"\")","v":""}]
["Weight",{"$nulls":4},{"$f":"IFERROR(#REF!/#REF!, \"\")","v":""},null,{"$f":"IFERROR(#REF!/#REF!, \"\")","v":""}]
["Doc weight"]
["Time (MIL)","Sugar","Status","Sys","Sys status","Dia","Dia status","Pul","Time (CIV)"]
["01:00:00",null,{"$f":"IF(B11=\"\",\"\",IF(B11<70,\"TOO LOW\",IF(B11<=80,\"LOW\",IF(B11<=120,\"Normal\",\"High\"))))","v":""},null,{"$f":"IF(D11=\"\", \"\", IF(D11<120, \"Normal\", IF(D11<140, \"Prehyperten\", IF(D11<160, \"Stage 1 hyperten\", \"Stage 2 hyperten\"))))","v":""},null,{"$f":"IF(F11=\"\", \"\", IF(F11<80, \"Normal\", IF(F11<89, \"Prehyperten\", IF(F11<99, \"Stage 1 hyperten\", \"Stage 2 hyperten\"))))","v":""},null,"01:00:00",{"$nulls":4},{"$f":"IF(B11=\"\", \"\", B11)","v":""},{"$f":"IF(D11=\"\", \"\", D11)","v":""},{"$f":"IF(F11=\"\", \"\", F11)","v":""},{"$f":"IF(H11=\"\", \"\", H11)","v":""}]
["02:00:00",null,{"$f":"IF(B12=\"\",\"\",IF(B12<70,\"TOO LOW\",IF(B12<=80,\"LOW\",IF(B12<=120,\"Normal\",\"High\"))))","v":""},null,{"$f":"IF(D12=\"\", \"\", IF(D12<120, \"Normal\", IF(D12<140, \"Prehyperten\", IF(D12<160, \"Stage 1 hyperten\", \"Stage 2 hyperten\"))))","v":""},null,{"$f":"IF(F12=\"\", \"\", IF(F12<80, \"Normal\", IF(F12<89, \"Prehyperten\", IF(F12<99, \"Stage 1 hyperten\", \"Stage 2 hyperten\"))))","v":""},null,"02:00:00",{"$nulls":4},{"$f":"IF(B12=\"\", \"\", B12)","v":""},{"$f":"IF(D12=\"\", \"\", D12)","v":""},{"$f":"IF(F12=\"\", \"\", F12)","v":""},{"$f":"IF(H12=\"\", \"\", H12)","v":""}]
["03:00:00",null,"",null,"",null,"",null,"03:00:00",{"$nulls":4},"","","",""]
["04:00:00",null,"",null,"",null,"",null,"04:00:00",{"$nulls":4},"","","",""]
["05:00:00",null,"",null,"",null,"",null,"05:00:00",{"$nulls":4},"","","",""]
["06:00:00",null,"",null,"",null,"",null,"06:00:00",{"$nulls":4},"","","",""]
["07:00:00",null,"",null,"",null,"",null,"07:00:00",{"$nulls":4},"","","",""]
["08:00:00",null,"",null,"",null,"",null,"08:00:00",{"$nulls":4},"","","",""]
["09:00:00",null,"",null,"",null,"",null,"09:00:00",null,"Before Breakfast",null,null,"","","",""]
["10:00:00",null,"",null,"",null,"",null,"10:00:00",null,"After Breakfast",null,null,"","","",""]
["11:00:00",null,"",null,"",null,"",null,"11:00:00",null,"Before Lunch",null,null,"","","",""]
["12:00:00",null,"",null,"",null,"",null,"00:00:00",null,"After Lunch",null,null,"","","",""]
["13:00:00",null,"",null,"",null,"",null,"13:00:00",null,"Before Dinner",null,null,"","","",""]
["14:00:00",null,"",null,"",null,"",null,"14:00:00",null,"After Dinner",null,null,"","","",""]
["15:00:00",null,"",null,"",null,"",null,"15:00:00",{"$nulls":4},"","","",""]
["16:00:00",null,"",null,"",null,"",null,"16:00:00",{"$nulls":4},"","","",""]
["17:00:00",null,"",null,"",null,"",null,"17:00:00",{"$nulls":4},"","","",""]
["18:00:00",null,"",null,"",null,"",null,"18:00:00",null,"Legend",null,null,"","","",""]
["19:00:00",null,"",null,"",null,"",null,"19:00:00",null,"BB","Before Breakfast",null,"","","",""]
["20:00:00",null,"",null,"",null,"",null,"20:00:00",null,"AB","After Breakfast",null,"","","",""]
["21:00:00",null,"",null,"",null,"",null,"21:00:00",null,"BL","Before Lunch",null,"","","",""]
["22:00:00",null,"",null,"",null,"",null,"22:00:00",null,"AL","After Lunch",null,"","","",""]
["23:00:00",null,"",null,"",null,"",null,"23:00:00",null,"BD","Before Dinner",null,"","","",""]
[1,null,"",null,"",null,"",null,"00:00:00",{"$nulls":4},"","","",""]

{"sheet":"22","index":22,"n_rows":34,"n_cols":66,"rows_kept":34,"merged":[[0,0,0,8],[1,0,1,8],[7,0,7,1],[7,2,7,3],[8,0,8,1],[8,2,8,3],[27,10,27,12],[29,11,29,12],[30,11,30,12],[31,11,31,12],[32,11,32,12]]}
[{"$f":"IF(info!$B$2=\"\", \"\", info!$B$2)","v":"Jesse Hutton"},{"$nulls":64},{"$f":"info!$B$3&\" \"&22&\", \"&info!$B$4","v":"November 22, 2014"}]
[{"$f":"IF(info!$B$3=\"\", \"\", $BN$1)","v":"November 22, 2014"}]
[null,"Sugar","Status","Sys","Status","Dia","Status","Pul"]
["Morn",{"$f":"IFERROR(SUM(B11:B21)/COUNTIF(B11:B21, \">0\"), \"\")","v":""},{"$f":"IF(B4=\"\",\"\",IF(B4<70,\"TOO LOW\",IF(B4<=80,\"LOW\",IF(B4<=120,\"Normal\",\"High\"))))","v":""},{"$f":"IFERROR(SUM(D11:D21)/COUNTIF(D11:D21, \">0\"), \"\")","v":""},{"$f":"IF(D4=\"\", \"\", IF(D4<120, \"Normal\", IF(D4<140, \"Prehyperten\", IF(D4<160, \"Stage 1 hyperten\", \"Stage 2 hyperten\"))))","v":""},{"$f":"IFERROR(SUM(F11:F21)/COUNTIF(F11:F21, \">0\"), \"\")","v":""},{"$f":"IF(F4=\"\", \"\", IF(F4<80, \"Normal\", IF(F4<89, \"Prehyperten\", IF(F4<99, \"Stage 1 hyperten\", \"Stage 2 hyperten\"))))","v":""},{"$f":"IFERROR(SUM(H11:H21)/COUNTIF(H11:H21, \">0\"), \"\")","v":""}]
["Noon",{"$f":"IFERROR(SUM(B22:B28)/COUNTIF(B22:B28, \">0\"), \"\")","v":""},{"$f":"IF(B5=\"\",\"\",IF(B5<70,\"TOO LOW\",IF(B5<=80,\"LOW\",IF(B5<=120,\"Normal\",\"High\"))))","v":""},{"$f":"IFERROR(SUM(D22:D28)/COUNTIF(D22:D28, \">0\"), \"\")","v":""},{"$f":"IF(D5=\"\", \"\", IF(D5<120, \"Normal\", IF(D5<140, \"Prehyperten\", IF(D5<160, \"Stage 1 hyperten\", \"Stage 2 hyperten\"))))","v":""},{"$f":"IFERROR(SUM(F22:F28)/COUNTIF(F22:F28, \">0\"), \"\")","v":""},{"$f":"IF(F5=\"\", \"\", IF(F5<80, \"Normal\", IF(F5<89, \"Prehyperten\", IF(F5<99, \"Stage 1 hyperten\", \"Stage 2 hyperten\"))))","v":""},{"$f":"IFERROR(SUM(H22:H28)/COUNTIF(H22:H28, \">0\"), \"\")","v":""}]
["Eve",{"$f":"IFERROR(SUM(B29:B34)/COUNTIF(B29:B34, \">0\"), \"\")","v":""},"",{"$f":"IFERROR(SUM(D29:D34)/COUNTIF(D29:D34, \">0\"), \"\")","v":""},{"$f":"IF(D6=\"\", \"\", IF(D6<120, \"Normal\", IF(D6<140, \"Prehyperten\", IF(D6<160, \"Stage 1 hyperten\", \"Stage 2 hyperten\"))))","v":""},{"$f":"IFERROR(SUM(F29:F34)/COUNTIF(F29:F34, \">0\"), \"\")","v":""},{"$f":"IF(F6=\"\", \"\", IF(F6<80, \"Normal\", IF(F6<89, \"Prehyperten\", IF(F6<99, \"Stage 1 hyperten\", \"Stage 2 hyperten\"))))","v":""},{"$f":"IFERROR(SUM(H29:H34)/COUNTIF(H29:H34, \">0\"), \"\")","v":""}]
["Daily",{"$f":"IFERROR(SUM(B11:B34)/COUNTIF(B11:B34, \">0\"), \"\")","v":""},"",{"$f":"IFERROR(SUM(D11:D34)/COUNTIF(D11:D34, \">0\"), \"\")","v":""},{"$f":"IF(D7=\"\", \"\", IF(D7<120, \"Normal\", IF(D7<140, \"Prehyperten\", IF(D7<160, \"Stage 1 hyperten\", \"Stage 2 hyperten\"))))","v":""},{"$f":"IFERROR(SUM(F11:F34)/COUNTIF(F11:F34, \">0\"), \"\")","v":""},{"$f":"IF(F7=\"\", \"\", IF(F7<80, \"Normal\", IF(F7<89, \"Prehyperten\", IF(F7<99, \"Stage 1 hyperten\", \"Stage 2 hyperten\"))))","v":""},{"$f":"IFERROR(SUM(H11:H34)/COUNTIF(H11:H34, \">0\"), \"\")","v":""}]
["Weight",{"$nulls":4},{"$f":"IFERROR(#REF!/#REF!, \"\")","v":""},null,{"$f":"IFERROR(#REF!/#REF!, \"\")","v":""}]
["Doc weight"]
["Time (MIL)","Sugar","Status","Sys","Sys status","Dia","Dia status","Pul","Time (CIV)"]
["01:00:00",null,{"$f":"IF(B11=\"\",\"\",IF(B11<70,\"TOO LOW\",IF(B11<=80,\"LOW\",IF(B11<=120,\"Normal\",\"High\"))))","v":""},null,{"$f":"IF(D11=\"\", \"\", IF(D11<120, \"Normal\", IF(D11<140, \"Prehyperten\", IF(D11<160, \"Stage 1 hyperten\", \"Stage 2 hyperten\"))))","v":""},null,{"$f":"IF(F11=\"\", \"\", IF(F11<80, \"Normal\", IF(F11<89, \"Prehyperten\", IF(F11<99, \"Stage 1 hyperten\", \"Stage 2 hyperten\"))))","v":""},null,"01:00:00",{"$nulls":4},{"$f":"IF(B11=\"\", \"\", B11)","v":""},{"$f":"IF(D11=\"\", \"\", D11)","v":""},{"$f":"IF(F11=\"\", \"\", F11)","v":""},{"$f":"IF(H11=\"\", \"\", H11)","v":""}]
["02:00:00",null,{"$f":"IF(B12=\"\",\"\",IF(B12<70,\"TOO LOW\",IF(B12<=80,\"LOW\",IF(B12<=120,\"Normal\",\"High\"))))","v":""},null,{"$f":"IF(D12=\"\", \"\", IF(D12<120, \"Normal\", IF(D12<140, \"Prehyperten\", IF(D12<160, \"Stage 1 hyperten\", \"Stage 2 hyperten\"))))","v":""},null,{"$f":"IF(F12=\"\", \"\", IF(F12<80, \"Normal\", IF(F12<89, \"Prehyperten\", IF(F12<99, \"Stage 1 hyperten\", \"Stage 2 hyperten\"))))","v":""},null,"02:00:00",{"$nulls":4},{"$f":"IF(B12=\"\", \"\", B12)","v":""},{"$f":"IF(D12=\"\", \"\", D12)","v":""},{"$f":"IF(F12=\"\", \"\", F12)","v":""},{"$f":"IF(H12=\"\", \"\", H12)","v":""}]
["03:00:00",null,"",null,"",null,"",null,"03:00:00",{"$nulls":4},"","","",""]
["04:00:00",null,"",null,"",null,"",null,"04:00:00",{"$nulls":4},"","","",""]
["05:00:00",null,"",null,"",null,"",null,"05:00:00",{"$nulls":4},"","","",""]
["06:00:00",null,"",null,"",null,"",null,"06:00:00",{"$nulls":4},"","","",""]
["07:00:00",null,"",null,"",null,"",null,"07:00:00",{"$nulls":4},"","","",""]
["08:00:00",null,"",null,"",null,"",null,"08:00:00",{"$nulls":4},"","","",""]
["09:00:00",null,"",null,"",null,"",null,"09:00:00",null,"Before Breakfast",null,null,"","","",""]
["10:00:00",null,"",null,"",null,"",null,"10:00:00",null,"After Breakfast",null,null,"","","",""]
["11:00:00",null,"",null,"",null,"",null,"11:00:00",null,"Before Lunch",null,null,"","","",""]
["12:00:00",null,"",null,"",null,"",null,"00:00:00",null,"After Lunch",null,null,"","","",""]
["13:00:00",null,"",null,"",null,"",null,"13:00:00",null,"Before Dinner",null,null,"","","",""]
["14:00:00",null,"",null,"",null,"",null,"14:00:00",null,"After Dinner",null,null,"","","",""]
["15:00:00",null,"",null,"",null,"",null,"15:00:00",{"$nulls":4},"","","",""]
["16:00:00",null,"",null,"",null,"",null,"16:00:00",{"$nulls":4},"","","",""]
["17:00:00",null,"",null,"",null,"",null,"17:00:00",{"$nulls":4},"","","",""]
["18:00:00",null,"",null,"",null,"",null,"18:00:00",null,"Legend",null,null,"","","",""]
["19:00:00",null,"",null,"",null,"",null,"19:00:00",null,"BB","Before Breakfast",null,"","","",""]
["20:00:00",null,"",null,"",null,"",null,"20:00:00",null,"AB","After Breakfast",null,"","","",""]
["21:00:00",null,"",null,"",null,"",null,"21:00:00",null,"BL","Before Lunch",null,"","","",""]
["22:00:00",null,"",null,"",null,"",null,"22:00:00",null,"AL","After Lunch",null,"","","",""]
["23:00:00",null,"",null,"",null,"",null,"23:00:00",null,"BD","Before Dinner",null,"","","",""]
[1,null,"",null,"",null,"",null,"00:00:00",{"$nulls":4},"","","",""]

{"sheet":"23","index":23,"n_rows":34,"n_cols":66,"rows_kept":34,"merged":[[0,0,0,8],[1,0,1,8],[7,0,7,1],[7,2,7,3],[8,0,8,1],[8,2,8,3],[27,10,27,12],[29,11,29,12],[30,11,30,12],[31,11,31,12],[32,11,32,12]]}
[{"$f":"IF(info!$B$2=\"\", \"\", info!$B$2)","v":"Jesse Hutton"},{"$nulls":64},{"$f":"info!$B$3&\" \"&23&\", \"&info!$B$4","v":"November 23, 2014"}]
[{"$f":"IF(info!$B$3=\"\", \"\", $BN$1)","v":"November 23, 2014"}]
[null,"Sugar","Status","Sys","Status","Dia","Status","Pul"]
["Morn",{"$f":"IFERROR(SUM(B11:B21)/COUNTIF(B11:B21, \">0\"), \"\")","v":""},{"$f":"IF(B4=\"\",\"\",IF(B4<70,\"TOO LOW\",IF(B4<=80,\"LOW\",IF(B4<=120,\"Normal\",\"High\"))))","v":""},{"$f":"IFERROR(SUM(D11:D21)/COUNTIF(D11:D21, \">0\"), \"\")","v":""},{"$f":"IF(D4=\"\", \"\", IF(D4<120, \"Normal\", IF(D4<140, \"Prehyperten\", IF(D4<160, \"Stage 1 hyperten\", \"Stage 2 hyperten\"))))","v":""},{"$f":"IFERROR(SUM(F11:F21)/COUNTIF(F11:F21, \">0\"), \"\")","v":""},{"$f":"IF(F4=\"\", \"\", IF(F4<80, \"Normal\", IF(F4<89, \"Prehyperten\", IF(F4<99, \"Stage 1 hyperten\", \"Stage 2 hyperten\"))))","v":""},{"$f":"IFERROR(SUM(H11:H21)/COUNTIF(H11:H21, \">0\"), \"\")","v":""}]
["Noon",{"$f":"IFERROR(SUM(B22:B28)/COUNTIF(B22:B28, \">0\"), \"\")","v":""},{"$f":"IF(B5=\"\",\"\",IF(B5<70,\"TOO LOW\",IF(B5<=80,\"LOW\",IF(B5<=120,\"Normal\",\"High\"))))","v":""},{"$f":"IFERROR(SUM(D22:D28)/COUNTIF(D22:D28, \">0\"), \"\")","v":""},{"$f":"IF(D5=\"\", \"\", IF(D5<120, \"Normal\", IF(D5<140, \"Prehyperten\", IF(D5<160, \"Stage 1 hyperten\", \"Stage 2 hyperten\"))))","v":""},{"$f":"IFERROR(SUM(F22:F28)/COUNTIF(F22:F28, \">0\"), \"\")","v":""},{"$f":"IF(F5=\"\", \"\", IF(F5<80, \"Normal\", IF(F5<89, \"Prehyperten\", IF(F5<99, \"Stage 1 hyperten\", \"Stage 2 hyperten\"))))","v":""},{"$f":"IFERROR(SUM(H22:H28)/COUNTIF(H22:H28, \">0\"), \"\")","v":""}]
["Eve",{"$f":"IFERROR(SUM(B29:B34)/COUNTIF(B29:B34, \">0\"), \"\")","v":""},"",{"$f":"IFERROR(SUM(D29:D34)/COUNTIF(D29:D34, \">0\"), \"\")","v":""},{"$f":"IF(D6=\"\", \"\", IF(D6<120, \"Normal\", IF(D6<140, \"Prehyperten\", IF(D6<160, \"Stage 1 hyperten\", \"Stage 2 hyperten\"))))","v":""},{"$f":"IFERROR(SUM(F29:F34)/COUNTIF(F29:F34, \">0\"), \"\")","v":""},{"$f":"IF(F6=\"\", \"\", IF(F6<80, \"Normal\", IF(F6<89, \"Prehyperten\", IF(F6<99, \"Stage 1 hyperten\", \"Stage 2 hyperten\"))))","v":""},{"$f":"IFERROR(SUM(H29:H34)/COUNTIF(H29:H34, \">0\"), \"\")","v":""}]
["Daily",{"$f":"IFERROR(SUM(B11:B34)/COUNTIF(B11:B34, \">0\"), \"\")","v":""},"",{"$f":"IFERROR(SUM(D11:D34)/COUNTIF(D11:D34, \">0\"), \"\")","v":""},{"$f":"IF(D7=\"\", \"\", IF(D7<120, \"Normal\", IF(D7<140, \"Prehyperten\", IF(D7<160, \"Stage 1 hyperten\", \"Stage 2 hyperten\"))))","v":""},{"$f":"IFERROR(SUM(F11:F34)/COUNTIF(F11:F34, \">0\"), \"\")","v":""},{"$f":"IF(F7=\"\", \"\", IF(F7<80, \"Normal\", IF(F7<89, \"Prehyperten\", IF(F7<99, \"Stage 1 hyperten\", \"Stage 2 hyperten\"))))","v":""},{"$f":"IFERROR(SUM(H11:H34)/COUNTIF(H11:H34, \">0\"), \"\")","v":""}]
["Weight",{"$nulls":4},{"$f":"IFERROR(#REF!/#REF!, \"\")","v":""},null,{"$f":"IFERROR(#REF!/#REF!, \"\")","v":""}]
["Doc weight"]
["Time (MIL)","Sugar","Status","Sys","Sys status","Dia","Dia status","Pul","Time (CIV)"]
["01:00:00",null,{"$f":"IF(B11=\"\",\"\",IF(B11<70,\"TOO LOW\",IF(B11<=80,\"LOW\",IF(B11<=120,\"Normal\",\"High\"))))","v":""},null,{"$f":"IF(D11=\"\", \"\", IF(D11<120, \"Normal\", IF(D11<140, \"Prehyperten\", IF(D11<160, \"Stage 1 hyperten\", \"Stage 2 hyperten\"))))","v":""},null,{"$f":"IF(F11=\"\", \"\", IF(F11<80, \"Normal\", IF(F11<89, \"Prehyperten\", IF(F11<99, \"Stage 1 hyperten\", \"Stage 2 hyperten\"))))","v":""},null,"01:00:00",{"$nulls":4},{"$f":"IF(B11=\"\", \"\", B11)","v":""},{"$f":"IF(D11=\"\", \"\", D11)","v":""},{"$f":"IF(F11=\"\", \"\", F11)","v":""},{"$f":"IF(H11=\"\", \"\", H11)","v":""}]
["02:00:00",null,{"$f":"IF(B12=\"\",\"\",IF(B12<70,\"TOO LOW\",IF(B12<=80,\"LOW\",IF(B12<=120,\"Normal\",\"High\"))))","v":""},null,{"$f":"IF(D12=\"\", \"\", IF(D12<120, \"Normal\", IF(D12<140, \"Prehyperten\", IF(D12<160, \"Stage 1 hyperten\", \"Stage 2 hyperten\"))))","v":""},null,{"$f":"IF(F12=\"\", \"\", IF(F12<80, \"Normal\", IF(F12<89, \"Prehyperten\", IF(F12<99, \"Stage 1 hyperten\", \"Stage 2 hyperten\"))))","v":""},null,"02:00:00",{"$nulls":4},{"$f":"IF(B12=\"\", \"\", B12)","v":""},{"$f":"IF(D12=\"\", \"\", D12)","v":""},{"$f":"IF(F12=\"\", \"\", F12)","v":""},{"$f":"IF(H12=\"\", \"\", H12)","v":""}]
["03:00:00",null,"",null,"",null,"",null,"03:00:00",{"$nulls":4},"","","",""]
["04:00:00",null,"",null,"",null,"",null,"04:00:00",{"$nulls":4},"","","",""]
["05:00:00",null,"",null,"",null,"",null,"05:00:00",{"$nulls":4},"","","",""]
["06:00:00",null,"",null,"",null,"",null,"06:00:00",{"$nulls":4},"","","",""]
["07:00:00",null,"",null,"",null,"",null,"07:00:00",{"$nulls":4},"","","",""]
["08:00:00",null,"",null,"",null,"",null,"08:00:00",{"$nulls":4},"","","",""]
["09:00:00",null,"",null,"",null,"",null,"09:00:00",null,"Before Breakfast",null,null,"","","",""]
["10:00:00",null,"",null,"",null,"",null,"10:00:00",null,"After Breakfast",null,null,"","","",""]
["11:00:00",null,"",null,"",null,"",null,"11:00:00",null,"Before Lunch",null,null,"","","",""]
["12:00:00",null,"",null,"",null,"",null,"00:00:00",null,"After Lunch",null,null,"","","",""]
["13:00:00",null,"",null,"",null,"",null,"13:00:00",null,"Before Dinner",null,null,"","","",""]
["14:00:00",null,"",null,"",null,"",null,"14:00:00",null,"After Dinner",null,null,"","","",""]
["15:00:00",null,"",null,"",null,"",null,"15:00:00",{"$nulls":4},"","","",""]
["16:00:00",null,"",null,"",null,"",null,"16:00:00",{"$nulls":4},"","","",""]
["17:00:00",null,"",null,"",null,"",null,"17:00:00",{"$nulls":4},"","","",""]
["18:00:00",null,"",null,"",null,"",null,"18:00:00",null,"Legend",null,null,"","","",""]
["19:00:00",null,"",null,"",null,"",null,"19:00:00",null,"BB","Before Breakfast",null,"","","",""]
["20:00:00",null,"",null,"",null,"",null,"20:00:00",null,"AB","After Breakfast",null,"","","",""]
["21:00:00",null,"",null,"",null,"",null,"21:00:00",null,"BL","Before Lunch",null,"","","",""]
["22:00:00",null,"",null,"",null,"",null,"22:00:00",null,"AL","After Lunch",null,"","","",""]
["23:00:00",null,"",null,"",null,"",null,"23:00:00",null,"BD","Before Dinner",null,"","","",""]
[1,null,"",null,"",null,"",null,"00:00:00",{"$nulls":4},"","","",""]

{"sheet":"24","index":24,"n_rows":34,"n_cols":66,"rows_kept":34,"merged":[[0,0,0,8],[1,0,1,8],[7,0,7,1],[7,2,7,3],[8,0,8,1],[8,2,8,3],[27,10,27,12],[29,11,29,12],[30,11,30,12],[31,11,31,12],[32,11,32,12]]}
[{"$f":"IF(info!$B$2=\"\", \"\", info!$B$2)","v":"Jesse Hutton"},{"$nulls":64},{"$f":"info!$B$3&\" \"&24&\", \"&info!$B$4","v":"November 24, 2014"}]
[{"$f":"IF(info!$B$3=\"\", \"\", $BN$1)","v":"November 24, 2014"}]
[null,"Sugar","Status","Sys","Status","Dia","Status","Pul"]
["Morn",{"$f":"IFERROR(SUM(B11:B21)/COUNTIF(B11:B21, \">0\"), \"\")","v":""},{"$f":"IF(B4=\"\",\"\",IF(B4<70,\"TOO LOW\",IF(B4<=80,\"LOW\",IF(B4<=120,\"Normal\",\"High\"))))","v":""},{"$f":"IFERROR(SUM(D11:D21)/COUNTIF(D11:D21, \">0\"), \"\")","v":""},{"$f":"IF(D4=\"\", \"\", IF(D4<120, \"Normal\", IF(D4<140, \"Prehyperten\", IF(D4<160, \"Stage 1 hyperten\", \"Stage 2 hyperten\"))))","v":""},{"$f":"IFERROR(SUM(F11:F21)/COUNTIF(F11:F21, \">0\"), \"\")","v":""},{"$f":"IF(F4=\"\", \"\", IF(F4<80, \"Normal\", IF(F4<89, \"Prehyperten\", IF(F4<99, \"Stage 1 hyperten\", \"Stage 2 hyperten\"))))","v":""},{"$f":"IFERROR(SUM(H11:H21)/COUNTIF(H11:H21, \">0\"), \"\")","v":""}]
["Noon",{"$f":"IFERROR(SUM(B22:B28)/COUNTIF(B22:B28, \">0\"), \"\")","v":""},{"$f":"IF(B5=\"\",\"\",IF(B5<70,\"TOO LOW\",IF(B5<=80,\"LOW\",IF(B5<=120,\"Normal\",\"High\"))))","v":""},{"$f":"IFERROR(SUM(D22:D28)/COUNTIF(D22:D28, \">0\"), \"\")","v":""},{"$f":"IF(D5=\"\", \"\", IF(D5<120, \"Normal\", IF(D5<140, \"Prehyperten\", IF(D5<160, \"Stage 1 hyperten\", \"Stage 2 hyperten\"))))","v":""},{"$f":"IFERROR(SUM(F22:F28)/COUNTIF(F22:F28, \">0\"), \"\")","v":""},{"$f":"IF(F5=\"\", \"\", IF(F5<80, \"Normal\", IF(F5<89, \"Prehyperten\", IF(F5<99, \"Stage 1 hyperten\", \"Stage 2 hyperten\"))))","v":""},{"$f":"IFERROR(SUM(H22:H28)/COUNTIF(H22:H28, \">0\"), \"\")","v":""}]
["Eve",{"$f":"IFERROR(SUM(B29:B34)/COUNTIF(B29:B34, \">0\"), \"\")","v":""},"",{"$f":"IFERROR(SUM(D29:D34)/COUNTIF(D29:D34, \">0\"), \"\")","v":""},{"$f":"IF(D6=\"\", \"\", IF(D6<120, \"Normal\", IF(D6<140, \"Prehyperten\", IF(D6<160, \"Stage 1 hyperten\", \"Stage 2 hyperten\"))))","v":""},{"$f":"IFERROR(SUM(F29:F34)/COUNTIF(F29:F34, \">0\"), \"\")","v":""},{"$f":"IF(F6=\"\", \"\", IF(F6<80, \"Normal\", IF(F6<89, \"Prehyperten\", IF(F6<99, \"Stage 1 hyperten\", \"Stage 2 hyperten\"))))","v":""},{"$f":"IFERROR(SUM(H29:H34)/COUNTIF(H29:H34, \">0\"), \"\")","v":""}]
["Daily",{"$f":"IFERROR(SUM(B11:B34)/COUNTIF(B11:B34, \">0\"), \"\")","v":""},"",{"$f":"IFERROR(SUM(D11:D34)/COUNTIF(D11:D34, \">0\"), \"\")","v":""},{"$f":"IF(D7=\"\", \"\", IF(D7<120, \"Normal\", IF(D7<140, \"Prehyperten\", IF(D7<160, \"Stage 1 hyperten\", \"Stage 2 hyperten\"))))","v":""},{"$f":"IFERROR(SUM(F11:F34)/COUNTIF(F11:F34, \">0\"), \"\")","v":""},{"$f":"IF(F7=\"\", \"\", IF(F7<80, \"Normal\", IF(F7<89, \"Prehyperten\", IF(F7<99, \"Stage 1 hyperten\", \"Stage 2 hyperten\"))))","v":""},{"$f":"IFERROR(SUM(H11:H34)/COUNTIF(H11:H34, \">0\"), \"\")","v":""}]
["Weight",{"$nulls":4},{"$f":"IFERROR(#REF!/#REF!, \"\")","v":""},null,{"$f":"IFERROR(#REF!/#REF!, \"\")","v":""}]
["Doc weight"]
["Time (MIL)","Sugar","Status","Sys","Sys status","Dia","Dia status","Pul","Time (CIV)"]
["01:00:00",null,{"$f":"IF(B11=\"\",\"\",IF(B11<70,\"TOO LOW\",IF(B11<=80,\"LOW\",IF(B11<=120,\"Normal\",\"High\"))))","v":""},null,{"$f":"IF(D11=\"\", \"\", IF(D11<120, \"Normal\", IF(D11<140, \"Prehyperten\", IF(D11<160, \"Stage 1 hyperten\", \"Stage 2 hyperten\"))))","v":""},null,{"$f":"IF(F11=\"\", \"\", IF(F11<80, \"Normal\", IF(F11<89, \"Prehyperten\", IF(F11<99, \"Stage 1 hyperten\", \"Stage 2 hyperten\"))))","v":""},null,"01:00:00",{"$nulls":4},{"$f":"IF(B11=\"\", \"\", B11)","v":""},{"$f":"IF(D11=\"\", \"\", D11)","v":""},{"$f":"IF(F11=\"\", \"\", F11)","v":""},{"$f":"IF(H11=\"\", \"\", H11)","v":""}]
["02:00:00",null,{"$f":"IF(B12=\"\",\"\",IF(B12<70,\"TOO LOW\",IF(B12<=80,\"LOW\",IF(B12<=120,\"Normal\",\"High\"))))","v":""},null,{"$f":"IF(D12=\"\", \"\", IF(D12<120, \"Normal\", IF(D12<140, \"Prehyperten\", IF(D12<160, \"Stage 1 hyperten\", \"Stage 2 hyperten\"))))","v":""},null,{"$f":"IF(F12=\"\", \"\", IF(F12<80, \"Normal\", IF(F12<89, \"Prehyperten\", IF(F12<99, \"Stage 1 hyperten\", \"Stage 2 hyperten\"))))","v":""},null,"02:00:00",{"$nulls":4},{"$f":"IF(B12=\"\", \"\", B12)","v":""},{"$f":"IF(D12=\"\", \"\", D12)","v":""},{"$f":"IF(F12=\"\", \"\", F12)","v":""},{"$f":"IF(H12=\"\", \"\", H12)","v":""}]
["03:00:00",null,"",null,"",null,"",null,"03:00:00",{"$nulls":4},"","","",""]
["04:00:00",null,"",null,"",null,"",null,"04:00:00",{"$nulls":4},"","","",""]
["05:00:00",null,"",null,"",null,"",null,"05:00:00",{"$nulls":4},"","","",""]
["06:00:00",null,"",null,"",null,"",null,"06:00:00",{"$nulls":4},"","","",""]
["07:00:00",null,"",null,"",null,"",null,"07:00:00",{"$nulls":4},"","","",""]
["08:00:00",null,"",null,"",null,"",null,"08:00:00",{"$nulls":4},"","","",""]
["09:00:00",null,"",null,"",null,"",null,"09:00:00",null,"Before Breakfast",null,null,"","","",""]
["10:00:00",null,"",null,"",null,"",null,"10:00:00",null,"After Breakfast",null,null,"","","",""]
["11:00:00",null,"",null,"",null,"",null,"11:00:00",null,"Before Lunch",null,null,"","","",""]
["12:00:00",null,"",null,"",null,"",null,"00:00:00",null,"After Lunch",null,null,"","","",""]
["13:00:00",null,"",null,"",null,"",null,"13:00:00",null,"Before Dinner",null,null,"","","",""]
["14:00:00",null,"",null,"",null,"",null,"14:00:00",null,"After Dinner",null,null,"","","",""]
["15:00:00",null,"",null,"",null,"",null,"15:00:00",{"$nulls":4},"","","",""]
["16:00:00",null,"",null,"",null,"",null,"16:00:00",{"$nulls":4},"","","",""]
["17:00:00",null,"",null,"",null,"",null,"17:00:00",{"$nulls":4},"","","",""]
["18:00:00",null,"",null,"",null,"",null,"18:00:00",null,"Legend",null,null,"","","",""]
["19:00:00",null,"",null,"",null,"",null,"19:00:00",null,"BB","Before Breakfast",null,"","","",""]
["20:00:00",null,"",null,"",null,"",null,"20:00:00",null,"AB","After Breakfast",null,"","","",""]
["21:00:00",null,"",null,"",null,"",null,"21:00:00",null,"BL","Before Lunch",null,"","","",""]
["22:00:00",null,"",null,"",null,"",null,"22:00:00",null,"AL","After Lunch",null,"","","",""]
["23:00:00",null,"",null,"",null,"",null,"23:00:00",null,"BD","Before Dinner",null,"","","",""]
[1,null,"",null,"",null,"",null,"00:00:00",{"$nulls":4},"","","",""]

{"sheet":"25","index":25,"n_rows":34,"n_cols":66,"rows_kept":34,"merged":[[0,0,0,8],[1,0,1,8],[7,0,7,1],[7,2,7,3],[8,0,8,1],[8,2,8,3],[27,10,27,12],[29,11,29,12],[30,11,30,12],[31,11,31,12],[32,11,32,12]]}
[{"$f":"IF(info!$B$2=\"\", \"\", info!$B$2)","v":"Jesse Hutton"},{"$nulls":64},{"$f":"info!$B$3&\" \"&25&\", \"&info!$B$4","v":"November 25, 2014"}]
[{"$f":"IF(info!$B$3=\"\", \"\", $BN$1)","v":"November 25, 2014"}]
[null,"Sugar","Status","Sys","Status","Dia","Status","Pul"]
["Morn",{"$f":"IFERROR(SUM(B11:B21)/COUNTIF(B11:B21, \">0\"), \"\")","v":""},{"$f":"IF(B4=\"\",\"\",IF(B4<70,\"TOO LOW\",IF(B4<=80,\"LOW\",IF(B4<=120,\"Normal\",\"High\"))))","v":""},{"$f":"IFERROR(SUM(D11:D21)/COUNTIF(D11:D21, \">0\"), \"\")","v":""},{"$f":"IF(D4=\"\", \"\", IF(D4<120, \"Normal\", IF(D4<140, \"Prehyperten\", IF(D4<160, \"Stage 1 hyperten\", \"Stage 2 hyperten\"))))","v":""},{"$f":"IFERROR(SUM(F11:F21)/COUNTIF(F11:F21, \">0\"), \"\")","v":""},{"$f":"IF(F4=\"\", \"\", IF(F4<80, \"Normal\", IF(F4<89, \"Prehyperten\", IF(F4<99, \"Stage 1 hyperten\", \"Stage 2 hyperten\"))))","v":""},{"$f":"IFERROR(SUM(H11:H21)/COUNTIF(H11:H21, \">0\"), \"\")","v":""}]
["Noon",{"$f":"IFERROR(SUM(B22:B28)/COUNTIF(B22:B28, \">0\"), \"\")","v":""},{"$f":"IF(B5=\"\",\"\",IF(B5<70,\"TOO LOW\",IF(B5<=80,\"LOW\",IF(B5<=120,\"Normal\",\"High\"))))","v":""},{"$f":"IFERROR(SUM(D22:D28)/COUNTIF(D22:D28, \">0\"), \"\")","v":""},{"$f":"IF(D5=\"\", \"\", IF(D5<120, \"Normal\", IF(D5<140, \"Prehyperten\", IF(D5<160, \"Stage 1 hyperten\", \"Stage 2 hyperten\"))))","v":""},{"$f":"IFERROR(SUM(F22:F28)/COUNTIF(F22:F28, \">0\"), \"\")","v":""},{"$f":"IF(F5=\"\", \"\", IF(F5<80, \"Normal\", IF(F5<89, \"Prehyperten\", IF(F5<99, \"Stage 1 hyperten\", \"Stage 2 hyperten\"))))","v":""},{"$f":"IFERROR(SUM(H22:H28)/COUNTIF(H22:H28, \">0\"), \"\")","v":""}]
["Eve",{"$f":"IFERROR(SUM(B29:B34)/COUNTIF(B29:B34, \">0\"), \"\")","v":""},"",{"$f":"IFERROR(SUM(D29:D34)/COUNTIF(D29:D34, \">0\"), \"\")","v":""},{"$f":"IF(D6=\"\", \"\", IF(D6<120, \"Normal\", IF(D6<140, \"Prehyperten\", IF(D6<160, \"Stage 1 hyperten\", \"Stage 2 hyperten\"))))","v":""},{"$f":"IFERROR(SUM(F29:F34)/COUNTIF(F29:F34, \">0\"), \"\")","v":""},{"$f":"IF(F6=\"\", \"\", IF(F6<80, \"Normal\", IF(F6<89, \"Prehyperten\", IF(F6<99, \"Stage 1 hyperten\", \"Stage 2 hyperten\"))))","v":""},{"$f":"IFERROR(SUM(H29:H34)/COUNTIF(H29:H34, \">0\"), \"\")","v":""}]
["Daily",{"$f":"IFERROR(SUM(B11:B34)/COUNTIF(B11:B34, \">0\"), \"\")","v":""},"",{"$f":"IFERROR(SUM(D11:D34)/COUNTIF(D11:D34, \">0\"), \"\")","v":""},{"$f":"IF(D7=\"\", \"\", IF(D7<120, \"Normal\", IF(D7<140, \"Prehyperten\", IF(D7<160, \"Stage 1 hyperten\", \"Stage 2 hyperten\"))))","v":""},{"$f":"IFERROR(SUM(F11:F34)/COUNTIF(F11:F34, \">0\"), \"\")","v":""},{"$f":"IF(F7=\"\", \"\", IF(F7<80, \"Normal\", IF(F7<89, \"Prehyperten\", IF(F7<99, \"Stage 1 hyperten\", \"Stage 2 hyperten\"))))","v":""},{"$f":"IFERROR(SUM(H11:H34)/COUNTIF(H11:H34, \">0\"), \"\")","v":""}]
["Weight",{"$nulls":4},{"$f":"IFERROR(#REF!/#REF!, \"\")","v":""},null,{"$f":"IFERROR(#REF!/#REF!, \"\")","v":""}]
["Doc weight"]
["Time (MIL)","Sugar","Status","Sys","Sys status","Dia","Dia status","Pul","Time (CIV)"]
["01:00:00",null,{"$f":"IF(B11=\"\",\"\",IF(B11<70,\"TOO LOW\",IF(B11<=80,\"LOW\",IF(B11<=120,\"Normal\",\"High\"))))","v":""},null,{"$f":"IF(D11=\"\", \"\", IF(D11<120, \"Normal\", IF(D11<140, \"Prehyperten\", IF(D11<160, \"Stage 1 hyperten\", \"Stage 2 hyperten\"))))","v":""},null,{"$f":"IF(F11=\"\", \"\", IF(F11<80, \"Normal\", IF(F11<89, \"Prehyperten\", IF(F11<99, \"Stage 1 hyperten\", \"Stage 2 hyperten\"))))","v":""},null,"01:00:00",{"$nulls":4},{"$f":"IF(B11=\"\", \"\", B11)","v":""},{"$f":"IF(D11=\"\", \"\", D11)","v":""},{"$f":"IF(F11=\"\", \"\", F11)","v":""},{"$f":"IF(H11=\"\", \"\", H11)","v":""}]
["02:00:00",null,{"$f":"IF(B12=\"\",\"\",IF(B12<70,\"TOO LOW\",IF(B12<=80,\"LOW\",IF(B12<=120,\"Normal\",\"High\"))))","v":""},null,{"$f":"IF(D12=\"\", \"\", IF(D12<120, \"Normal\", IF(D12<140, \"Prehyperten\", IF(D12<160, \"Stage 1 hyperten\", \"Stage 2 hyperten\"))))","v":""},null,{"$f":"IF(F12=\"\", \"\", IF(F12<80, \"Normal\", IF(F12<89, \"Prehyperten\", IF(F12<99, \"Stage 1 hyperten\", \"Stage 2 hyperten\"))))","v":""},null,"02:00:00",{"$nulls":4},{"$f":"IF(B12=\"\", \"\", B12)","v":""},{"$f":"IF(D12=\"\", \"\", D12)","v":""},{"$f":"IF(F12=\"\", \"\", F12)","v":""},{"$f":"IF(H12=\"\", \"\", H12)","v":""}]
["03:00:00",null,"",null,"",null,"",null,"03:00:00",{"$nulls":4},"","","",""]
["04:00:00",null,"",null,"",null,"",null,"04:00:00",{"$nulls":4},"","","",""]
["05:00:00",null,"",null,"",null,"",null,"05:00:00",{"$nulls":4},"","","",""]
["06:00:00",null,"",null,"",null,"",null,"06:00:00",{"$nulls":4},"","","",""]
["07:00:00",null,"",null,"",null,"",null,"07:00:00",{"$nulls":4},"","","",""]
["08:00:00",null,"",null,"",null,"",null,"08:00:00",{"$nulls":4},"","","",""]
["09:00:00",null,"",null,"",null,"",null,"09:00:00",null,"Before Breakfast",null,null,"","","",""]
["10:00:00",null,"",null,"",null,"",null,"10:00:00",null,"After Breakfast",null,null,"","","",""]
["11:00:00",null,"",null,"",null,"",null,"11:00:00",null,"Before Lunch",null,null,"","","",""]
["12:00:00",null,"",null,"",null,"",null,"00:00:00",null,"After Lunch",null,null,"","","",""]
["13:00:00",null,"",null,"",null,"",null,"13:00:00",null,"Before Dinner",null,null,"","","",""]
["14:00:00",null,"",null,"",null,"",null,"14:00:00",null,"After Dinner",null,null,"","","",""]
["15:00:00",null,"",null,"",null,"",null,"15:00:00",{"$nulls":4},"","","",""]
["16:00:00",null,"",null,"",null,"",null,"16:00:00",{"$nulls":4},"","","",""]
["17:00:00",null,"",null,"",null,"",null,"17:00:00",{"$nulls":4},"","","",""]
["18:00:00",null,"",null,"",null,"",null,"18:00:00",null,"Legend",null,null,"","","",""]
["19:00:00",null,"",null,"",null,"",null,"19:00:00",null,"BB","Before Breakfast",null,"","","",""]
["20:00:00",null,"",null,"",null,"",null,"20:00:00",null,"AB","After Breakfast",null,"","","",""]
["21:00:00",null,"",null,"",null,"",null,"21:00:00",null,"BL","Before Lunch",null,"","","",""]
["22:00:00",null,"",null,"",null,"",null,"22:00:00",null,"AL","After Lunch",null,"","","",""]
["23:00:00",null,"",null,"",null,"",null,"23:00:00",null,"BD","Before Dinner",null,"","","",""]
[1,null,"",null,"",null,"",null,"00:00:00",{"$nulls":4},"","","",""]

{"sheet":"26","index":26,"n_rows":34,"n_cols":66,"rows_kept":34,"merged":[[0,0,0,8],[1,0,1,8],[7,0,7,1],[7,2,7,3],[8,0,8,1],[8,2,8,3],[27,10,27,12],[29,11,29,12],[30,11,30,12],[31,11,31,12],[32,11,32,12]]}
[{"$f":"IF(info!$B$2=\"\", \"\", info!$B$2)","v":"Jesse Hutton"},{"$nulls":64},{"$f":"info!$B$3&\" \"&26&\", \"&info!$B$4","v":"November 26, 2014"}]
[{"$f":"IF(info!$B$3=\"\", \"\", $BN$1)","v":"November 26, 2014"}]
[null,"Sugar","Status","Sys","Status","Dia","Status","Pul"]
["Morn",{"$f":"IFERROR(SUM(B11:B21)/COUNTIF(B11:B21, \">0\"), \"\")","v":""},{"$f":"IF(B4=\"\",\"\",IF(B4<70,\"TOO LOW\",IF(B4<=80,\"LOW\",IF(B4<=120,\"Normal\",\"High\"))))","v":""},{"$f":"IFERROR(SUM(D11:D21)/COUNTIF(D11:D21, \">0\"), \"\")","v":""},{"$f":"IF(D4=\"\", \"\", IF(D4<120, \"Normal\", IF(D4<140, \"Prehyperten\", IF(D4<160, \"Stage 1 hyperten\", \"Stage 2 hyperten\"))))","v":""},{"$f":"IFERROR(SUM(F11:F21)/COUNTIF(F11:F21, \">0\"), \"\")","v":""},{"$f":"IF(F4=\"\", \"\", IF(F4<80, \"Normal\", IF(F4<89, \"Prehyperten\", IF(F4<99, \"Stage 1 hyperten\", \"Stage 2 hyperten\"))))","v":""},{"$f":"IFERROR(SUM(H11:H21)/COUNTIF(H11:H21, \">0\"), \"\")","v":""}]
["Noon",{"$f":"IFERROR(SUM(B22:B28)/COUNTIF(B22:B28, \">0\"), \"\")","v":""},{"$f":"IF(B5=\"\",\"\",IF(B5<70,\"TOO LOW\",IF(B5<=80,\"LOW\",IF(B5<=120,\"Normal\",\"High\"))))","v":""},{"$f":"IFERROR(SUM(D22:D28)/COUNTIF(D22:D28, \">0\"), \"\")","v":""},{"$f":"IF(D5=\"\", \"\", IF(D5<120, \"Normal\", IF(D5<140, \"Prehyperten\", IF(D5<160, \"Stage 1 hyperten\", \"Stage 2 hyperten\"))))","v":""},{"$f":"IFERROR(SUM(F22:F28)/COUNTIF(F22:F28, \">0\"), \"\")","v":""},{"$f":"IF(F5=\"\", \"\", IF(F5<80, \"Normal\", IF(F5<89, \"Prehyperten\", IF(F5<99, \"Stage 1 hyperten\", \"Stage 2 hyperten\"))))","v":""},{"$f":"IFERROR(SUM(H22:H28)/COUNTIF(H22:H28, \">0\"), \"\")","v":""}]
["Eve",{"$f":"IFERROR(SUM(B29:B34)/COUNTIF(B29:B34, \">0\"), \"\")","v":""},"",{"$f":"IFERROR(SUM(D29:D34)/COUNTIF(D29:D34, \">0\"), \"\")","v":""},{"$f":"IF(D6=\"\", \"\", IF(D6<120, \"Normal\", IF(D6<140, \"Prehyperten\", IF(D6<160, \"Stage 1 hyperten\", \"Stage 2 hyperten\"))))","v":""},{"$f":"IFERROR(SUM(F29:F34)/COUNTIF(F29:F34, \">0\"), \"\")","v":""},{"$f":"IF(F6=\"\", \"\", IF(F6<80, \"Normal\", IF(F6<89, \"Prehyperten\", IF(F6<99, \"Stage 1 hyperten\", \"Stage 2 hyperten\"))))","v":""},{"$f":"IFERROR(SUM(H29:H34)/COUNTIF(H29:H34, \">0\"), \"\")","v":""}]
["Daily",{"$f":"IFERROR(SUM(B11:B34)/COUNTIF(B11:B34, \">0\"), \"\")","v":""},"",{"$f":"IFERROR(SUM(D11:D34)/COUNTIF(D11:D34, \">0\"), \"\")","v":""},{"$f":"IF(D7=\"\", \"\", IF(D7<120, \"Normal\", IF(D7<140, \"Prehyperten\", IF(D7<160, \"Stage 1 hyperten\", \"Stage 2 hyperten\"))))","v":""},{"$f":"IFERROR(SUM(F11:F34)/COUNTIF(F11:F34, \">0\"), \"\")","v":""},{"$f":"IF(F7=\"\", \"\", IF(F7<80, \"Normal\", IF(F7<89, \"Prehyperten\", IF(F7<99, \"Stage 1 hyperten\", \"Stage 2 hyperten\"))))","v":""},{"$f":"IFERROR(SUM(H11:H34)/COUNTIF(H11:H34, \">0\"), \"\")","v":""}]
["Weight",{"$nulls":4},{"$f":"IFERROR(#REF!/#REF!, \"\")","v":""},null,{"$f":"IFERROR(#REF!/#REF!, \"\")","v":""}]
["Doc weight"]
["Time (MIL)","Sugar","Status","Sys","Sys status","Dia","Dia status","Pul","Time (CIV)"]
["01:00:00",null,{"$f":"IF(B11=\"\",\"\",IF(B11<70,\"TOO LOW\",IF(B11<=80,\"LOW\",IF(B11<=120,\"Normal\",\"High\"))))","v":""},null,{"$f":"IF(D11=\"\", \"\", IF(D11<120, \"Normal\", IF(D11<140, \"Prehyperten\", IF(D11<160, \"Stage 1 hyperten\", \"Stage 2 hyperten\"))))","v":""},null,{"$f":"IF(F11=\"\", \"\", IF(F11<80, \"Normal\", IF(F11<89, \"Prehyperten\", IF(F11<99, \"Stage 1 hyperten\", \"Stage 2 hyperten\"))))","v":""},null,"01:00:00",{"$nulls":4},{"$f":"IF(B11=\"\", \"\", B11)","v":""},{"$f":"IF(D11=\"\", \"\", D11)","v":""},{"$f":"IF(F11=\"\", \"\", F11)","v":""},{"$f":"IF(H11=\"\", \"\", H11)","v":""}]
["02:00:00",null,{"$f":"IF(B12=\"\",\"\",IF(B12<70,\"TOO LOW\",IF(B12<=80,\"LOW\",IF(B12<=120,\"Normal\",\"High\"))))","v":""},null,{"$f":"IF(D12=\"\", \"\", IF(D12<120, \"Normal\", IF(D12<140, \"Prehyperten\", IF(D12<160, \"Stage 1 hyperten\", \"Stage 2 hyperten\"))))","v":""},null,{"$f":"IF(F12=\"\", \"\", IF(F12<80, \"Normal\", IF(F12<89, \"Prehyperten\", IF(F12<99, \"Stage 1 hyperten\", \"Stage 2 hyperten\"))))","v":""},null,"02:00:00",{"$nulls":4},{"$f":"IF(B12=\"\", \"\", B12)","v":""},{"$f":"IF(D12=\"\", \"\", D12)","v":""},{"$f":"IF(F12=\"\", \"\", F12)","v":""},{"$f":"IF(H12=\"\", \"\", H12)","v":""}]
["03:00:00",null,"",null,"",null,"",null,"03:00:00",{"$nulls":4},"","","",""]
["04:00:00",null,"",null,"",null,"",null,"04:00:00",{"$nulls":4},"","","",""]
["05:00:00",null,"",null,"",null,"",null,"05:00:00",{"$nulls":4},"","","",""]
["06:00:00",null,"",null,"",null,"",null,"06:00:00",{"$nulls":4},"","","",""]
["07:00:00",null,"",null,"",null,"",null,"07:00:00",{"$nulls":4},"","","",""]
["08:00:00",null,"",null,"",null,"",null,"08:00:00",{"$nulls":4},"","","",""]
["09:00:00",null,"",null,"",null,"",null,"09:00:00",null,"Before Breakfast",null,null,"","","",""]
["10:00:00",null,"",null,"",null,"",null,"10:00:00",null,"After Breakfast",null,null,"","","",""]
["11:00:00",null,"",null,"",null,"",null,"11:00:00",null,"Before Lunch",null,null,"","","",""]
["12:00:00",null,"",null,"",null,"",null,"00:00:00",null,"After Lunch",null,null,"","","",""]
["13:00:00",null,"",null,"",null,"",null,"13:00:00",null,"Before Dinner",null,null,"","","",""]
["14:00:00",null,"",null,"",null,"",null,"14:00:00",null,"After Dinner",null,null,"","","",""]
["15:00:00",null,"",null,"",null,"",null,"15:00:00",{"$nulls":4},"","","",""]
["16:00:00",null,"",null,"",null,"",null,"16:00:00",{"$nulls":4},"","","",""]
["17:00:00",null,"",null,"",null,"",null,"17:00:00",{"$nulls":4},"","","",""]
["18:00:00",null,"",null,"",null,"",null,"18:00:00",null,"Legend",null,null,"","","",""]
["19:00:00",null,"",null,"",null,"",null,"19:00:00",null,"BB","Before Breakfast",null,"","","",""]
["20:00:00",null,"",null,"",null,"",null,"20:00:00",null,"AB","After Breakfast",null,"","","",""]
["21:00:00",null,"",null,"",null,"",null,"21:00:00",null,"BL","Before Lunch",null,"","","",""]
["22:00:00",null,"",null,"",null,"",null,"22:00:00",null,"AL","After Lunch",null,"","","",""]
["23:00:00",null,"",null,"",null,"",null,"23:00:00",null,"BD","Before Dinner",null,"","","",""]
[1,null,"",null,"",null,"",null,"00:00:00",{"$nulls":4},"","","",""]

{"sheet":"27","index":27,"n_rows":34,"n_cols":66,"rows_kept":34,"merged":[[0,0,0,8],[1,0,1,8],[7,0,7,1],[7,2,7,3],[8,0,8,1],[8,2,8,3],[27,10,27,12],[29,11,29,12],[30,11,30,12],[31,11,31,12],[32,11,32,12]]}
[{"$f":"IF(info!$B$2=\"\", \"\", info!$B$2)","v":"Jesse Hutton"},{"$nulls":64},{"$f":"info!$B$3&\" \"&27&\", \"&info!$B$4","v":"November 27, 2014"}]
[{"$f":"IF(info!$B$3=\"\", \"\", $BN$1)","v":"November 27, 2014"}]
[null,"Sugar","Status","Sys","Status","Dia","Status","Pul"]
["Morn",{"$f":"IFERROR(SUM(B11:B21)/COUNTIF(B11:B21, \">0\"), \"\")","v":""},{"$f":"IF(B4=\"\",\"\",IF(B4<70,\"TOO LOW\",IF(B4<=80,\"LOW\",IF(B4<=120,\"Normal\",\"High\"))))","v":""},{"$f":"IFERROR(SUM(D11:D21)/COUNTIF(D11:D21, \">0\"), \"\")","v":""},{"$f":"IF(D4=\"\", \"\", IF(D4<120, \"Normal\", IF(D4<140, \"Prehyperten\", IF(D4<160, \"Stage 1 hyperten\", \"Stage 2 hyperten\"))))","v":""},{"$f":"IFERROR(SUM(F11:F21)/COUNTIF(F11:F21, \">0\"), \"\")","v":""},{"$f":"IF(F4=\"\", \"\", IF(F4<80, \"Normal\", IF(F4<89, \"Prehyperten\", IF(F4<99, \"Stage 1 hyperten\", \"Stage 2 hyperten\"))))","v":""},{"$f":"IFERROR(SUM(H11:H21)/COUNTIF(H11:H21, \">0\"), \"\")","v":""}]
["Noon",{"$f":"IFERROR(SUM(B22:B28)/COUNTIF(B22:B28, \">0\"), \"\")","v":""},{"$f":"IF(B5=\"\",\"\",IF(B5<70,\"TOO LOW\",IF(B5<=80,\"LOW\",IF(B5<=120,\"Normal\",\"High\"))))","v":""},{"$f":"IFERROR(SUM(D22:D28)/COUNTIF(D22:D28, \">0\"), \"\")","v":""},{"$f":"IF(D5=\"\", \"\", IF(D5<120, \"Normal\", IF(D5<140, \"Prehyperten\", IF(D5<160, \"Stage 1 hyperten\", \"Stage 2 hyperten\"))))","v":""},{"$f":"IFERROR(SUM(F22:F28)/COUNTIF(F22:F28, \">0\"), \"\")","v":""},{"$f":"IF(F5=\"\", \"\", IF(F5<80, \"Normal\", IF(F5<89, \"Prehyperten\", IF(F5<99, \"Stage 1 hyperten\", \"Stage 2 hyperten\"))))","v":""},{"$f":"IFERROR(SUM(H22:H28)/COUNTIF(H22:H28, \">0\"), \"\")","v":""}]
["Eve",{"$f":"IFERROR(SUM(B29:B34)/COUNTIF(B29:B34, \">0\"), \"\")","v":""},"",{"$f":"IFERROR(SUM(D29:D34)/COUNTIF(D29:D34, \">0\"), \"\")","v":""},{"$f":"IF(D6=\"\", \"\", IF(D6<120, \"Normal\", IF(D6<140, \"Prehyperten\", IF(D6<160, \"Stage 1 hyperten\", \"Stage 2 hyperten\"))))","v":""},{"$f":"IFERROR(SUM(F29:F34)/COUNTIF(F29:F34, \">0\"), \"\")","v":""},{"$f":"IF(F6=\"\", \"\", IF(F6<80, \"Normal\", IF(F6<89, \"Prehyperten\", IF(F6<99, \"Stage 1 hyperten\", \"Stage 2 hyperten\"))))","v":""},{"$f":"IFERROR(SUM(H29:H34)/COUNTIF(H29:H34, \">0\"), \"\")","v":""}]
["Daily",{"$f":"IFERROR(SUM(B11:B34)/COUNTIF(B11:B34, \">0\"), \"\")","v":""},"",{"$f":"IFERROR(SUM(D11:D34)/COUNTIF(D11:D34, \">0\"), \"\")","v":""},{"$f":"IF(D7=\"\", \"\", IF(D7<120, \"Normal\", IF(D7<140, \"Prehyperten\", IF(D7<160, \"Stage 1 hyperten\", \"Stage 2 hyperten\"))))","v":""},{"$f":"IFERROR(SUM(F11:F34)/COUNTIF(F11:F34, \">0\"), \"\")","v":""},{"$f":"IF(F7=\"\", \"\", IF(F7<80, \"Normal\", IF(F7<89, \"Prehyperten\", IF(F7<99, \"Stage 1 hyperten\", \"Stage 2 hyperten\"))))","v":""},{"$f":"IFERROR(SUM(H11:H34)/COUNTIF(H11:H34, \">0\"), \"\")","v":""}]
["Weight",{"$nulls":4},{"$f":"IFERROR(#REF!/#REF!, \"\")","v":""},null,{"$f":"IFERROR(#REF!/#REF!, \"\")","v":""}]
["Doc weight"]
["Time (MIL)","Sugar","Status","Sys","Sys status","Dia","Dia status","Pul","Time (CIV)"]
["01:00:00",null,{"$f":"IF(B11=\"\",\"\",IF(B11<70,\"TOO LOW\",IF(B11<=80,\"LOW\",IF(B11<=120,\"Normal\",\"High\"))))","v":""},null,{"$f":"IF(D11=\"\", \"\", IF(D11<120, \"Normal\", IF(D11<140, \"Prehyperten\", IF(D11<160, \"Stage 1 hyperten\", \"Stage 2 hyperten\"))))","v":""},null,{"$f":"IF(F11=\"\", \"\", IF(F11<80, \"Normal\", IF(F11<89, \"Prehyperten\", IF(F11<99, \"Stage 1 hyperten\", \"Stage 2 hyperten\"))))","v":""},null,"01:00:00",{"$nulls":4},{"$f":"IF(B11=\"\", \"\", B11)","v":""},{"$f":"IF(D11=\"\", \"\", D11)","v":""},{"$f":"IF(F11=\"\", \"\", F11)","v":""},{"$f":"IF(H11=\"\", \"\", H11)","v":""}]
["02:00:00",null,{"$f":"IF(B12=\"\",\"\",IF(B12<70,\"TOO LOW\",IF(B12<=80,\"LOW\",IF(B12<=120,\"Normal\",\"High\"))))","v":""},null,{"$f":"IF(D12=\"\", \"\", IF(D12<120, \"Normal\", IF(D12<140, \"Prehyperten\", IF(D12<160, \"Stage 1 hyperten\", \"Stage 2 hyperten\"))))","v":""},null,{"$f":"IF(F12=\"\", \"\", IF(F12<80, \"Normal\", IF(F12<89, \"Prehyperten\", IF(F12<99, \"Stage 1 hyperten\", \"Stage 2 hyperten\"))))","v":""},null,"02:00:00",{"$nulls":4},{"$f":"IF(B12=\"\", \"\", B12)","v":""},{"$f":"IF(D12=\"\", \"\", D12)","v":""},{"$f":"IF(F12=\"\", \"\", F12)","v":""},{"$f":"IF(H12=\"\", \"\", H12)","v":""}]
["03:00:00",null,"",null,"",null,"",null,"03:00:00",{"$nulls":4},"","","",""]
["04:00:00",null,"",null,"",null,"",null,"04:00:00",{"$nulls":4},"","","",""]
["05:00:00",null,"",null,"",null,"",null,"05:00:00",{"$nulls":4},"","","",""]
["06:00:00",null,"",null,"",null,"",null,"06:00:00",{"$nulls":4},"","","",""]
["07:00:00",null,"",null,"",null,"",null,"07:00:00",{"$nulls":4},"","","",""]
["08:00:00",null,"",null,"",null,"",null,"08:00:00",{"$nulls":4},"","","",""]
["09:00:00",null,"",null,"",null,"",null,"09:00:00",null,"Before Breakfast",null,null,"","","",""]
["10:00:00",null,"",null,"",null,"",null,"10:00:00",null,"After Breakfast",null,null,"","","",""]
["11:00:00",null,"",null,"",null,"",null,"11:00:00",null,"Before Lunch",null,null,"","","",""]
["12:00:00",null,"",null,"",null,"",null,"00:00:00",null,"After Lunch",null,null,"","","",""]
["13:00:00",null,"",null,"",null,"",null,"13:00:00",null,"Before Dinner",null,null,"","","",""]
["14:00:00",null,"",null,"",null,"",null,"14:00:00",null,"After Dinner",null,null,"","","",""]
["15:00:00",null,"",null,"",null,"",null,"15:00:00",{"$nulls":4},"","","",""]
["16:00:00",null,"",null,"",null,"",null,"16:00:00",{"$nulls":4},"","","",""]
["17:00:00",null,"",null,"",null,"",null,"17:00:00",{"$nulls":4},"","","",""]
["18:00:00",null,"",null,"",null,"",null,"18:00:00",null,"Legend",null,null,"","","",""]
["19:00:00",null,"",null,"",null,"",null,"19:00:00",null,"BB","Before Breakfast",null,"","","",""]
["20:00:00",null,"",null,"",null,"",null,"20:00:00",null,"AB","After Breakfast",null,"","","",""]
["21:00:00",null,"",null,"",null,"",null,"21:00:00",null,"BL","Before Lunch",null,"","","",""]
["22:00:00",null,"",null,"",null,"",null,"22:00:00",null,"AL","After Lunch",null,"","","",""]
["23:00:00",null,"",null,"",null,"",null,"23:00:00",null,"BD","Before Dinner",null,"","","",""]
[1,null,"",null,"",null,"",null,"00:00:00",{"$nulls":4},"","","",""]

{"sheet":"28","index":28,"n_rows":34,"n_cols":66,"rows_kept":34,"merged":[[0,0,0,8],[1,0,1,8],[7,0,7,1],[7,2,7,3],[8,0,8,1],[8,2,8,3],[27,10,27,12],[29,11,29,12],[30,11,30,12],[31,11,31,12],[32,11,32,12]]}
[{"$f":"IF(info!$B$2=\"\", \"\", info!$B$2)","v":"Jesse Hutton"},{"$nulls":64},{"$f":"info!$B$3&\" \"&28&\", \"&info!$B$4","v":"November 28, 2014"}]
[{"$f":"IF(info!$B$3=\"\", \"\", $BN$1)","v":"November 28, 2014"}]
[null,"Sugar","Status","Sys","Status","Dia","Status","Pul"]
["Morn",{"$f":"IFERROR(SUM(B11:B21)/COUNTIF(B11:B21, \">0\"), \"\")","v":""},{"$f":"IF(B4=\"\",\"\",IF(B4<70,\"TOO LOW\",IF(B4<=80,\"LOW\",IF(B4<=120,\"Normal\",\"High\"))))","v":""},{"$f":"IFERROR(SUM(D11:D21)/COUNTIF(D11:D21, \">0\"), \"\")","v":""},{"$f":"IF(D4=\"\", \"\", IF(D4<120, \"Normal\", IF(D4<140, \"Prehyperten\", IF(D4<160, \"Stage 1 hyperten\", \"Stage 2 hyperten\"))))","v":""},{"$f":"IFERROR(SUM(F11:F21)/COUNTIF(F11:F21, \">0\"), \"\")","v":""},{"$f":"IF(F4=\"\", \"\", IF(F4<80, \"Normal\", IF(F4<89, \"Prehyperten\", IF(F4<99, \"Stage 1 hyperten\", \"Stage 2 hyperten\"))))","v":""},{"$f":"IFERROR(SUM(H11:H21)/COUNTIF(H11:H21, \">0\"), \"\")","v":""}]
["Noon",{"$f":"IFERROR(SUM(B22:B28)/COUNTIF(B22:B28, \">0\"), \"\")","v":""},{"$f":"IF(B5=\"\",\"\",IF(B5<70,\"TOO LOW\",IF(B5<=80,\"LOW\",IF(B5<=120,\"Normal\",\"High\"))))","v":""},{"$f":"IFERROR(SUM(D22:D28)/COUNTIF(D22:D28, \">0\"), \"\")","v":""},{"$f":"IF(D5=\"\", \"\", IF(D5<120, \"Normal\", IF(D5<140, \"Prehyperten\", IF(D5<160, \"Stage 1 hyperten\", \"Stage 2 hyperten\"))))","v":""},{"$f":"IFERROR(SUM(F22:F28)/COUNTIF(F22:F28, \">0\"), \"\")","v":""},{"$f":"IF(F5=\"\", \"\", IF(F5<80, \"Normal\", IF(F5<89, \"Prehyperten\", IF(F5<99, \"Stage 1 hyperten\", \"Stage 2 hyperten\"))))","v":""},{"$f":"IFERROR(SUM(H22:H28)/COUNTIF(H22:H28, \">0\"), \"\")","v":""}]
["Eve",{"$f":"IFERROR(SUM(B29:B34)/COUNTIF(B29:B34, \">0\"), \"\")","v":""},"",{"$f":"IFERROR(SUM(D29:D34)/COUNTIF(D29:D34, \">0\"), \"\")","v":""},{"$f":"IF(D6=\"\", \"\", IF(D6<120, \"Normal\", IF(D6<140, \"Prehyperten\", IF(D6<160, \"Stage 1 hyperten\", \"Stage 2 hyperten\"))))","v":""},{"$f":"IFERROR(SUM(F29:F34)/COUNTIF(F29:F34, \">0\"), \"\")","v":""},{"$f":"IF(F6=\"\", \"\", IF(F6<80, \"Normal\", IF(F6<89, \"Prehyperten\", IF(F6<99, \"Stage 1 hyperten\", \"Stage 2 hyperten\"))))","v":""},{"$f":"IFERROR(SUM(H29:H34)/COUNTIF(H29:H34, \">0\"), \"\")","v":""}]
["Daily",{"$f":"IFERROR(SUM(B11:B34)/COUNTIF(B11:B34, \">0\"), \"\")","v":""},"",{"$f":"IFERROR(SUM(D11:D34)/COUNTIF(D11:D34, \">0\"), \"\")","v":""},{"$f":"IF(D7=\"\", \"\", IF(D7<120, \"Normal\", IF(D7<140, \"Prehyperten\", IF(D7<160, \"Stage 1 hyperten\", \"Stage 2 hyperten\"))))","v":""},{"$f":"IFERROR(SUM(F11:F34)/COUNTIF(F11:F34, \">0\"), \"\")","v":""},{"$f":"IF(F7=\"\", \"\", IF(F7<80, \"Normal\", IF(F7<89, \"Prehyperten\", IF(F7<99, \"Stage 1 hyperten\", \"Stage 2 hyperten\"))))","v":""},{"$f":"IFERROR(SUM(H11:H34)/COUNTIF(H11:H34, \">0\"), \"\")","v":""}]
["Weight",{"$nulls":4},{"$f":"IFERROR(#REF!/#REF!, \"\")","v":""},null,{"$f":"IFERROR(#REF!/#REF!, \"\")","v":""}]
["Doc weight"]
["Time (MIL)","Sugar","Status","Sys","Sys status","Dia","Dia status","Pul","Time (CIV)"]
["01:00:00",null,{"$f":"IF(B11=\"\",\"\",IF(B11<70,\"TOO LOW\",IF(B11<=80,\"LOW\",IF(B11<=120,\"Normal\",\"High\"))))","v":""},null,{"$f":"IF(D11=\"\", \"\", IF(D11<120, \"Normal\", IF(D11<140, \"Prehyperten\", IF(D11<160, \"Stage 1 hyperten\", \"Stage 2 hyperten\"))))","v":""},null,{"$f":"IF(F11=\"\", \"\", IF(F11<80, \"Normal\", IF(F11<89, \"Prehyperten\", IF(F11<99, \"Stage 1 hyperten\", \"Stage 2 hyperten\"))))","v":""},null,"01:00:00",{"$nulls":4},{"$f":"IF(B11=\"\", \"\", B11)","v":""},{"$f":"IF(D11=\"\", \"\", D11)","v":""},{"$f":"IF(F11=\"\", \"\", F11)","v":""},{"$f":"IF(H11=\"\", \"\", H11)","v":""}]
["02:00:00",null,{"$f":"IF(B12=\"\",\"\",IF(B12<70,\"TOO LOW\",IF(B12<=80,\"LOW\",IF(B12<=120,\"Normal\",\"High\"))))","v":""},null,{"$f":"IF(D12=\"\", \"\", IF(D12<120, \"Normal\", IF(D12<140, \"Prehyperten\", IF(D12<160, \"Stage 1 hyperten\", \"Stage 2 hyperten\"))))","v":""},null,{"$f":"IF(F12=\"\", \"\", IF(F12<80, \"Normal\", IF(F12<89, \"Prehyperten\", IF(F12<99, \"Stage 1 hyperten\", \"Stage 2 hyperten\"))))","v":""},null,"02:00:00",{"$nulls":4},{"$f":"IF(B12=\"\", \"\", B12)","v":""},{"$f":"IF(D12=\"\", \"\", D12)","v":""},{"$f":"IF(F12=\"\", \"\", F12)","v":""},{"$f":"IF(H12=\"\", \"\", H12)","v":""}]
["03:00:00",null,"",null,"",null,"",null,"03:00:00",{"$nulls":4},"","","",""]
["04:00:00",null,"",null,"",null,"",null,"04:00:00",{"$nulls":4},"","","",""]
["05:00:00",null,"",null,"",null,"",null,"05:00:00",{"$nulls":4},"","","",""]
["06:00:00",null,"",null,"",null,"",null,"06:00:00",{"$nulls":4},"","","",""]
["07:00:00",null,"",null,"",null,"",null,"07:00:00",{"$nulls":4},"","","",""]
["08:00:00",null,"",null,"",null,"",null,"08:00:00",{"$nulls":4},"","","",""]
["09:00:00",null,"",null,"",null,"",null,"09:00:00",null,"Before Breakfast",null,null,"","","",""]
["10:00:00",null,"",null,"",null,"",null,"10:00:00",null,"After Breakfast",null,null,"","","",""]
["11:00:00",null,"",null,"",null,"",null,"11:00:00",null,"Before Lunch",null,null,"","","",""]
["12:00:00",null,"",null,"",null,"",null,"00:00:00",null,"After Lunch",null,null,"","","",""]
["13:00:00",null,"",null,"",null,"",null,"13:00:00",null,"Before Dinner",null,null,"","","",""]
["14:00:00",null,"",null,"",null,"",null,"14:00:00",null,"After Dinner",null,null,"","","",""]
["15:00:00",null,"",null,"",null,"",null,"15:00:00",{"$nulls":4},"","","",""]
["16:00:00",null,"",null,"",null,"",null,"16:00:00",{"$nulls":4},"","","",""]
["17:00:00",null,"",null,"",null,"",null,"17:00:00",{"$nulls":4},"","","",""]
["18:00:00",null,"",null,"",null,"",null,"18:00:00",null,"Legend",null,null,"","","",""]
["19:00:00",null,"",null,"",null,"",null,"19:00:00",null,"BB","Before Breakfast",null,"","","",""]
["20:00:00",null,"",null,"",null,"",null,"20:00:00",null,"AB","After Breakfast",null,"","","",""]
["21:00:00",null,"",null,"",null,"",null,"21:00:00",null,"BL","Before Lunch",null,"","","",""]
["22:00:00",null,"",null,"",null,"",null,"22:00:00",null,"AL","After Lunch",null,"","","",""]
["23:00:00",null,"",null,"",null,"",null,"23:00:00",null,"BD","Before Dinner",null,"","","",""]
[1,null,"",null,"",null,"",null,"00:00:00",{"$nulls":4},"","","",""]

{"sheet":"29","index":29,"n_rows":34,"n_cols":66,"rows_kept":34,"merged":[[0,0,0,8],[1,0,1,8],[7,0,7,1],[7,2,7,3],[8,0,8,1],[8,2,8,3],[27,10,27,12],[29,11,29,12],[30,11,30,12],[31,11,31,12],[32,11,32,12]]}
[{"$f":"IF(info!$B$2=\"\", \"\", info!$B$2)","v":"Jesse Hutton"},{"$nulls":64},{"$f":"info!$B$3&\" \"&29&\", \"&info!$B$4","v":"November 29, 2014"}]
[{"$f":"IF(info!$B$3=\"\", \"\", $BN$1)","v":"November 29, 2014"}]
[null,"Sugar","Status","Sys","Status","Dia","Status","Pul"]
["Morn",{"$f":"IFERROR(SUM(B11:B21)/COUNTIF(B11:B21, \">0\"), \"\")","v":""},{"$f":"IF(B4=\"\",\"\",IF(B4<70,\"TOO LOW\",IF(B4<=80,\"LOW\",IF(B4<=120,\"Normal\",\"High\"))))","v":""},{"$f":"IFERROR(SUM(D11:D21)/COUNTIF(D11:D21, \">0\"), \"\")","v":""},{"$f":"IF(D4=\"\", \"\", IF(D4<120, \"Normal\", IF(D4<140, \"Prehyperten\", IF(D4<160, \"Stage 1 hyperten\", \"Stage 2 hyperten\"))))","v":""},{"$f":"IFERROR(SUM(F11:F21)/COUNTIF(F11:F21, \">0\"), \"\")","v":""},{"$f":"IF(F4=\"\", \"\", IF(F4<80, \"Normal\", IF(F4<89, \"Prehyperten\", IF(F4<99, \"Stage 1 hyperten\", \"Stage 2 hyperten\"))))","v":""},{"$f":"IFERROR(SUM(H11:H21)/COUNTIF(H11:H21, \">0\"), \"\")","v":""}]
["Noon",{"$f":"IFERROR(SUM(B22:B28)/COUNTIF(B22:B28, \">0\"), \"\")","v":""},{"$f":"IF(B5=\"\",\"\",IF(B5<70,\"TOO LOW\",IF(B5<=80,\"LOW\",IF(B5<=120,\"Normal\",\"High\"))))","v":""},{"$f":"IFERROR(SUM(D22:D28)/COUNTIF(D22:D28, \">0\"), \"\")","v":""},{"$f":"IF(D5=\"\", \"\", IF(D5<120, \"Normal\", IF(D5<140, \"Prehyperten\", IF(D5<160, \"Stage 1 hyperten\", \"Stage 2 hyperten\"))))","v":""},{"$f":"IFERROR(SUM(F22:F28)/COUNTIF(F22:F28, \">0\"), \"\")","v":""},{"$f":"IF(F5=\"\", \"\", IF(F5<80, \"Normal\", IF(F5<89, \"Prehyperten\", IF(F5<99, \"Stage 1 hyperten\", \"Stage 2 hyperten\"))))","v":""},{"$f":"IFERROR(SUM(H22:H28)/COUNTIF(H22:H28, \">0\"), \"\")","v":""}]
["Eve",{"$f":"IFERROR(SUM(B29:B34)/COUNTIF(B29:B34, \">0\"), \"\")","v":""},"",{"$f":"IFERROR(SUM(D29:D34)/COUNTIF(D29:D34, \">0\"), \"\")","v":""},{"$f":"IF(D6=\"\", \"\", IF(D6<120, \"Normal\", IF(D6<140, \"Prehyperten\", IF(D6<160, \"Stage 1 hyperten\", \"Stage 2 hyperten\"))))","v":""},{"$f":"IFERROR(SUM(F29:F34)/COUNTIF(F29:F34, \">0\"), \"\")","v":""},{"$f":"IF(F6=\"\", \"\", IF(F6<80, \"Normal\", IF(F6<89, \"Prehyperten\", IF(F6<99, \"Stage 1 hyperten\", \"Stage 2 hyperten\"))))","v":""},{"$f":"IFERROR(SUM(H29:H34)/COUNTIF(H29:H34, \">0\"), \"\")","v":""}]
["Daily",{"$f":"IFERROR(SUM(B11:B34)/COUNTIF(B11:B34, \">0\"), \"\")","v":""},"",{"$f":"IFERROR(SUM(D11:D34)/COUNTIF(D11:D34, \">0\"), \"\")","v":""},{"$f":"IF(D7=\"\", \"\", IF(D7<120, \"Normal\", IF(D7<140, \"Prehyperten\", IF(D7<160, \"Stage 1 hyperten\", \"Stage 2 hyperten\"))))","v":""},{"$f":"IFERROR(SUM(F11:F34)/COUNTIF(F11:F34, \">0\"), \"\")","v":""},{"$f":"IF(F7=\"\", \"\", IF(F7<80, \"Normal\", IF(F7<89, \"Prehyperten\", IF(F7<99, \"Stage 1 hyperten\", \"Stage 2 hyperten\"))))","v":""},{"$f":"IFERROR(SUM(H11:H34)/COUNTIF(H11:H34, \">0\"), \"\")","v":""}]
["Weight",{"$nulls":4},{"$f":"IFERROR(#REF!/#REF!, \"\")","v":""},null,{"$f":"IFERROR(#REF!/#REF!, \"\")","v":""}]
["Doc weight"]
["Time (MIL)","Sugar","Status","Sys","Sys status","Dia","Dia status","Pul","Time (CIV)"]
["01:00:00",null,{"$f":"IF(B11=\"\",\"\",IF(B11<70,\"TOO LOW\",IF(B11<=80,\"LOW\",IF(B11<=120,\"Normal\",\"High\"))))","v":""},null,{"$f":"IF(D11=\"\", \"\", IF(D11<120, \"Normal\", IF(D11<140, \"Prehyperten\", IF(D11<160, \"Stage 1 hyperten\", \"Stage 2 hyperten\"))))","v":""},null,{"$f":"IF(F11=\"\", \"\", IF(F11<80, \"Normal\", IF(F11<89, \"Prehyperten\", IF(F11<99, \"Stage 1 hyperten\", \"Stage 2 hyperten\"))))","v":""},null,"01:00:00",{"$nulls":4},{"$f":"IF(B11=\"\", \"\", B11)","v":""},{"$f":"IF(D11=\"\", \"\", D11)","v":""},{"$f":"IF(F11=\"\", \"\", F11)","v":""},{"$f":"IF(H11=\"\", \"\", H11)","v":""}]
["02:00:00",null,{"$f":"IF(B12=\"\",\"\",IF(B12<70,\"TOO LOW\",IF(B12<=80,\"LOW\",IF(B12<=120,\"Normal\",\"High\"))))","v":""},null,{"$f":"IF(D12=\"\", \"\", IF(D12<120, \"Normal\", IF(D12<140, \"Prehyperten\", IF(D12<160, \"Stage 1 hyperten\", \"Stage 2 hyperten\"))))","v":""},null,{"$f":"IF(F12=\"\", \"\", IF(F12<80, \"Normal\", IF(F12<89, \"Prehyperten\", IF(F12<99, \"Stage 1 hyperten\", \"Stage 2 hyperten\"))))","v":""},null,"02:00:00",{"$nulls":4},{"$f":"IF(B12=\"\", \"\", B12)","v":""},{"$f":"IF(D12=\"\", \"\", D12)","v":""},{"$f":"IF(F12=\"\", \"\", F12)","v":""},{"$f":"IF(H12=\"\", \"\", H12)","v":""}]
["03:00:00",null,"",null,"",null,"",null,"03:00:00",{"$nulls":4},"","","",""]
["04:00:00",null,"",null,"",null,"",null,"04:00:00",{"$nulls":4},"","","",""]
["05:00:00",null,"",null,"",null,"",null,"05:00:00",{"$nulls":4},"","","",""]
["06:00:00",null,"",null,"",null,"",null,"06:00:00",{"$nulls":4},"","","",""]
["07:00:00",null,"",null,"",null,"",null,"07:00:00",{"$nulls":4},"","","",""]
["08:00:00",null,"",null,"",null,"",null,"08:00:00",{"$nulls":4},"","","",""]
["09:00:00",null,"",null,"",null,"",null,"09:00:00",null,"Before Breakfast",null,null,"","","",""]
["10:00:00",null,"",null,"",null,"",null,"10:00:00",null,"After Breakfast",null,null,"","","",""]
["11:00:00",null,"",null,"",null,"",null,"11:00:00",null,"Before Lunch",null,null,"","","",""]
["12:00:00",null,"",null,"",null,"",null,"00:00:00",null,"After Lunch",null,null,"","","",""]
["13:00:00",null,"",null,"",null,"",null,"13:00:00",null,"Before Dinner",null,null,"","","",""]
["14:00:00",null,"",null,"",null,"",null,"14:00:00",null,"After Dinner",null,null,"","","",""]
["15:00:00",null,"",null,"",null,"",null,"15:00:00",{"$nulls":4},"","","",""]
["16:00:00",null,"",null,"",null,"",null,"16:00:00",{"$nulls":4},"","","",""]
["17:00:00",null,"",null,"",null,"",null,"17:00:00",{"$nulls":4},"","","",""]
["18:00:00",null,"",null,"",null,"",null,"18:00:00",null,"Legend",null,null,"","","",""]
["19:00:00",null,"",null,"",null,"",null,"19:00:00",null,"BB","Before Breakfast",null,"","","",""]
["20:00:00",null,"",null,"",null,"",null,"20:00:00",null,"AB","After Breakfast",null,"","","",""]
["21:00:00",null,"",null,"",null,"",null,"21:00:00",null,"BL","Before Lunch",null,"","","",""]
["22:00:00",null,"",null,"",null,"",null,"22:00:00",null,"AL","After Lunch",null,"","","",""]
["23:00:00",null,"",null,"",null,"",null,"23:00:00",null,"BD","Before Dinner",null,"","","",""]
[1,null,"",null,"",null,"",null,"00:00:00",{"$nulls":4},"","","",""]

{"sheet":"30","index":30,"n_rows":34,"n_cols":66,"rows_kept":34,"merged":[[0,0,0,8],[1,0,1,8],[7,0,7,1],[7,2,7,3],[8,0,8,1],[8,2,8,3],[27,10,27,12],[29,11,29,12],[30,11,30,12],[31,11,31,12],[32,11,32,12]]}
[{"$f":"IF(info!$B$2=\"\", \"\", info!$B$2)","v":"Jesse Hutton"},{"$nulls":64},{"$f":"info!$B$3&\" \"&30&\", \"&info!$B$4","v":"November 30, 2014"}]
[{"$f":"IF(info!$B$3=\"\", \"\", $BN$1)","v":"November 30, 2014"}]
[null,"Sugar","Status","Sys","Status","Dia","Status","Pul"]
["Morn",{"$f":"IFERROR(SUM(B11:B21)/COUNTIF(B11:B21, \">0\"), \"\")","v":""},{"$f":"IF(B4=\"\",\"\",IF(B4<70,\"TOO LOW\",IF(B4<=80,\"LOW\",IF(B4<=120,\"Normal\",\"High\"))))","v":""},{"$f":"IFERROR(SUM(D11:D21)/COUNTIF(D11:D21, \">0\"), \"\")","v":""},{"$f":"IF(D4=\"\", \"\", IF(D4<120, \"Normal\", IF(D4<140, \"Prehyperten\", IF(D4<160, \"Stage 1 hyperten\", \"Stage 2 hyperten\"))))","v":""},{"$f":"IFERROR(SUM(F11:F21)/COUNTIF(F11:F21, \">0\"), \"\")","v":""},{"$f":"IF(F4=\"\", \"\", IF(F4<80, \"Normal\", IF(F4<89, \"Prehyperten\", IF(F4<99, \"Stage 1 hyperten\", \"Stage 2 hyperten\"))))","v":""},{"$f":"IFERROR(SUM(H11:H21)/COUNTIF(H11:H21, \">0\"), \"\")","v":""}]
["Noon",{"$f":"IFERROR(SUM(B22:B28)/COUNTIF(B22:B28, \">0\"), \"\")","v":""},{"$f":"IF(B5=\"\",\"\",IF(B5<70,\"TOO LOW\",IF(B5<=80,\"LOW\",IF(B5<=120,\"Normal\",\"High\"))))","v":""},{"$f":"IFERROR(SUM(D22:D28)/COUNTIF(D22:D28, \">0\"), \"\")","v":""},{"$f":"IF(D5=\"\", \"\", IF(D5<120, \"Normal\", IF(D5<140, \"Prehyperten\", IF(D5<160, \"Stage 1 hyperten\", \"Stage 2 hyperten\"))))","v":""},{"$f":"IFERROR(SUM(F22:F28)/COUNTIF(F22:F28, \">0\"), \"\")","v":""},{"$f":"IF(F5=\"\", \"\", IF(F5<80, \"Normal\", IF(F5<89, \"Prehyperten\", IF(F5<99, \"Stage 1 hyperten\", \"Stage 2 hyperten\"))))","v":""},{"$f":"IFERROR(SUM(H22:H28)/COUNTIF(H22:H28, \">0\"), \"\")","v":""}]
["Eve",{"$f":"IFERROR(SUM(B29:B34)/COUNTIF(B29:B34, \">0\"), \"\")","v":""},"",{"$f":"IFERROR(SUM(D29:D34)/COUNTIF(D29:D34, \">0\"), \"\")","v":""},{"$f":"IF(D6=\"\", \"\", IF(D6<120, \"Normal\", IF(D6<140, \"Prehyperten\", IF(D6<160, \"Stage 1 hyperten\", \"Stage 2 hyperten\"))))","v":""},{"$f":"IFERROR(SUM(F29:F34)/COUNTIF(F29:F34, \">0\"), \"\")","v":""},{"$f":"IF(F6=\"\", \"\", IF(F6<80, \"Normal\", IF(F6<89, \"Prehyperten\", IF(F6<99, \"Stage 1 hyperten\", \"Stage 2 hyperten\"))))","v":""},{"$f":"IFERROR(SUM(H29:H34)/COUNTIF(H29:H34, \">0\"), \"\")","v":""}]
["Daily",{"$f":"IFERROR(SUM(B11:B34)/COUNTIF(B11:B34, \">0\"), \"\")","v":""},"",{"$f":"IFERROR(SUM(D11:D34)/COUNTIF(D11:D34, \">0\"), \"\")","v":""},{"$f":"IF(D7=\"\", \"\", IF(D7<120, \"Normal\", IF(D7<140, \"Prehyperten\", IF(D7<160, \"Stage 1 hyperten\", \"Stage 2 hyperten\"))))","v":""},{"$f":"IFERROR(SUM(F11:F34)/COUNTIF(F11:F34, \">0\"), \"\")","v":""},{"$f":"IF(F7=\"\", \"\", IF(F7<80, \"Normal\", IF(F7<89, \"Prehyperten\", IF(F7<99, \"Stage 1 hyperten\", \"Stage 2 hyperten\"))))","v":""},{"$f":"IFERROR(SUM(H11:H34)/COUNTIF(H11:H34, \">0\"), \"\")","v":""}]
["Weight",{"$nulls":4},{"$f":"IFERROR(#REF!/#REF!, \"\")","v":""},null,{"$f":"IFERROR(#REF!/#REF!, \"\")","v":""}]
["Doc weight"]
["Time (MIL)","Sugar","Status","Sys","Sys status","Dia","Dia status","Pul","Time (CIV)"]
["01:00:00",null,{"$f":"IF(B11=\"\",\"\",IF(B11<70,\"TOO LOW\",IF(B11<=80,\"LOW\",IF(B11<=120,\"Normal\",\"High\"))))","v":""},null,{"$f":"IF(D11=\"\", \"\", IF(D11<120, \"Normal\", IF(D11<140, \"Prehyperten\", IF(D11<160, \"Stage 1 hyperten\", \"Stage 2 hyperten\"))))","v":""},null,{"$f":"IF(F11=\"\", \"\", IF(F11<80, \"Normal\", IF(F11<89, \"Prehyperten\", IF(F11<99, \"Stage 1 hyperten\", \"Stage 2 hyperten\"))))","v":""},null,"01:00:00",{"$nulls":4},{"$f":"IF(B11=\"\", \"\", B11)","v":""},{"$f":"IF(D11=\"\", \"\", D11)","v":""},{"$f":"IF(F11=\"\", \"\", F11)","v":""},{"$f":"IF(H11=\"\", \"\", H11)","v":""}]
["02:00:00",null,{"$f":"IF(B12=\"\",\"\",IF(B12<70,\"TOO LOW\",IF(B12<=80,\"LOW\",IF(B12<=120,\"Normal\",\"High\"))))","v":""},null,{"$f":"IF(D12=\"\", \"\", IF(D12<120, \"Normal\", IF(D12<140, \"Prehyperten\", IF(D12<160, \"Stage 1 hyperten\", \"Stage 2 hyperten\"))))","v":""},null,{"$f":"IF(F12=\"\", \"\", IF(F12<80, \"Normal\", IF(F12<89, \"Prehyperten\", IF(F12<99, \"Stage 1 hyperten\", \"Stage 2 hyperten\"))))","v":""},null,"02:00:00",{"$nulls":4},{"$f":"IF(B12=\"\", \"\", B12)","v":""},{"$f":"IF(D12=\"\", \"\", D12)","v":""},{"$f":"IF(F12=\"\", \"\", F12)","v":""},{"$f":"IF(H12=\"\", \"\", H12)","v":""}]
["03:00:00",null,"",null,"",null,"",null,"03:00:00",{"$nulls":4},"","","",""]
["04:00:00",null,"",null,"",null,"",null,"04:00:00",{"$nulls":4},"","","",""]
["05:00:00",null,"",null,"",null,"",null,"05:00:00",{"$nulls":4},"","","",""]
["06:00:00",null,"",null,"",null,"",null,"06:00:00",{"$nulls":4},"","","",""]
["07:00:00",null,"",null,"",null,"",null,"07:00:00",{"$nulls":4},"","","",""]
["08:00:00",null,"",null,"",null,"",null,"08:00:00",{"$nulls":4},"","","",""]
["09:00:00",null,"",null,"",null,"",null,"09:00:00",null,"Before Breakfast",null,null,"","","",""]
["10:00:00",null,"",null,"",null,"",null,"10:00:00",null,"After Breakfast",null,null,"","","",""]
["11:00:00",null,"",null,"",null,"",null,"11:00:00",null,"Before Lunch",null,null,"","","",""]
["12:00:00",null,"",null,"",null,"",null,"00:00:00",null,"After Lunch",null,null,"","","",""]
["13:00:00",null,"",null,"",null,"",null,"13:00:00",null,"Before Dinner",null,null,"","","",""]
["14:00:00",null,"",null,"",null,"",null,"14:00:00",null,"After Dinner",null,null,"","","",""]
["15:00:00",null,"",null,"",null,"",null,"15:00:00",{"$nulls":4},"","","",""]
["16:00:00",null,"",null,"",null,"",null,"16:00:00",{"$nulls":4},"","","",""]
["17:00:00",null,"",null,"",null,"",null,"17:00:00",{"$nulls":4},"","","",""]
["18:00:00",null,"",null,"",null,"",null,"18:00:00",null,"Legend",null,null,"","","",""]
["19:00:00",null,"",null,"",null,"",null,"19:00:00",null,"BB","Before Breakfast",null,"","","",""]
["20:00:00",null,"",null,"",null,"",null,"20:00:00",null,"AB","After Breakfast",null,"","","",""]
["21:00:00",null,"",null,"",null,"",null,"21:00:00",null,"BL","Before Lunch",null,"","","",""]
["22:00:00",null,"",null,"",null,"",null,"22:00:00",null,"AL","After Lunch",null,"","","",""]
["23:00:00",null,"",null,"",null,"",null,"23:00:00",null,"BD","Before Dinner",null,"","","",""]
[1,null,"",null,"",null,"",null,"00:00:00",{"$nulls":4},"","","",""]

{"sheet":"31","index":31,"n_rows":34,"n_cols":66,"rows_kept":34,"merged":[[0,0,0,8],[1,0,1,8],[7,0,7,1],[7,2,7,3],[8,0,8,1],[8,2,8,3],[27,10,27,12],[29,11,29,12],[30,11,30,12],[31,11,31,12],[32,11,32,12]]}
[{"$f":"IF(info!$B$2=\"\", \"\", info!$B$2)","v":"Jesse Hutton"},{"$nulls":64},{"$f":"info!$B$3&\" \"&31&\", \"&info!$B$4","v":"November 31, 2014"}]
[{"$f":"IF(info!$B$3=\"\", \"\", $BN$1)","v":"November 31, 2014"}]
[null,"Sugar","Status","Sys","Status","Dia","Status","Pul"]
["Morn",{"$f":"IFERROR(SUM(B11:B21)/COUNTIF(B11:B21, \">0\"), \"\")","v":""},{"$f":"IF(B4=\"\",\"\",IF(B4<70,\"TOO LOW\",IF(B4<=80,\"LOW\",IF(B4<=120,\"Normal\",\"High\"))))","v":""},{"$f":"IFERROR(SUM(D11:D21)/COUNTIF(D11:D21, \">0\"), \"\")","v":""},{"$f":"IF(D4=\"\", \"\", IF(D4<120, \"Normal\", IF(D4<140, \"Prehyperten\", IF(D4<160, \"Stage 1 hyperten\", \"Stage 2 hyperten\"))))","v":""},{"$f":"IFERROR(SUM(F11:F21)/COUNTIF(F11:F21, \">0\"), \"\")","v":""},{"$f":"IF(F4=\"\", \"\", IF(F4<80, \"Normal\", IF(F4<89, \"Prehyperten\", IF(F4<99, \"Stage 1 hyperten\", \"Stage 2 hyperten\"))))","v":""},{"$f":"IFERROR(SUM(H11:H21)/COUNTIF(H11:H21, \">0\"), \"\")","v":""}]
["Noon",{"$f":"IFERROR(SUM(B22:B28)/COUNTIF(B22:B28, \">0\"), \"\")","v":""},{"$f":"IF(B5=\"\",\"\",IF(B5<70,\"TOO LOW\",IF(B5<=80,\"LOW\",IF(B5<=120,\"Normal\",\"High\"))))","v":""},{"$f":"IFERROR(SUM(D22:D28)/COUNTIF(D22:D28, \">0\"), \"\")","v":""},{"$f":"IF(D5=\"\", \"\", IF(D5<120, \"Normal\", IF(D5<140, \"Prehyperten\", IF(D5<160, \"Stage 1 hyperten\", \"Stage 2 hyperten\"))))","v":""},{"$f":"IFERROR(SUM(F22:F28)/COUNTIF(F22:F28, \">0\"), \"\")","v":""},{"$f":"IF(F5=\"\", \"\", IF(F5<80, \"Normal\", IF(F5<89, \"Prehyperten\", IF(F5<99, \"Stage 1 hyperten\", \"Stage 2 hyperten\"))))","v":""},{"$f":"IFERROR(SUM(H22:H28)/COUNTIF(H22:H28, \">0\"), \"\")","v":""}]
["Eve",{"$f":"IFERROR(SUM(B29:B34)/COUNTIF(B29:B34, \">0\"), \"\")","v":""},"",{"$f":"IFERROR(SUM(D29:D34)/COUNTIF(D29:D34, \">0\"), \"\")","v":""},{"$f":"IF(D6=\"\", \"\", IF(D6<120, \"Normal\", IF(D6<140, \"Prehyperten\", IF(D6<160, \"Stage 1 hyperten\", \"Stage 2 hyperten\"))))","v":""},{"$f":"IFERROR(SUM(F29:F34)/COUNTIF(F29:F34, \">0\"), \"\")","v":""},{"$f":"IF(F6=\"\", \"\", IF(F6<80, \"Normal\", IF(F6<89, \"Prehyperten\", IF(F6<99, \"Stage 1 hyperten\", \"Stage 2 hyperten\"))))","v":""},{"$f":"IFERROR(SUM(H29:H34)/COUNTIF(H29:H34, \">0\"), \"\")","v":""}]
["Daily",{"$f":"IFERROR(SUM(B11:B34)/COUNTIF(B11:B34, \">0\"), \"\")","v":""},"",{"$f":"IFERROR(SUM(D11:D34)/COUNTIF(D11:D34, \">0\"), \"\")","v":""},{"$f":"IF(D7=\"\", \"\", IF(D7<120, \"Normal\", IF(D7<140, \"Prehyperten\", IF(D7<160, \"Stage 1 hyperten\", \"Stage 2 hyperten\"))))","v":""},{"$f":"IFERROR(SUM(F11:F34)/COUNTIF(F11:F34, \">0\"), \"\")","v":""},{"$f":"IF(F7=\"\", \"\", IF(F7<80, \"Normal\", IF(F7<89, \"Prehyperten\", IF(F7<99, \"Stage 1 hyperten\", \"Stage 2 hyperten\"))))","v":""},{"$f":"IFERROR(SUM(H11:H34)/COUNTIF(H11:H34, \">0\"), \"\")","v":""}]
["Weight",{"$nulls":4},{"$f":"IFERROR(#REF!/#REF!, \"\")","v":""},null,{"$f":"IFERROR(#REF!/#REF!, \"\")","v":""}]
["Doc weight"]
["Time (MIL)","Sugar","Status","Sys","Sys status","Dia","Dia status","Pul","Time (CIV)"]
["01:00:00",null,{"$f":"IF(B11=\"\",\"\",IF(B11<70,\"TOO LOW\",IF(B11<=80,\"LOW\",IF(B11<=120,\"Normal\",\"High\"))))","v":""},null,{"$f":"IF(D11=\"\", \"\", IF(D11<120, \"Normal\", IF(D11<140, \"Prehyperten\", IF(D11<160, \"Stage 1 hyperten\", \"Stage 2 hyperten\"))))","v":""},null,{"$f":"IF(F11=\"\", \"\", IF(F11<80, \"Normal\", IF(F11<89, \"Prehyperten\", IF(F11<99, \"Stage 1 hyperten\", \"Stage 2 hyperten\"))))","v":""},null,"01:00:00",{"$nulls":4},{"$f":"IF(B11=\"\", \"\", B11)","v":""},{"$f":"IF(D11=\"\", \"\", D11)","v":""},{"$f":"IF(F11=\"\", \"\", F11)","v":""},{"$f":"IF(H11=\"\", \"\", H11)","v":""}]
["02:00:00",null,{"$f":"IF(B12=\"\",\"\",IF(B12<70,\"TOO LOW\",IF(B12<=80,\"LOW\",IF(B12<=120,\"Normal\",\"High\"))))","v":""},null,{"$f":"IF(D12=\"\", \"\", IF(D12<120, \"Normal\", IF(D12<140, \"Prehyperten\", IF(D12<160, \"Stage 1 hyperten\", \"Stage 2 hyperten\"))))","v":""},null,{"$f":"IF(F12=\"\", \"\", IF(F12<80, \"Normal\", IF(F12<89, \"Prehyperten\", IF(F12<99, \"Stage 1 hyperten\", \"Stage 2 hyperten\"))))","v":""},null,"02:00:00",{"$nulls":4},{"$f":"IF(B12=\"\", \"\", B12)","v":""},{"$f":"IF(D12=\"\", \"\", D12)","v":""},{"$f":"IF(F12=\"\", \"\", F12)","v":""},{"$f":"IF(H12=\"\", \"\", H12)","v":""}]
["03:00:00",null,"",null,"",null,"",null,"03:00:00",{"$nulls":4},"","","",""]
["04:00:00",null,"",null,"",null,"",null,"04:00:00",{"$nulls":4},"","","",""]
["05:00:00",null,"",null,"",null,"",null,"05:00:00",{"$nulls":4},"","","",""]
["06:00:00",null,"",null,"",null,"",null,"06:00:00",{"$nulls":4},"","","",""]
["07:00:00",null,"",null,"",null,"",null,"07:00:00",{"$nulls":4},"","","",""]
["08:00:00",null,"",null,"",null,"",null,"08:00:00",{"$nulls":4},"","","",""]
["09:00:00",null,"",null,"",null,"",null,"09:00:00",null,"Before Breakfast",null,null,"","","",""]
["10:00:00",null,"",null,"",null,"",null,"10:00:00",null,"After Breakfast",null,null,"","","",""]
["11:00:00",null,"",null,"",null,"",null,"11:00:00",null,"Before Lunch",null,null,"","","",""]
["12:00:00",null,"",null,"",null,"",null,"00:00:00",null,"After Lunch",null,null,"","","",""]
["13:00:00",null,"",null,"",null,"",null,"13:00:00",null,"Before Dinner",null,null,"","","",""]
["14:00:00",null,"",null,"",null,"",null,"14:00:00",null,"After Dinner",null,null,"","","",""]
["15:00:00",null,"",null,"",null,"",null,"15:00:00",{"$nulls":4},"","","",""]
["16:00:00",null,"",null,"",null,"",null,"16:00:00",{"$nulls":4},"","","",""]
["17:00:00",null,"",null,"",null,"",null,"17:00:00",{"$nulls":4},"","","",""]
["18:00:00",null,"",null,"",null,"",null,"18:00:00",null,"Legend",null,null,"","","",""]
["19:00:00",null,"",null,"",null,"",null,"19:00:00",null,"BB","Before Breakfast",null,"","","",""]
["20:00:00",null,"",null,"",null,"",null,"20:00:00",null,"AB","After Breakfast",null,"","","",""]
["21:00:00",null,"",null,"",null,"",null,"21:00:00",null,"BL","Before Lunch",null,"","","",""]
["22:00:00",null,"",null,"",null,"",null,"22:00:00",null,"AL","After Lunch",null,"","","",""]
["23:00:00",null,"",null,"",null,"",null,"23:00:00",null,"BD","Before Dinner",null,"","","",""]
[1,null,"",null,"",null,"",null,"00:00:00",{"$nulls":4},"","","",""]

{"sheet":"Totals","index":32,"n_rows":332,"n_cols":68,"rows_kept":332,"merged":[[0,0,0,21],[1,0,1,25],[2,3,2,9],[2,10,2,21],[2,22,2,25],[3,1,3,2],[3,3,3,5],[3,6,3,7],[3,8,3,9],[3,10,3,12],[3,14,3,16],[3,18,3,20],[3,22,3,25],[4,1,4,2],[4,3,4,5],[4,6,4,7],[4,8,4,9],[4,10,4,12],[4,14,4,16],[4,18,4,20],[4,22,4,25],[5,1,5,2],[5,3,5,5],[5,6,5,7],[5,8,5,9],[5,10,5,12],[5,14,5,16],[5,18,5,20],[5,22,5,25],[6,1,6,2],[6,3,6,5],[6,6,6,7],[6,8,6,9],[6,10,6,12],[6,14,6,16],[6,18,6,20],[7,1,7,2],[7,3,7,5],[7,6,7,7],[7,8,7,9],[7,10,7,12],[7,14,7,16],[7,18,7,20],[7,22,7,25],[8,1,8,2],[8,3,8,5],[8,6,8,7],[8,8,8,9],[8,10,8,12],[8,14,8,16],[8,18,8,20],[8,22,8,25],[9,1,9,2],[9,3,9,5],[9,6,9,7],[9,8,9,9],[9,10,9,12],[9,14,9,16],[9,18,9,20],[9,22,9,25],[10,1,10,2],[10,3,10,5],[10,6,10,7],[10,8,10,9],[10,10,10,12],[10,14,10,16],[10,18,10,20],[10,22,10,25],[11,1,11,2],[11,3,11,5],[11,6,11,7],[11,8,11,9],[11,10,11,12],[11,14,11,16],[11,18,11,20],[11,22,11,25],[12,1,12,2],[12,3,12,5],[12,6,12,7],[12,8,12,9],[12,10,12,12],[12,14,12,16],[12,18,12,20],[12,22,12,25],[13,1,13,2],[13,3,13,5],[13,6,13,7],[13,8,13,9],[13,10,13,12],[13,14,13,16],[13,18,13,20],[13,22,13,25],[14,1,14,2],[14,3,14,5],[14,6,14,7],[14,8,14,9],[14,10,14,12],[14,14,14,16],[14,18,14,20],[14,22,14,25],[15,1,15,25],[20,1,20,22],[21,1,21,2],[21,3,21,4],[21,5,21,6],[21,7,21,8],[21,9,21,10],[21,11,21,12],[21,13,21,14],[21,15,21,16],[21,17,21,18],[22,1,22,2],[22,3,22,4],[22,5,22,6],[22,7,22,8],[22,9,22,10],[22,11,22,12],[22,13,22,14],[22,15,22,16],[23,1,23,2],[23,3,23,4],[23,7,23,8],[23,9,23,10],[23,11,23,12],[23,21,23,22],[25,1,25,2],[25,3,25,4],[25,5,25,6],[25,9,25,10],[25,11,25,12],[25,13,25,14],[26,1,26,2],[26,7,26,8],[26,9,26,10],[26,11,26,12],[27,1,27,2],[27,5,27,6],[27,7,27,8],[27,9,27,10],[27,11,27,12],[27,13,27,14],[27,17,27,18],[27,19,27,20],[27,21,27,22],[29,1,29,2],[29,3,29,4],[29,5,29,6],[29,7,29,8],[29,9,29,10],[29,11,29,12],[29,13,29,14],[29,19,29,20],[29,21,29,22],[29,23,29,24],[30,1,30,2],[30,3,30,4],[30,5,30,6],[30,7,30,8],[30,9,30,10],[30,11,30,12],[30,13,30,14],[30,15,30,16],[30,17,30,18],[30,19,30,20],[30,21,30,22],[30,23,30,24],[31,1,31,2],[31,3,31,4],[31,5,31,6],[31,7,31,8],[31,9,31,10],[31,11,31,12],[31,13,31,14],[31,15,31,16],[31,17,31,18],[31,19,31,20],[31,21,31,22],[31,23,31,24],[33,0,71,0],[33,1,36,1],[33,3,33,5],[33,7,33,9],[33,11,33,13],[33,15,33,17],[33,19,33,21],[33,23,33,25],[34,3,34,5],[34,7,34,9],[34,11,34,13],[34,15,34,17],[34,19,34,21],[34,23,34,25],[35,3,35,5],[35,7,35,9],[35,11,35,13],[35,15,35,17],[35,19,35,21],[35,23,35,25],[36,3,36,5],[36,7,36,9],[36,11,36,13],[36,15,36,17],[36,19,36,21],[36,23,36,25],[37,1,37,25],[38,1,41,1],[38,3,38,5],[38,7,38,9],[38,11,38,13],[38,15,38,17],[38,19,38,21],[38,23,38,25],[39,3,39,5],[39,7,39,9],[39,11,39,13],[39,15,39,17],[39,19,39,21],[39,23,39,25],[40,3,40,5],[40,7,40,9],[40,11,40,13],[40,15,40,17],[40,19,40,21],[40,23,40,25],[41,3,41,5],[41,7,41,9],[41,11,41,13],[41,15,41,17],[41,19,41,21],[41,23,41,25],[42,1,42,25],[43,1,46,1],[43,3,43,5],[43,7,43,9],[43,11,43,13],[43,15,43,17],[43,19,43,21],[43,23,43,25],[44,3,44,5],[44,7,44,9],[44,11,44,13],[44,15,44,17],[44,19,44,21],[44,23,44,25],[45,3,45,5],[45,7,45,9],[45,11,45,13],[45,15,45,17],[45,19,45,21],[45,23,45,25],[46,3,46,5],[46,7,46,9],[46,11,46,13],[46,15,46,17],[46,19,46,21],[46,23,46,25],[47,1,47,25],[48,1,51,1],[48,3,48,5],[48,7,48,9],[48,11,48,13],[48,15,48,17],[48,19,48,21],[48,23,48,25],[49,3,49,5],[49,7,49,9],[49,11,49,13],[49,15,49,17],[49,19,49,21],[49,23,49,25],[50,3,50,5],[50,7,50,9],[50,11,50,13],[50,15,50,17],[50,19,50,21],[50,23,50,25],[51,3,51,5],[51,7,51,9],[51,11,51,13],[51,15,51,17],[51,19,51,21],[51,23,51,25],[52,1,52,25],[53,1,56,1],[53,3,53,5],[53,7,53,9],[53,11,53,13],[53,15,53,17],[53,19,53,21],[53,23,53,25],[54,3,54,5],[54,7,54,9],[54,11,54,13],[54,15,54,17],[54,19,54,21],[54,23,54,25],[55,3,55,5],[55,7,55,9],[55,11,55,13],[55,15,55,17],[55,19,55,21],[55,23,55,25],[56,3,56,5],[56,7,56,9],[56,11,56,13],[56,15,56,17],[56,19,56,21],[56,23,56,25],[57,1,57,25],[58,1,61,1],[58,3,58,5],[58,7,58,9],[58,11,58,13],[58,15,58,17],[58,19,58,21],[58,23,58,25],[59,3,59,5],[59,7,59,9],[59,11,59,13],[59,15,59,17],[59,19,59,21],[59,23,59,25],[60,3,60,5],[60,7,60,9],[60,11,60,13],[60,15,60,17],[60,19,60,21],[60,23,60,25],[61,3,61,5],[61,7,61,9],[61,11,61,13],[61,15,61,17],[61,19,61,21],[61,23,61,25],[62,1,62,25],[63,1,66,1],[63,3,63,5],[63,7,63,9],[63,11,63,13],[63,15,63,17],[63,19,63,21],[63,23,63,25],[64,3,64,5],[64,7,64,9],[64,11,64,13],[64,15,64,17],[64,19,64,21],[64,23,64,25],[65,3,65,5],[65,7,65,9],[65,11,65,13],[65,15,65,17],[65,19,65,21],[65,23,65,25],[66,3,66,5],[66,7,66,9],[66,11,66,13],[66,15,66,17],[66,19,66,21],[66,23,66,25],[67,1,67,25],[68,1,71,1],[68,3,68,5],[68,7,68,9],[68,11,68,13],[68,15,68,17],[68,19,68,21],[68,23,68,25],[69,3,69,5],[69,7,69,9],[69,11,69,13],[69,15,69,17],[69,19,69,21],[69,23,69,25],[70,3,70,5],[70,7,70,9],[70,11,70,13],[70,15,70,17],[70,19,70,21],[70,23,70,25],[71,3,71,5],[71,7,71,9],[71,11,71,13],[71,15,71,17],[71,19,71,21],[71,23,71,25],[72,1,72,25],[73,0,111,0],[73,1,76,1],[73,3,73,5],[73,7,73,9],[73,11,73,13],[73,15,73,17],[73,19,73,21],[73,23,73,25],[74,3,74,5],[74,7,74,9],[74,11,74,13],[74,15,74,17],[74,19,74,21],[74,23,74,25],[75,3,75,5],[75,7,75,9],[75,11,75,13],[75,15,75,17],[75,19,75,21],[75,23,75,25],[76,3,76,5],[76,7,76,9],[76,11,76,13],[76,15,76,17],[76,19,76,21],[76,23,76,25],[77,1,77,25],[78,1,81,1],[78,3,78,5],[78,7,78,9],[78,11,78,13],[78,15,78,17],[78,19,78,21],[78,23,78,25],[79,3,79,5],[79,7,79,9],[79,11,79,13],[79,15,79,17],[79,19,79,21],[79,23,79,25],[80,3,80,5],[80,7,80,9],[80,11,80,13],[80,15,80,17],[80,19,80,21],[80,23,80,25],[81,3,81,5],[81,7,81,9],[81,11,81,13],[81,15,81,17],[81,19,81,21],[81,23,81,25],[82,1,82,25],[83,1,86,1],[83,3,83,5],[83,7,83,9],[83,11,83,13],[83,15,83,17],[83,19,83,21],[83,23,83,25],[84,3,84,5],[84,7,84,9],[84,11,84,13],[84,15,84,17],[84,19,84,21],[84,23,84,25],[85,3,85,5],[85,7,85,9],[85,11,85,13],[85,15,85,17],[85,19,85,21],[85,23,85,25],[86,3,86,5],[86,7,86,9],[86,11,86,13],[86,15,86,17],[86,19,86,21],[86,23,86,25],[87,1,87,25],[88,1,91,1],[88,3,88,5],[88,7,88,9],[88,11,88,13],[88,15,88,17],[88,19,88,21],[88,23,88,25],[89,3,89,5],[89,7,89,9],[89,11,89,13],[89,15,89,17],[89,19,89,21],[89,23,89,25],[90,3,90,5],[90,7,90,9],[90,11,90,13],[90,15,90,17],[90,19,90,21],[90,23,90,25],[91,3,91,5],[91,7,91,9],[91,11,91,13],[91,15,91,17],[91,19,91,21],[91,23,91,25],[92,1,92,25],[93,1,96,1],[93,3,93,5],[93,7,93,9],[93,11,93,13],[93,15,93,17],[93,19,93,21],[93,23,93,25],[94,3,94,5],[94,7,94,9],[94,11,94,13],[94,15,94,17],[94,19,94,21],[94,23,94,25],[95,3,95,5],[95,7,95,9],[95,11,95,13],[95,15,95,17],[95,19,95,21],[95,23,95,25],[96,3,96,5],[96,7,96,9],[96,11,96,13],[96,15,96,17],[96,19,96,21],[96,23,96,25],[97,1,97,25],[98,1,101,1],[98,3,98,5],[98,7,98,9],[98,11,98,13],[98,15,98,17],[98,19,98,21],[98,23,98,25],[99,3,99,5],[99,7,99,9],[99,11,99,13],[99,15,99,17],[99,19,99,21],[99,23,99,25],[100,3,100,5],[100,7,100,9],[100,11,100,13],[100,15,100,17],[100,19,100,21],[100,23,100,25],[101,3,101,5],[101,7,101,9],[101,11,101,13],[101,15,101,17],[101,19,101,21],[101,23,101,25],[102,1,102,25],[103,1,106,1],[103,3,103,5],[103,7,103,9],[103,11,103,13],[103,15,103,17],[103,19,103,21],[103,23,103,25],[104,3,104,5],[104,7,104,9],[104,11,104,13],[104,15,104,17],[104,19,104,21],[104,23,104,25],[105,3,105,5],[105,7,105,9],[105,11,105,13],[105,15,105,17],[105,19,105,21],[105,23,105,25],[106,3,106,5],[106,7,106,9],[106,11,106,13],[106,15,106,17],[106,19,106,21],[106,23,106,25],[107,1,107,25],[108,1,111,1],[108,3,108,5],[108,7,108,9],[108,11,108,13],[108,15,108,17],[108,19,108,21],[108,23,108,25],[109,3,109,5],[109,7,109,9],[109,11,109,13],[109,15,109,17],[109,19,109,21],[109,23,109,25],[110,3,110,5],[110,7,110,9],[110,11,110,13],[110,15,110,17],[110,19,110,21],[110,23,110,25],[111,3,111,5],[111,7,111,9],[111,11,111,13],[111,15,111,17],[111,19,111,21],[111,23,111,25],[112,1,112,25],[113,0,151,0],[113,1,116,1],[113,3,113,5],[113,7,113,9],[113,11,113,13],[113,15,113,17],[113,19,113,21],[113,23,113,25],[114,3,114,5],[114,7,114,9],[114,11,114,13],[114,15,114,17],[114,19,114,21],[114,23,114,25],[115,3,115,5],[115,7,115,9],[115,11,115,13],[115,15,115,17],[115,19,115,21],[115,23,115,25],[116,3,116,5],[116,7,116,9],[116,11,116,13],[116,15,116,17],[116,19,116,21],[116,23,116,25],[117,1,117,25],[118,1,121,1],[118,3,118,5],[118,7,118,9],[118,11,118,13],[118,15,118,17],[118,19,118,21],[118,23,118,25],[119,3,119,5],[119,7,119,9],[119,11,119,13],[119,15,119,17],[119,19,119,21],[119,23,119,25],[120,3,120,5],[120,7,120,9],[120,11,120,13],[120,15,120,17],[120,19,120,21],[120,23,120,25],[121,3,121,5],[121,7,121,9],[121,11,121,13],[121,15,121,17],[121,19,121,21],[121,23,121,25],[122,1,122,25],[123,1,126,1],[123,3,123,5],[123,7,123,9],[123,11,123,13],[123,15,123,17],[123,19,123,21],[123,23,123,25],[124,3,124,5],[124,7,124,9],[124,11,124,13],[124,15,124,17],[124,19,124,21],[124,23,124,25],[125,3,125,5],[125,7,125,9],[125,11,125,13],[125,15,125,17],[125,19,125,21],[125,23,125,25],[126,3,126,5],[126,7,126,9],[126,11,126,13],[126,15,126,17],[126,19,126,21],[126,23,126,25],[127,1,127,25],[128,1,131,1],[128,3,128,5],[128,7,128,9],[128,11,128,13],[128,15,128,17],[128,19,128,21],[128,23,128,25],[129,3,129,5],[129,7,129,9],[129,11,129,13],[129,15,129,17],[129,19,129,21],[129,23,129,25],[130,3,130,5],[130,7,130,9],[130,11,130,13],[130,15,130,17],[130,19,130,21],[130,23,130,25],[131,3,131,5],[131,7,131,9],[131,11,131,13],[131,15,131,17],[131,19,131,21],[131,23,131,25],[132,1,132,25],[133,1,136,1],[133,3,133,5],[133,7,133,9],[133,11,133,13],[133,15,133,17],[133,19,133,21],[133,23,133,25],[134,3,134,5],[134,7,134,9],[134,11,134,13],[134,15,134,17],[134,19,134,21],[134,23,134,25],[135,3,135,5],[135,7,135,9],[135,11,135,13],[135,15,135,17],[135,19,135,21],[135,23,135,25],[136,3,136,5],[136,7,136,9],[136,11,136,13],[136,15,136,17],[136,19,136,21],[136,23,136,25],[137,1,137,25],[138,1,141,1],[138,3,138,5],[138,7,138,9],[138,11,138,13],[138,15,138,17],[138,19,138,21],[138,23,138,25],[139,3,139,5],[139,7,139,9],[139,11,139,13],[139,15,139,17],[139,19,139,21],[139,23,139,25],[140,3,140,5],[140,7,140,9],[140,11,140,13],[140,15,140,17],[140,19,140,21],[140,23,140,25],[141,3,141,5],[141,7,141,9],[141,11,141,13],[141,15,141,17],[141,19,141,21],[141,23,141,25],[142,1,142,25],[143,1,146,1],[143,3,143,5],[143,7,143,9],[143,11,143,13],[143,15,143,17],[143,19,143,21],[143,23,143,25],[144,3,144,5],[144,7,144,9],[144,11,144,13],[144,15,144,17],[144,19,144,21],[144,23,144,25],[145,3,145,5],[145,7,145,9],[145,11,145,13],[145,15,145,17],[145,19,145,21],[145,23,145,25],[146,3,146,5],[146,7,146,9],[146,11,146,13],[146,15,146,17],[146,19,146,21],[146,23,146,25],[147,1,147,25],[148,1,151,1],[148,3,148,5],[148,7,148,9],[148,11,148,13],[148,15,148,17],[148,19,148,21],[148,23,148,25],[149,3,149,5],[149,7,149,9],[149,11,149,13],[149,15,149,17],[149,19,149,21],[149,23,149,25],[150,3,150,5],[150,7,150,9],[150,11,150,13],[150,15,150,17],[150,19,150,21],[150,23,150,25],[151,3,151,5],[151,7,151,9],[151,11,151,13],[151,15,151,17],[151,19,151,21],[151,23,151,25],[152,1,152,25],[153,0,191,0],[153,1,156,1],[153,3,153,5],[153,7,153,9],[153,11,153,13],[153,15,153,17],[153,19,153,21],[153,23,153,25],[154,3,154,5],[154,7,154,9],[154,11,154,13],[154,15,154,17],[154,19,154,21],[154,23,154,25],[155,3,155,5],[155,7,155,9],[155,11,155,13],[155,15,155,17],[155,19,155,21],[155,23,155,25],[156,3,156,5],[156,7,156,9],[156,11,156,13],[156,15,156,17],[156,19,156,21],[156,23,156,25],[157,1,157,25],[158,1,161,1],[158,3,158,5],[158,7,158,9],[158,11,158,13],[158,15,158,17],[158,19,158,21],[158,23,158,25],[159,3,159,5],[159,7,159,9],[159,11,159,13],[159,15,159,17],[159,19,159,21],[159,23,159,25],[160,3,160,5],[160,7,160,9],[160,11,160,13],[160,15,160,17],[160,19,160,21],[160,23,160,25],[161,3,161,5],[161,7,161,9],[161,11,161,13],[161,15,161,17],[161,19,161,21],[161,23,161,25],[162,1,162,25],[163,1,166,1],[163,3,163,5],[163,7,163,9],[163,11,163,13],[163,15,163,17],[163,19,163,21],[163,23,163,25],[164,3,164,5],[164,7,164,9],[164,11,164,13],[164,15,164,17],[164,19,164,21],[164,23,164,25],[165,3,165,5],[165,7,165,9],[165,11,165,13],[165,15,165,17],[165,19,165,21],[165,23,165,25],[166,3,166,5],[166,7,166,9],[166,11,166,13],[166,15,166,17],[166,19,166,21],[166,23,166,25],[167,1,167,25],[168,1,171,1],[168,3,168,5],[168,7,168,9],[168,11,168,13],[168,15,168,17],[168,19,168,21],[168,23,168,25],[169,3,169,5],[169,7,169,9],[169,11,169,13],[169,15,169,17],[169,19,169,21],[169,23,169,25],[170,3,170,5],[170,7,170,9],[170,11,170,13],[170,15,170,17],[170,19,170,21],[170,23,170,25],[171,3,171,5],[171,7,171,9],[171,11,171,13],[171,15,171,17],[171,19,171,21],[171,23,171,25],[172,1,172,25],[173,1,176,1],[173,3,173,5],[173,7,173,9],[173,11,173,13],[173,15,173,17],[173,19,173,21],[173,23,173,25],[174,3,174,5],[174,7,174,9],[174,11,174,13],[174,15,174,17],[174,19,174,21],[174,23,174,25],[175,3,175,5],[175,7,175,9],[175,11,175,13],[175,15,175,17],[175,19,175,21],[175,23,175,25],[176,3,176,5],[176,7,176,9],[176,11,176,13],[176,15,176,17],[176,19,176,21],[176,23,176,25],[177,1,177,25],[178,1,181,1],[178,3,178,5],[178,7,178,9],[178,11,178,13],[178,15,178,17],[178,19,178,21],[178,23,178,25],[179,3,179,5],[179,7,179,9],[179,11,179,13],[179,15,179,17],[179,19,179,21],[179,23,179,25],[180,3,180,5],[180,7,180,9],[180,11,180,13],[180,15,180,17],[180,19,180,21],[180,23,180,25],[181,3,181,5],[181,7,181,9],[181,11,181,13],[181,15,181,17],[181,19,181,21],[181,23,181,25],[182,1,182,25],[183,1,186,1],[183,3,183,5],[183,7,183,9],[183,11,183,13],[183,15,183,17],[183,19,183,21],[183,23,183,25],[184,3,184,5],[184,7,184,9],[184,11,184,13],[184,15,184,17],[184,19,184,21],[184,23,184,25],[185,3,185,5],[185,7,185,9],[185,11,185,13],[185,15,185,17],[185,19,185,21],[185,23,185,25],[186,3,186,5],[186,7,186,9],[186,11,186,13],[186,15,186,17],[186,19,186,21],[186,23,186,25],[187,1,187,25],[193,0,223,0],[224,0,224,1],[225,0,225,1],[227,0,257,0],[258,0,258,1],[259,0,259,1],[263,0,293,0],[294,0,294,1],[295,0,295,1],[299,0,329,0],[330,0,330,1],[331,0,331,1]],"merged_total":1026,"flags":["merged_cut"]}
[]
[{"$f":"info!B2&\"                       \"&info!B3&\" \"&info!B4","v":"Jesse Hutton                       November 2014"}]
[{"$nulls":3},"Sugar Test Averages",{"$nulls":6},"Blood Pressure Averages",{"$nulls":11},"Sugar Levels"]
[null,"Freq",null,"# of Tests",null,null,"Sugar",null,"Status",null,"# of Tests",null,null,"SYS","Status",null,null,"DIA","Status",null,null,"PUL"]
[null,"Hourly",null,{"$f":"IF(COUNTIF($C$194:$Z$224, \">0\")=0, \"\", COUNTIF($C$194:$Z$224, \">0\"))","v":15},null,null,{"$f":"IFERROR((SUM($C$226:$Z$226)/$D$5), \"\")","v":201},null,{"$f":"IF(G5=\"\",\"\",IF(G5<70,\"TOO LOW\",IF(G5<=80,\"LOW\",IF(G5<=120,\"Normal\",\"High\"))))","v":"High"},null,{"$f":"IF(COUNTIF($C$228:$Z$258, \">0\")=0, \"\", COUNTIF($C$228:$Z$258, \">0\"))","v":1},null,null,{"$f":"IFERROR((SUM($C$260:$Z$260)/$K$5), \"\")","v":136},{"$f":"IF(N5=\"\", \"\", IF(N5<120, \"Normal\", IF(N5<140, \"Prehyp\", IF(N5<160, \"Stage 1 hyp\", \"Stage 2 hyp\"))))","v":"Prehyp"},null,null,{"$f":"IFERROR((SUM($C$296:$Z$296)/$K$5), \"\")","v":78},{"$f":"IF(R5=\"\", \"\", IF(R5<80, \"Normal\", IF(R5<89, \"Prehyp\", IF(R5<99, \"Stage 1 hyp\", \"Stage 2 hyp\"))))","v":"Normal"},null,null,{"$f":"IFERROR((SUM($C$332:$Z$332)/$K$5), \"\")","v":77},"Lowest"]
[null,"Morn",null,{"$f":"IF(COUNTIF($C$194:$J$224, \">0\")=0, \"\", COUNTIF($C$194:$J$224, \">0\"))","v":2},null,null,201,null,{"$f":"IF(G6=\"\",\"\",IF(G6<70,\"TOO LOW\",IF(G6<=80,\"LOW\",IF(G6<=120,\"Normal\",\"High\"))))","v":"High"},null,{"$f":"IF(COUNTIF($C$228:$M$258, \">0\")=0, \"\", COUNTIF($C$228:$M$258, \">0\"))","v":1},null,null,{"$f":"IFERROR((SUM($C$228:$M$258)/COUNTIF($C$228:$M$258, \">0\")), \"\")","v":136},"Prehyp",null,null,{"$f":"IFERROR((SUM($C$264:$M$294)/COUNTIF($C$264:$M$294, \">0\")), \"\")","v":78},"Normal",null,null,{"$f":"IFERROR((SUM($C$300:$M$330)/COUNTIF($C$300:$M$330, \">0\")), \"\")","v":77},{"$f":"MIN($C$194:$Z$224)","v":138}]
[null,"Noon",null,{"$f":"IF(COUNTIF($J$194:$Q$224, \">0\")=0, \"\", COUNTIF($J$194:$Q$224, \">0\"))","v":7},null,null,201,null,"High",null,{"$f":"IF(COUNTIF($N$228:$T$258, \">0\")=0, \"\", COUNTIF($N$228:$T$258, \">0\"))","v":""},null,null,{"$f":"IFERROR((SUM($N$228:$T$258)/COUNTIF($N$228:$T$258, \">0\")), \"\")","v":""},"",null,null,{"$f":"IFERROR((SUM($N$264:$T$294)/COUNTIF($N$264:$T$294, \">0\")), \"\")","v":""},"",null,null,{"$f":"IFERROR((SUM($N$300:$T$330)/COUNTIF($N$300:$T$330, \">0\")), \"\")","v":""}]
[null,"Eve",null,{"$f":"IF(COUNTIF($R$194:$Y$224, \">0\")=0, \"\", COUNTIF($R$194:$Y$224, \">0\"))","v":7},null,null,201,null,"High",null,{"$f":"IF(COUNTIF($U$228:$Z$258, \">0\")=0, \"\", COUNTIF($U$228:$Z$258, \">0\"))","v":""},null,null,{"$f":"IFERROR((SUM($U$228:$Z$258)/COUNTIF($U$228:$Z$258, \">0\")), \"\")","v":""},"",null,null,{"$f":"IFERROR((SUM($U$264:$Z$294)/COUNTIF($U$264:$Z$294, \">0\")), \"\")","v":""},"",null,null,{"$f":"IFERROR((SUM($U$300:$Z$330)/COUNTIF($U$300:$Z$330, \">0\")), \"\")","v":""},"Highest"]
[null,"Daily",null,{"$f":"IF(BN226=\"\", \"\", BN226)","v":10},null,null,{"$f":"IF(BP226=\"\", \"\", BP226)","v":{"v":301.5,"d":"302"}},null,"High",null,{"$f":"IF(SUM(AA228:AA258)>0,SUM(AA228:AA258), \"\")","v":1},null,null,{"$f":"IFERROR((SUM($C$228:$Z$258)/$K$9), \"\")","v":136},"Prehyp",null,null,{"$f":"IFERROR((SUM($C$264:$Z$294)/$K$9), \"\")","v":78},"Normal",null,null,{"$f":"IFERROR((SUM($C$300:$Z$330)/$K$9), \"\")","v":77},{"$f":"MAX($C$194:$Z$224)","v":275}]
[null,"Month",null,{"$f":"IF(SUM(AA194:AA224)>0,SUM(AA194:AA224), \"\")","v":15},null,null,201,null,"High",null,{"$f":"IF(SUM(AA228:AA258)>0,SUM(AA228:AA258), \"\")","v":1},null,null,{"$f":"IFERROR((SUM($C$228:$Z$258))/$K$10, \"\")","v":136},"Prehyp",null,null,{"$f":"IFERROR((SUM($C$264:$Z$294))/$K$10, \"\")","v":78},"Normal",null,null,{"$f":"IFERROR((SUM($C$300:$Z$330))/$K$10, \"\")","v":77}]
[null,"Week 1",null,{"$f":"IF(COUNTIF($C$194:$Z$200, \">0\")=0, \"\", COUNTIF($C$194:$Z$200, \">0\"))","v":14},null,null,201,null,"High",null,{"$f":"IF(COUNTIF($C228:$C234, \">0\")=0, \"\", COUNTIF($C228:$C234, \">0\"))","v":""},null,null,{"$f":"IFERROR((SUM($C228:$C234))/$K$11, \"\")","v":""},"",null,null,{"$f":"IFERROR((SUM($C264:$C270))/$K$11, \"\")","v":""},"",null,null,{"$f":"IFERROR((SUM($C300:$C306))/$K$11, \"\")","v":""}]
[null,"Week 2",null,{"$f":"IF(COUNTIF($C$201:$Z$207, \">0\")=0, \"\", COUNTIF($C$201:$Z$207, \">0\"))","v":1},null,null,201,null,"High",null,{"$f":"IF(COUNTIF($C$235:$Z$241, \">0\")=0, \"\", COUNTIF($C$235:$Z$241, \">0\"))","v":""},null,null,{"$f":"IFERROR((SUM($C$235:$Z$241))/$K$12, \"\")","v":""},"",null,null,{"$f":"IFERROR((SUM($C$271:$Z$277))/$K$12, \"\")","v":""},"",null,null,{"$f":"IFERROR((SUM($C$307:$Z$313))/$K$12, \"\")","v":""}]
[null,"Week 3",null,{"$f":"IF(COUNTIF($C$208:$Z$214, \">0\")=0, \"\", COUNTIF($C$208:$Z$214, \">0\"))","v":""},null,null,201,null,"High",null,{"$f":"IF(COUNTIF($C$242:$Z$248, \">0\")=0, \"\", COUNTIF(C$242:$Z$248, \">0\"))","v":""},null,null,{"$f":"IFERROR((SUM(C$242:$Z$248))/$K$13, \"\")","v":""},"",null,null,{"$f":"IFERROR((SUM($C$278:$Z$284))/$K$13, \"\")","v":""},"",null,null,{"$f":"IFERROR((SUM($C$314:$Z$320))/$K$13, \"\")","v":""}]
[null,"Week 4",null,{"$f":"IF(COUNTIF($C$215:$Z$221, \">0\")=0, \"\", COUNTIF($C$215:$Z$221, \">0\"))","v":""},null,null,201,null,"High",null,{"$f":"IF(COUNTIF($C$249:$Z$255, \">0\")=0, \"\", COUNTIF($C$249:$Z$255, \">0\"))","v":""},null,null,{"$f":"IFERROR((SUM($C$249:$Z$255))/$K$14, \"\")","v":""},"",null,null,{"$f":"IFERROR((SUM($C$285:$Z$291))/$K$14, \"\")","v":""},"",null,null,{"$f":"IFERROR((SUM($C$321:$Z$327))/$K$14, \"\")","v":""}]
[null,"Week 5",null,{"$f":"IF(COUNTIF($C$222:$Z$224, \">0\")=0, \"\", COUNTIF($C$222:$Z$224, \">0\"))","v":""},null,null,201,null,"High",null,{"$f":"IF(COUNTIF($C$256:$Z$258, \">0\")=0, \"\", COUNTIF($C$194:$Z$200, \">0\"))","v":""},null,null,{"$f":"IFERROR((SUM($C$256:$Z$258))/$K$15, \"\")","v":""},"",null,null,{"$f":"IFERROR((SUM($C$292:$Z$294))/$K$15, \"\")","v":""},"",null,null,{"$f":"IFERROR((SUM($C$328:$Z$330))/$K$15, \"\")","v":""}]
[null,"Averages by the Hour"]
[null,"HR",1,{"$f":"C17+1","v":2},3,4,5,6,7,8,9,10,11,12,13,14,15,16,17,18,19,20,21,22,23,24]
["#",null,{"$f":"IF(COUNTIF(C194:C224, \">0\")=0, \"\", COUNTIF(C194:C224, \">0\"))","v":""},{"$f":"IF(COUNTIF(D194:D224, \">0\")=0, \"\", COUNTIF(D194:D224, \">0\"))","v":""},{"$f":"IF(COUNTIF(E194:E224, \">0\")=0, \"\", COUNTIF(E194:E224, \">0\"))","v":""},"","",1,"",1,4,1,"","","",1,"","",1,"",1,1,"",3,1,""]
["T",null,{"$f":"IF(SUM(C194:C224)=0, \"\", SUM(C194:C224)/C18)","v":""},"","","","",202,"",188,{"v":210.25,"d":"210"},163,"","","",256,"","",138,"",184,145,"",{"v":232.33333333333334,"d":"232"},201,""]
[]
[null,"Weight by day"]
[{"$nulls":3},1,null,2,null,3,null,4,null,5,null,6,null,7,null,8,null,9,null,10]
[null,"Home",null,{"$f":"IF('1'!$C$8=\"\", \"\", '1'!$C$8)","v":""},null,{"$f":"IF('2'!$C$8=\"\", \"\", '2'!$C$8)","v":""},null,{"$f":"IF('3'!$C$8=\"\", \"\", '3'!$C$8)","v":""},null,{"$f":"IF('4'!$C$8=\"\", \"\", '4'!$C$8)","v":""},null,{"$f":"IF('5'!$C$8=\"\", \"\", '5'!$C$8)","v":""},null,{"$f":"IF('6'!$C$8=\"\", \"\", '6'!$C$8)","v":""},null,{"$f":"IF('7'!$C$8=\"\", \"\", '7'!$C$8)","v":""},null,{"$f":"IF('8'!$C$8=\"\", \"\", '8'!$C$8)","v":""},null,{"$f":"IF('9'!$C$8=\"\", \"\", '9'!$C$8)","v":""},null,{"$f":"IF('10'!$C$8=\"\", \"\", '10'!$C$8)","v":""}]
[null,"Doc",null,{"$f":"IF('1'!$C$9=\"\", \"\", '1'!$C$9)","v":""},null,{"$f":"IF('2'!$C$9=\"\", \"\", '2'!$C$9)","v":""},null,{"$f":"IF('3'!$C$9=\"\", \"\", '3'!$C$9)","v":""},null,{"$f":"IF('4'!$C$9=\"\", \"\", '4'!$C$9)","v":""},null,{"$f":"IF('5'!$C$9=\"\", \"\", '5'!$C$9)","v":""},null,{"$f":"IF('6'!$C$9=\"\", \"\", '6'!$C$9)","v":""},null,{"$f":"IF('7'!$C$9=\"\", \"\", '7'!$C$9)","v":""},null,{"$f":"IF('8'!$C$9=\"\", \"\", '8'!$C$9)","v":""},null,{"$f":"IF('9'!$C$9=\"\", \"\", '9'!$C$9)","v":""},null,{"$f":"IF('10'!$C$9=\"\", \"\", '10'!$C$9)","v":""}]
[]
[{"$nulls":3},11,null,12,null,13,null,14,null,15,null,16,null,17,null,18,null,19,null,20]
[null,"Home",null,{"$f":"IF('11'!$C$8=\"\", \"\", '11'!$C$8)","v":""},null,{"$f":"IF('12'!$C$8=\"\", \"\", '12'!$C$8)","v":""},null,{"$f":"IF('13'!$C$8=\"\", \"\", '13'!$C$8)","v":""},null,{"$f":"IF('14'!$C$8=\"\", \"\", '14'!$C$8)","v":""},null,{"$f":"IF('15'!$C$8=\"\", \"\", '15'!$C$8)","v":""},null,{"$f":"IF('16'!$C$8=\"\", \"\", '16'!$C$8)","v":""},null,{"$f":"IF('17'!$C$8=\"\", \"\", '17'!$C$8)","v":""},null,{"$f":"IF('18'!$C$8=\"\", \"\", '18'!$C$8)","v":""},null,{"$f":"IF('19'!$C$8=\"\", \"\", '19'!$C$8)","v":""},null,{"$f":"IF('20'!$C$8=\"\", \"\", '20'!$C$8)","v":""}]
[null,"Doc",null,{"$f":"IF('11'!$C$9=\"\", \"\", '11'!$C$9)","v":""},null,{"$f":"IF('12'!$C$9=\"\", \"\", '12'!$C$9)","v":""},null,{"$f":"IF('13'!$C$9=\"\", \"\", '13'!$C$9)","v":""},null,{"$f":"IF('14'!$C$9=\"\", \"\", '14'!$C$9)","v":""},null,{"$f":"IF('15'!$C$9=\"\", \"\", '15'!$C$9)","v":""},null,{"$f":"IF('16'!$C$9=\"\", \"\", '16'!$C$9)","v":""},null,{"$f":"IF('17'!$C$9=\"\", \"\", '17'!$C$9)","v":""},null,{"$f":"IF('18'!$C$9=\"\", \"\", '18'!$C$9)","v":""},null,{"$f":"IF('19'!$C$9=\"\", \"\", '19'!$C$9)","v":""},null,{"$f":"IF('20'!$C$9=\"\", \"\", '20'!$C$9)","v":""}]
[]
[{"$nulls":3},21,null,22,null,23,null,24,null,25,null,26,null,27,null,28,null,29,null,30,null,31]
[null,"Home",null,{"$f":"IF('21'!$C$8=\"\", \"\", '21'!$C$8)","v":""},null,{"$f":"IF('22'!$C$8=\"\", \"\", '22'!$C$8)","v":""},null,{"$f":"IF('23'!$C$8=\"\", \"\", '23'!$C$8)","v":""},null,{"$f":"IF('24'!$C$8=\"\", \"\", '24'!$C$8)","v":""},null,{"$f":"IF('25'!$C$8=\"\", \"\", '25'!$C$8)","v":""},null,{"$f":"IF('26'!$C$8=\"\", \"\", '26'!$C$8)","v":""},null,{"$f":"IF('27'!$C$8=\"\", \"\", '27'!$C$8)","v":""},null,{"$f":"IF('28'!$C$8=\"\", \"\", '28'!$C$8)","v":""},null,{"$f":"IF('29'!$C$8=\"\", \"\", '29'!$C$8)","v":""},null,{"$f":"IF('30'!$C$8=\"\", \"\", '30'!$C$8)","v":""},null,{"$f":"IF('31'!$C$8=\"\", \"\", '31'!$C$8)","v":""}]
[null,"Doc",null,{"$f":"IF('21'!$C$9=\"\", \"\", '21'!$C$9)","v":""},null,{"$f":"IF('22'!$C$9=\"\", \"\", '22'!$C$9)","v":""},null,{"$f":"IF('23'!$C$9=\"\", \"\", '23'!$C$9)","v":""},null,{"$f":"IF('24'!$C$9=\"\", \"\", '24'!$C$9)","v":""},null,{"$f":"IF('25'!$C$9=\"\", \"\", '25'!$C$9)","v":""},null,{"$f":"IF('26'!$C$9=\"\", \"\", '26'!$C$9)","v":""},null,{"$f":"IF('27'!$C$9=\"\", \"\", '27'!$C$9)","v":""},null,{"$f":"IF('28'!$C$9=\"\", \"\", '28'!$C$9)","v":""},null,{"$f":"IF('29'!$C$9=\"\", \"\", '29'!$C$9)","v":""},null,{"$f":"IF('30'!$C$9=\"\", \"\", '30'!$C$9)","v":""},null,{"$f":"IF('31'!$C$9=\"\", \"\", '31'!$C$9)","v":""}]
[]
[{"$f":"info!$B$2&\"        \"&info!$B$3&\", \"&info!$B$4","v":"Jesse Hutton        November, 2014"},1,1,{"$f":"IF('1'!$B$11=\"\", \"\", '1'!$B$11)","v":""},null,null,5,{"$f":"IF('1'!$B$15=\"\", \"\", '1'!$B$15)","v":""},null,null,9,{"$f":"IF('1'!$B$19=\"\", \"\", '1'!$B$19)","v":200},null,null,13,{"$f":"IF('1'!$B$23=\"\", \"\", '1'!$B$23)","v":""},null,null,17,{"$f":"IF('1'!$B$27=\"\", \"\", '1'!$B$27)","v":""},null,null,21,{"$f":"IF('1'!$B$31=\"\", \"\", '1'!$B$31)","v":""},{"$nulls":7},{"$f":"IF('1'!$D$11=\"\", \"\", '1'!$D$11)","v":""},{"$f":"IF(AF34=\"\", \"\", \"/\")","v":""},{"$f":"IF('1'!$F$11=\"\", \"\", '1'!$F$11)","v":""},{"$f":"IF(AJ34=\"\", \"\", \"P\")","v":""},{"$f":"IF('1'!$H$11=\"\", \"\", '1'!$H$11)","v":""},{"$f":"IF('1'!$D$15=\"\", \"\", '1'!$D$15)","v":""},{"$f":"IF(AK34=\"\", \"\", \"/\")","v":""},{"$f":"IF('1'!$F$15=\"\", \"\", '1'!$F$15)","v":""},{"$f":"IF(AO34=\"\", \"\", \"P\")","v":""},{"$f":"IF('1'!$H$15=\"\", \"\", '1'!$H$15)","v":""},{"$f":"IF('1'!$D$19=\"\", \"\", '1'!$D$19)","v":""},{"$f":"IF(AP34=\"\", \"\", \"/\")","v":""},{"$f":"IF('1'!$F$19=\"\", \"\", '1'!$F$19)","v":""},{"$f":"IF(AT34=\"\", \"\", \"P\")","v":""},{"$f":"IF('1'!$H$19=\"\", \"\", '1'!$H$19)","v":""},{"$f":"IF('1'!$D$23=\"\", \"\", '1'!$D$23)","v":""},{"$f":"IF(AU34=\"\", \"\", \"/\")","v":""},{"$f":"IF('1'!$F$23=\"\", \"\", '1'!$F$23)","v":""},{"$f":"IF(AY34=\"\", \"\", \"P\")","v":""},{"$f":"IF('1'!$H$23=\"\", \"\", '1'!$H$23)","v":""},{"$f":"IF('1'!$D$27=\"\", \"\", '1'!$D$27)","v":""},{"$f":"IF(AZ34=\"\", \"\", \"/\")","v":""},{"$f":"IF('1'!$F$27=\"\", \"\", '1'!$F$27)","v":""},{"$f":"IF(BD34=\"\", \"\", \"P\")","v":""},{"$f":"IF('1'!$H$27=\"\", \"\", '1'!$H$27)","v":""},{"$f":"IF('1'!$D$31=\"\", \"\", '1'!$D$31)","v":""},{"$f":"IF(BE34=\"\", \"\", \"/\")","v":""},{"$f":"IF('1'!$F$31=\"\", \"\", '1'!$F$31)","v":""},{"$f":"IF(BI34=\"\", \"\", \"P\")","v":""},{"$f":"IF('1'!$H$31=\"\", \"\", '1'!$H$31)","v":""}]
[null,null,2,{"$f":"IF('1'!$B$12=\"\", \"\", '1'!$B$12)","v":""},null,null,6,{"$f":"IF('1'!$B$16=\"\", \"\", '1'!$B$16)","v":""},null,null,10,{"$f":"IF('1'!$B$20=\"\", \"\", '1'!$B$20)","v":""},null,null,14,{"$f":"IF('1'!$B$24=\"\", \"\", '1'!$B$24)","v":256},null,null,18,{"$f":"IF('1'!$B$28=\"\", \"\", '1'!$B$28)","v":""},null,null,22,{"$f":"IF('1'!$B$32=\"\", \"\", '1'!$B$32)","v":""},{"$nulls":7},{"$f":"IF('1'!$D$12=\"\", \"\", '1'!$D$12)","v":""},{"$f":"IF(AF35=\"\", \"\", \"/\")","v":""},{"$f":"IF('1'!$F$12=\"\", \"\", '1'!$F$12)","v":""},{"$f":"IF(AJ35=\"\", \"\", \"P\")","v":""},{"$f":"IF('1'!$H$12=\"\", \"\", '1'!$H$12)","v":""},{"$f":"IF('1'!$D$16=\"\", \"\", '1'!$D$16)","v":""},{"$f":"IF(AK35=\"\", \"\", \"/\")","v":""},{"$f":"IF('1'!$F$16=\"\", \"\", '1'!$F$16)","v":""},{"$f":"IF(AO35=\"\", \"\", \"P\")","v":""},{"$f":"IF('1'!$H$16=\"\", \"\", '1'!$H$16)","v":""},{"$f":"IF('1'!$D$20=\"\", \"\", '1'!$D$20)","v":""},{"$f":"IF(AP35=\"\", \"\", \"/\")","v":""},{"$f":"IF('1'!$F$20=\"\", \"\", '1'!$F$20)","v":""},{"$f":"IF(AT35=\"\", \"\", \"P\")","v":""},{"$f":"IF('1'!$H$20=\"\", \"\", '1'!$H$20)","v":""},{"$f":"IF('1'!$D$24=\"\", \"\", '1'!$D$24)","v":""},{"$f":"IF(AU35=\"\", \"\", \"/\")","v":""},{"$f":"IF('1'!$F$24=\"\", \"\", '1'!$F$24)","v":""},{"$f":"IF(AY35=\"\", \"\", \"P\")","v":""},{"$f":"IF('1'!$H$24=\"\", \"\", '1'!$H$24)","v":""},{"$f":"IF('1'!$D$28=\"\", \"\", '1'!$D$28)","v":""},{"$f":"IF(AZ35=\"\", \"\", \"/\")","v":""},{"$f":"IF('1'!$F$28=\"\", \"\", '1'!$F$28)","v":""},{"$f":"IF(BD35=\"\", \"\", \"P\")","v":""},{"$f":"IF('1'!$H$28=\"\", \"\", '1'!$H$28)","v":""},{"$f":"IF('1'!$D$32=\"\", \"\", '1'!$D$32)","v":""},{"$f":"IF(BE35=\"\", \"\", \"/\")","v":""},{"$f":"IF('1'!$F$32=\"\", \"\", '1'!$F$32)","v":""},{"$f":"IF(BI35=\"\", \"\", \"P\")","v":""},{"$f":"IF('1'!$H$32=\"\", \"\", '1'!$H$32)","v":""}]
[null,null,3,{"$f":"IF('1'!$B$13=\"\", \"\", '1'!$B$13)","v":""},null,null,7,{"$f":"IF('1'!$B$17=\"\", \"\", '1'!$B$17)","v":""},null,null,11,{"$f":"IF('1'!$B$21=\"\", \"\", '1'!$B$21)","v":""},null,null,15,{"$f":"IF('1'!$B$25=\"\", \"\", '1'!$B$25)","v":""},null,null,19,{"$f":"IF('1'!$B$29=\"\", \"\", '1'!$B$29)","v":""},null,null,23,{"$f":"IF('1'!$B$33=\"\", \"\", '1'!$B$33)","v":""},{"$nulls":7},{"$f":"IF('1'!$D$13=\"\", \"\", '1'!$D$13)","v":""},"",{"$f":"IF('1'!$F$13=\"\", \"\", '1'!$F$13)","v":""},"",{"$f":"IF('1'!$H$13=\"\", \"\", '1'!$H$13)","v":""},{"$f":"IF('1'!$D$17=\"\", \"\", '1'!$D$17)","v":""},"",{"$f":"IF('1'!$F$17=\"\", \"\", '1'!$F$17)","v":""},"",{"$f":"IF('1'!$H$17=\"\", \"\", '1'!$H$17)","v":""},{"$f":"IF('1'!$D$21=\"\", \"\", '1'!$D$21)","v":""},"",{"$f":"IF('1'!$F$21=\"\", \"\", '1'!$F$21)","v":""},"",{"$f":"IF('1'!$H$21=\"\", \"\", '1'!$H$21)","v":""},{"$f":"IF('1'!$D$25=\"\", \"\", '1'!$D$25)","v":""},"",{"$f":"IF('1'!$F$25=\"\", \"\", '1'!$F$25)","v":""},"",{"$f":"IF('1'!$H$25=\"\", \"\", '1'!$H$25)","v":""},{"$f":"IF('1'!$D$29=\"\", \"\", '1'!$D$29)","v":""},"",{"$f":"IF('1'!$F$29=\"\", \"\", '1'!$F$29)","v":""},"",{"$f":"IF('1'!$H$29=\"\", \"\", '1'!$H$29)","v":""},{"$f":"IF('1'!$D$33=\"\", \"\", '1'!$D$33)","v":""},"",{"$f":"IF('1'!$F$33=\"\", \"\", '1'!$F$33)","v":""},"",{"$f":"IF('1'!$H$33=\"\", \"\", '1'!$H$33)","v":""}]
[null,null,4,{"$f":"IF('1'!$B$14=\"\", \"\", '1'!$B$14)","v":""},null,null,8,{"$f":"IF('1'!$B$18=\"\", \"\", '1'!$B$18)","v":""},null,null,12,{"$f":"IF('1'!$B$22=\"\", \"\", '1'!$B$22)","v":""},null,null,16,{"$f":"IF('1'!$B$26=\"\", \"\", '1'!$B$26)","v":""},null,null,20,{"$f":"IF('1'!$B$30=\"\", \"\", '1'!$B$30)","v":""},null,null,24,{"$f":"IF('1'!$B$34=\"\", \"\", '1'!$B$34)","v":""},{"$nulls":7},{"$f":"IF('1'!$D$14=\"\", \"\", '1'!$D$14)","v":""},"",{"$f":"IF('1'!$F$14=\"\", \"\", '1'!$F$14)","v":""},"",{"$f":"IF('1'!$H$14=\"\", \"\", '1'!$H$14)","v":""},{"$f":"IF('1'!$D$18=\"\", \"\", '1'!$D$18)","v":""},"",{"$f":"IF('1'!$F$18=\"\", \"\", '1'!$F$18)","v":""},"",{"$f":"IF('1'!$H$18=\"\", \"\", '1'!$H$18)","v":""},{"$f":"IF('1'!$D$22=\"\", \"\", '1'!$D$22)","v":""},"",{"$f":"IF('1'!$F$22=\"\", \"\", '1'!$F$22)","v":""},"",{"$f":"IF('1'!$H$22=\"\", \"\", '1'!$H$22)","v":""},{"$f":"IF('1'!$D$26=\"\", \"\", '1'!$D$26)","v":""},"",{"$f":"IF('1'!$F$26=\"\", \"\", '1'!$F$26)","v":""},"",{"$f":"IF('1'!$H$26=\"\", \"\", '1'!$H$26)","v":""},{"$f":"IF('1'!$D$30=\"\", \"\", '1'!$D$30)","v":""},"",{"$f":"IF('1'!$F$30=\"\", \"\", '1'!$F$30)","v":""},"",{"$f":"IF('1'!$H$30=\"\", \"\", '1'!$H$30)","v":""},{"$f":"IF('1'!$D$34=\"\", \"\", '1'!$D$34)","v":""},"",{"$f":"IF('1'!$F$34=\"\", \"\", '1'!$F$34)","v":""},"",{"$f":"IF('1'!$H$34=\"\", \"\", '1'!$H$34)","v":""}]
[{"$nulls":32},{"$f":"IF(AF38=\"\", \"\", \"/\")","v":""},null,{"$f":"IF(AJ38=\"\", \"\", \"P\")","v":""}]
[null,2,1,{"$f":"IF('2'!$B$11=\"\", \"\", '2'!$B$11)","v":""},null,null,5,{"$f":"IF('2'!$B$15=\"\", \"\", '2'!$B$15)","v":""},null,null,9,{"$f":"IF('2'!$B$19=\"\", \"\", '2'!$B$19)","v":220},null,null,13,{"$f":"IF('2'!$B$23=\"\", \"\", '2'!$B$23)","v":""},null,null,17,{"$f":"IF('2'!$B$27=\"\", \"\", '2'!$B$27)","v":""},null,null,21,{"$f":"IF('2'!$B$31=\"\", \"\", '2'!$B$31)","v":""},{"$nulls":7},{"$f":"IF('2'!$D$11=\"\", \"\", '2'!$D$11)","v":""},{"$f":"IF(AF39=\"\", \"\", \"/\")","v":""},{"$f":"IF('2'!$F$11=\"\", \"\", '2'!$F$11)","v":""},{"$f":"IF(AJ39=\"\", \"\", \"P\")","v":""},{"$f":"IF('2'!$H$11=\"\", \"\", '2'!$H$11)","v":""},{"$f":"IF('2'!$D$15=\"\", \"\", '2'!$D$15)","v":""},{"$f":"IF(AK39=\"\", \"\", \"/\")","v":""},{"$f":"IF('2'!$F$15=\"\", \"\", '2'!$F$15)","v":""},{"$f":"IF(AO39=\"\", \"\", \"P\")","v":""},{"$f":"IF('2'!$H$15=\"\", \"\", '2'!$H$15)","v":""},{"$f":"IF('2'!$D$19=\"\", \"\", '2'!$D$19)","v":""},{"$f":"IF(AP39=\"\", \"\", \"/\")","v":""},{"$f":"IF('2'!$F$19=\"\", \"\", '2'!$F$19)","v":""},{"$f":"IF(AT39=\"\", \"\", \"P\")","v":""},{"$f":"IF('2'!$H$19=\"\", \"\", '2'!$H$19)","v":""},{"$f":"IF('2'!$D$23=\"\", \"\", '2'!$D$23)","v":""},{"$f":"IF(AU39=\"\", \"\", \"/\")","v":""},{"$f":"IF('2'!$F$23=\"\", \"\", '2'!$F$23)","v":""},{"$f":"IF(AY39=\"\", \"\", \"P\")","v":""},{"$f":"IF('2'!$H$23=\"\", \"\", '2'!$H$23)","v":""},{"$f":"IF('2'!$D$27=\"\", \"\", '2'!$D$27)","v":""},{"$f":"IF(AZ39=\"\", \"\", \"/\")","v":""},{"$f":"IF('2'!$F$27=\"\", \"\", '2'!$F$27)","v":""},{"$f":"IF(BD39=\"\", \"\", \"P\")","v":""},{"$f":"IF('2'!$H$27=\"\", \"\", '2'!$H$27)","v":""},{"$f":"IF('2'!$D$31=\"\", \"\", '2'!$D$31)","v":""},{"$f":"IF(BE39=\"\", \"\", \"/\")","v":""},{"$f":"IF('2'!$F$31=\"\", \"\", '2'!$F$31)","v":""},{"$f":"IF(BI39=\"\", \"\", \"P\")","v":""},{"$f":"IF('2'!$H$31=\"\", \"\", '2'!$H$31)","v":""}]
[null,null,2,{"$f":"IF('2'!$B$12=\"\", \"\", '2'!$B$12)","v":""},null,null,6,{"$f":"IF('2'!$B$16=\"\", \"\", '2'!$B$16)","v":""},null,null,10,{"$f":"IF('2'!$B$20=\"\", \"\", '2'!$B$20)","v":""},null,null,14,{"$f":"IF('2'!$B$24=\"\", \"\", '2'!$B$24)","v":""},null,null,18,{"$f":"IF('2'!$B$28=\"\", \"\", '2'!$B$28)","v":""},null,null,22,{"$f":"IF('2'!$B$32=\"\", \"\", '2'!$B$32)","v":275},{"$nulls":7},{"$f":"IF('2'!$D$12=\"\", \"\", '2'!$D$12)","v":""},{"$f":"IF(AF40=\"\", \"\", \"/\")","v":""},{"$f":"IF('2'!$F$12=\"\", \"\", '2'!$F$12)","v":""},{"$f":"IF(AJ40=\"\", \"\", \"P\")","v":""},{"$f":"IF('2'!$H$12=\"\", \"\", '2'!$H$12)","v":""},{"$f":"IF('2'!$D$16=\"\", \"\", '2'!$D$16)","v":""},{"$f":"IF(AK40=\"\", \"\", \"/\")","v":""},{"$f":"IF('2'!$F$16=\"\", \"\", '2'!$F$16)","v":""},{"$f":"IF(AO40=\"\", \"\", \"P\")","v":""},{"$f":"IF('2'!$H$16=\"\", \"\", '2'!$H$16)","v":""},{"$f":"IF('2'!$D$20=\"\", \"\", '2'!$D$20)","v":""},{"$f":"IF(AP40=\"\", \"\", \"/\")","v":""},{"$f":"IF('2'!$F$20=\"\", \"\", '2'!$F$20)","v":""},{"$f":"IF(AT40=\"\", \"\", \"P\")","v":""},{"$f":"IF('2'!$H$20=\"\", \"\", '2'!$H$20)","v":""},{"$f":"IF('2'!$D$24=\"\", \"\", '2'!$D$24)","v":""},{"$f":"IF(AU40=\"\", \"\", \"/\")","v":""},{"$f":"IF('2'!$F$24=\"\", \"\", '2'!$F$24)","v":""},{"$f":"IF(AY40=\"\", \"\", \"P\")","v":""},{"$f":"IF('2'!$H$24=\"\", \"\", '2'!$H$24)","v":""},{"$f":"IF('2'!$D$28=\"\", \"\", '2'!$D$28)","v":""},{"$f":"IF(AZ40=\"\", \"\", \"/\")","v":""},{"$f":"IF('2'!$F$28=\"\", \"\", '2'!$F$28)","v":""},{"$f":"IF(BD40=\"\", \"\", \"P\")","v":""},{"$f":"IF('2'!$H$28=\"\", \"\", '2'!$H$28)","v":""},{"$f":"IF('2'!$D$32=\"\", \"\", '2'!$D$32)","v":""},{"$f":"IF(BE40=\"\", \"\", \"/\")","v":""},{"$f":"IF('2'!$F$32=\"\", \"\", '2'!$F$32)","v":""},{"$f":"IF(BI40=\"\", \"\", \"P\")","v":""},{"$f":"IF('2'!$H$32=\"\", \"\", '2'!$H$32)","v":""}]
[null,null,3,{"$f":"IF('2'!$B$13=\"\", \"\", '2'!$B$13)","v":""},null,null,7,{"$f":"IF('2'!$B$17=\"\", \"\", '2'!$B$17)","v":""},null,null,11,{"$f":"IF('2'!$B$21=\"\", \"\", '2'!$B$21)","v":""},null,null,15,{"$f":"IF('2'!$B$25=\"\", \"\", '2'!$B$25)","v":""},null,null,19,{"$f":"IF('2'!$B$29=\"\", \"\", '2'!$B$29)","v":""},null,null,23,{"$f":"IF('2'!$B$33=\"\", \"\", '2'!$B$33)","v":""},{"$nulls":7},{"$f":"IF('2'!$D$13=\"\", \"\", '2'!$D$13)","v":""},"",{"$f":"IF('2'!$F$13=\"\", \"\", '2'!$F$13)","v":""},"",{"$f":"IF('2'!$H$13=\"\", \"\", '2'!$H$13)","v":""},{"$f":"IF('2'!$D$17=\"\", \"\", '2'!$D$17)","v":""},"",{"$f":"IF('2'!$F$17=\"\", \"\", '2'!$F$17)","v":""},"",{"$f":"IF('2'!$H$17=\"\", \"\", '2'!$H$17)","v":""},{"$f":"IF('2'!$D$21=\"\", \"\", '2'!$D$21)","v":""},"",{"$f":"IF('2'!$F$21=\"\", \"\", '2'!$F$21)","v":""},"",{"$f":"IF('2'!$H$21=\"\", \"\", '2'!$H$21)","v":""},{"$f":"IF('2'!$D$25=\"\", \"\", '2'!$D$25)","v":""},"",{"$f":"IF('2'!$F$25=\"\", \"\", '2'!$F$25)","v":""},"",{"$f":"IF('2'!$H$25=\"\", \"\", '2'!$H$25)","v":""},{"$f":"IF('2'!$D$29=\"\", \"\", '2'!$D$29)","v":""},"",{"$f":"IF('2'!$F$29=\"\", \"\", '2'!$F$29)","v":""},"",{"$f":"IF('2'!$H$29=\"\", \"\", '2'!$H$29)","v":""},{"$f":"IF('2'!$D$33=\"\", \"\", '2'!$D$33)","v":""},"",{"$f":"IF('2'!$F$33=\"\", \"\", '2'!$F$33)","v":""},"",{"$f":"IF('2'!$H$33=\"\", \"\", '2'!$H$33)","v":""}]
[null,null,4,{"$f":"IF('2'!$B$14=\"\", \"\", '2'!$B$14)","v":""},null,null,8,{"$f":"IF('2'!$B$18=\"\", \"\", '2'!$B$18)","v":""},null,null,12,{"$f":"IF('2'!$B$22=\"\", \"\", '2'!$B$22)","v":""},null,null,16,{"$f":"IF('2'!$B$26=\"\", \"\", '2'!$B$26)","v":""},null,null,20,{"$f":"IF('2'!$B$30=\"\", \"\", '2'!$B$30)","v":""},null,null,24,{"$f":"IF('2'!$B$34=\"\", \"\", '2'!$B$34)","v":""},{"$nulls":7},{"$f":"IF('2'!$D$14=\"\", \"\", '2'!$D$14)","v":""},"",{"$f":"IF('2'!$F$14=\"\", \"\", '2'!$F$14)","v":""},"",{"$f":"IF('2'!$H$14=\"\", \"\", '2'!$H$14)","v":""},{"$f":"IF('2'!$D$18=\"\", \"\", '2'!$D$18)","v":""},"",{"$f":"IF('2'!$F$18=\"\", \"\", '2'!$F$18)","v":""},"",{"$f":"IF('2'!$H$18=\"\", \"\", '2'!$H$18)","v":""},{"$f":"IF('2'!$D$22=\"\", \"\", '2'!$D$22)","v":""},"",{"$f":"IF('2'!$F$22=\"\", \"\", '2'!$F$22)","v":""},"",{"$f":"IF('2'!$H$22=\"\", \"\", '2'!$H$22)","v":""},{"$f":"IF('2'!$D$26=\"\", \"\", '2'!$D$26)","v":""},"",{"$f":"IF('2'!$F$26=\"\", \"\", '2'!$F$26)","v":""},"",{"$f":"IF('2'!$H$26=\"\", \"\", '2'!$H$26)","v":""},{"$f":"IF('2'!$D$30=\"\", \"\", '2'!$D$30)","v":""},"",{"$f":"IF('2'!$F$30=\"\", \"\", '2'!$F$30)","v":""},"",{"$f":"IF('2'!$H$30=\"\", \"\", '2'!$H$30)","v":""},{"$f":"IF('2'!$D$34=\"\", \"\", '2'!$D$34)","v":""},"",{"$f":"IF('2'!$F$34=\"\", \"\", '2'!$F$34)","v":""},"",{"$f":"IF('2'!$H$34=\"\", \"\", '2'!$H$34)","v":""}]
[{"$nulls":32},"",null,""]
[null,3,1,{"$f":"IF('3'!$B$11=\"\", \"\", '3'!$B$11)","v":""},null,null,5,{"$f":"IF('3'!$B$15=\"\", \"\", '3'!$B$15)","v":""},null,null,9,{"$f":"IF('3'!$B$19=\"\", \"\", '3'!$B$19)","v":""},null,null,13,{"$f":"IF('3'!$B$23=\"\", \"\", '3'!$B$23)","v":""},null,null,17,{"$f":"IF('3'!$B$27=\"\", \"\", '3'!$B$27)","v":""},null,null,21,{"$f":"IF('3'!$B$31=\"\", \"\", '3'!$B$31)","v":""},{"$nulls":7},{"$f":"IF('3'!$D$11=\"\", \"\", '3'!$D$11)","v":""},{"$f":"IF(AF44=\"\", \"\", \"/\")","v":""},{"$f":"IF('3'!$F$11=\"\", \"\", '3'!$F$11)","v":""},{"$f":"IF(AJ44=\"\", \"\", \"P\")","v":""},{"$f":"IF('3'!$H$11=\"\", \"\", '3'!$H$11)","v":""},{"$f":"IF('3'!$D$15=\"\", \"\", '3'!$D$15)","v":""},{"$f":"IF(AK44=\"\", \"\", \"/\")","v":""},{"$f":"IF('3'!$F$15=\"\", \"\", '3'!$F$15)","v":""},{"$f":"IF(AO44=\"\", \"\", \"P\")","v":""},{"$f":"IF('3'!$H$15=\"\", \"\", '3'!$H$15)","v":""},{"$f":"IF('3'!$D$19=\"\", \"\", '3'!$D$19)","v":""},{"$f":"IF(AP44=\"\", \"\", \"/\")","v":""},{"$f":"IF('3'!$F$19=\"\", \"\", '3'!$F$19)","v":""},{"$f":"IF(AT44=\"\", \"\", \"P\")","v":""},{"$f":"IF('3'!$H$19=\"\", \"\", '3'!$H$19)","v":""},{"$f":"IF('3'!$D$23=\"\", \"\", '3'!$D$23)","v":""},{"$f":"IF(AU44=\"\", \"\", \"/\")","v":""},{"$f":"IF('3'!$F$23=\"\", \"\", '3'!$F$23)","v":""},{"$f":"IF(AY44=\"\", \"\", \"P\")","v":""},{"$f":"IF('3'!$H$23=\"\", \"\", '3'!$H$23)","v":""},{"$f":"IF('3'!$D$27=\"\", \"\", '3'!$D$27)","v":""},{"$f":"IF(AZ44=\"\", \"\", \"/\")","v":""},{"$f":"IF('3'!$F$27=\"\", \"\", '3'!$F$27)","v":""},{"$f":"IF(BD44=\"\", \"\", \"P\")","v":""},{"$f":"IF('3'!$H$27=\"\", \"\", '3'!$H$27)","v":""},{"$f":"IF('3'!$D$31=\"\", \"\", '3'!$D$31)","v":""},{"$f":"IF(BE44=\"\", \"\", \"/\")","v":""},{"$f":"IF('3'!$F$31=\"\", \"\", '3'!$F$31)","v":""},{"$f":"IF(BI44=\"\", \"\", \"P\")","v":""},{"$f":"IF('3'!$H$31=\"\", \"\", '3'!$H$31)","v":""}]
[null,null,2,{"$f":"IF('3'!$B$12=\"\", \"\", '3'!$B$12)","v":""},null,null,6,{"$f":"IF('3'!$B$16=\"\", \"\", '3'!$B$16)","v":""},null,null,10,{"$f":"IF('3'!$B$20=\"\", \"\", '3'!$B$20)","v":""},null,null,14,{"$f":"IF('3'!$B$24=\"\", \"\", '3'!$B$24)","v":""},null,null,18,{"$f":"IF('3'!$B$28=\"\", \"\", '3'!$B$28)","v":""},null,null,22,{"$f":"IF('3'!$B$32=\"\", \"\", '3'!$B$32)","v":215},{"$nulls":7},{"$f":"IF('3'!$D$12=\"\", \"\", '3'!$D$12)","v":""},{"$f":"IF(AF45=\"\", \"\", \"/\")","v":""},{"$f":"IF('3'!$F$12=\"\", \"\", '3'!$F$12)","v":""},{"$f":"IF(AJ45=\"\", \"\", \"P\")","v":""},{"$f":"IF('3'!$H$12=\"\", \"\", '3'!$H$12)","v":""},{"$f":"IF('3'!$D$16=\"\", \"\", '3'!$D$16)","v":""},{"$f":"IF(AK45=\"\", \"\", \"/\")","v":""},{"$f":"IF('3'!$F$16=\"\", \"\", '3'!$F$16)","v":""},{"$f":"IF(AO45=\"\", \"\", \"P\")","v":""},{"$f":"IF('3'!$H$16=\"\", \"\", '3'!$H$16)","v":""},{"$f":"IF('3'!$D$20=\"\", \"\", '3'!$D$20)","v":""},{"$f":"IF(AP45=\"\", \"\", \"/\")","v":""},{"$f":"IF('3'!$F$20=\"\", \"\", '3'!$F$20)","v":""},{"$f":"IF(AT45=\"\", \"\", \"P\")","v":""},{"$f":"IF('3'!$H$20=\"\", \"\", '3'!$H$20)","v":""},{"$f":"IF('3'!$D$24=\"\", \"\", '3'!$D$24)","v":""},{"$f":"IF(AU45=\"\", \"\", \"/\")","v":""},{"$f":"IF('3'!$F$24=\"\", \"\", '3'!$F$24)","v":""},{"$f":"IF(AY45=\"\", \"\", \"P\")","v":""},{"$f":"IF('3'!$H$24=\"\", \"\", '3'!$H$24)","v":""},{"$f":"IF('3'!$D$28=\"\", \"\", '3'!$D$28)","v":""},{"$f":"IF(AZ45=\"\", \"\", \"/\")","v":""},{"$f":"IF('3'!$F$28=\"\", \"\", '3'!$F$28)","v":""},{"$f":"IF(BD45=\"\", \"\", \"P\")","v":""},{"$f":"IF('3'!$H$28=\"\", \"\", '3'!$H$28)","v":""},{"$f":"IF('3'!$D$32=\"\", \"\", '3'!$D$32)","v":""},{"$f":"IF(BE45=\"\", \"\", \"/\")","v":""},{"$f":"IF('3'!$F$32=\"\", \"\", '3'!$F$32)","v":""},{"$f":"IF(BI45=\"\", \"\", \"P\")","v":""},{"$f":"IF('3'!$H$32=\"\", \"\", '3'!$H$32)","v":""}]
[null,null,3,{"$f":"IF('3'!$B$13=\"\", \"\", '3'!$B$13)","v":""},null,null,7,{"$f":"IF('3'!$B$17=\"\", \"\", '3'!$B$17)","v":""},null,null,11,{"$f":"IF('3'!$B$21=\"\", \"\", '3'!$B$21)","v":""},null,null,15,{"$f":"IF('3'!$B$25=\"\", \"\", '3'!$B$25)","v":""},null,null,19,{"$f":"IF('3'!$B$29=\"\", \"\", '3'!$B$29)","v":184},null,null,23,{"$f":"IF('3'!$B$33=\"\", \"\", '3'!$B$33)","v":""},{"$nulls":7},{"$f":"IF('3'!$D$13=\"\", \"\", '3'!$D$13)","v":""},"",{"$f":"IF('3'!$F$13=\"\", \"\", '3'!$F$13)","v":""},"",{"$f":"IF('3'!$H$13=\"\", \"\", '3'!$H$13)","v":""},{"$f":"IF('3'!$D$17=\"\", \"\", '3'!$D$17)","v":""},"",{"$f":"IF('3'!$F$17=\"\", \"\", '3'!$F$17)","v":""},"",{"$f":"IF('3'!$H$17=\"\", \"\", '3'!$H$17)","v":""},{"$f":"IF('3'!$D$21=\"\", \"\", '3'!$D$21)","v":""},"",{"$f":"IF('3'!$F$21=\"\", \"\", '3'!$F$21)","v":""},"",{"$f":"IF('3'!$H$21=\"\", \"\", '3'!$H$21)","v":""},{"$f":"IF('3'!$D$25=\"\", \"\", '3'!$D$25)","v":""},"",{"$f":"IF('3'!$F$25=\"\", \"\", '3'!$F$25)","v":""},"",{"$f":"IF('3'!$H$25=\"\", \"\", '3'!$H$25)","v":""},{"$f":"IF('3'!$D$29=\"\", \"\", '3'!$D$29)","v":""},"",{"$f":"IF('3'!$F$29=\"\", \"\", '3'!$F$29)","v":""},"",{"$f":"IF('3'!$H$29=\"\", \"\", '3'!$H$29)","v":""},{"$f":"IF('3'!$D$33=\"\", \"\", '3'!$D$33)","v":""},"",{"$f":"IF('3'!$F$33=\"\", \"\", '3'!$F$33)","v":""},"",{"$f":"IF('3'!$H$33=\"\", \"\", '3'!$H$33)","v":""}]
[null,null,4,{"$f":"IF('3'!$B$14=\"\", \"\", '3'!$B$14)","v":""},null,null,8,{"$f":"IF('3'!$B$18=\"\", \"\", '3'!$B$18)","v":188},null,null,12,{"$f":"IF('3'!$B$22=\"\", \"\", '3'!$B$22)","v":""},null,null,16,{"$f":"IF('3'!$B$26=\"\", \"\", '3'!$B$26)","v":""},null,null,20,{"$f":"IF('3'!$B$30=\"\", \"\", '3'!$B$30)","v":""},null,null,24,{"$f":"IF('3'!$B$34=\"\", \"\", '3'!$B$34)","v":""},{"$nulls":7},{"$f":"IF('3'!$D$14=\"\", \"\", '3'!$D$14)","v":""},"",{"$f":"IF('3'!$F$14=\"\", \"\", '3'!$F$14)","v":""},"",{"$f":"IF('3'!$H$14=\"\", \"\", '3'!$H$14)","v":""},{"$f":"IF('3'!$D$18=\"\", \"\", '3'!$D$18)","v":""},"",{"$f":"IF('3'!$F$18=\"\", \"\", '3'!$F$18)","v":""},"",{"$f":"IF('3'!$H$18=\"\", \"\", '3'!$H$18)","v":""},{"$f":"IF('3'!$D$22=\"\", \"\", '3'!$D$22)","v":""},"",{"$f":"IF('3'!$F$22=\"\", \"\", '3'!$F$22)","v":""},"",{"$f":"IF('3'!$H$22=\"\", \"\", '3'!$H$22)","v":""},{"$f":"IF('3'!$D$26=\"\", \"\", '3'!$D$26)","v":""},"",{"$f":"IF('3'!$F$26=\"\", \"\", '3'!$F$26)","v":""},"",{"$f":"IF('3'!$H$26=\"\", \"\", '3'!$H$26)","v":""},{"$f":"IF('3'!$D$30=\"\", \"\", '3'!$D$30)","v":""},"",{"$f":"IF('3'!$F$30=\"\", \"\", '3'!$F$30)","v":""},"",{"$f":"IF('3'!$H$30=\"\", \"\", '3'!$H$30)","v":""},{"$f":"IF('3'!$D$34=\"\", \"\", '3'!$D$34)","v":""},"",{"$f":"IF('3'!$F$34=\"\", \"\", '3'!$F$34)","v":""},"",{"$f":"IF('3'!$H$34=\"\", \"\", '3'!$H$34)","v":""}]
[{"$nulls":32},"",null,""]
[null,4,1,{"$f":"IF('4'!$B$11=\"\", \"\", '4'!$B$11)","v":""},null,null,5,{"$f":"IF('4'!$B$15=\"\", \"\", '4'!$B$15)","v":""},null,null,9,{"$f":"IF('4'!$B$19=\"\", \"\", '4'!$B$19)","v":""},null,null,13,{"$f":"IF('4'!$B$23=\"\", \"\", '4'!$B$23)","v":""},null,null,17,{"$f":"IF('4'!$B$27=\"\", \"\", '4'!$B$27)","v":""},null,null,21,{"$f":"IF('4'!$B$31=\"\", \"\", '4'!$B$31)","v":""},{"$nulls":7},{"$f":"IF('4'!$D$11=\"\", \"\", '4'!$D$11)","v":""},{"$f":"IF(AF49=\"\", \"\", \"/\")","v":""},{"$f":"IF('4'!$F$11=\"\", \"\", '4'!$F$11)","v":""},{"$f":"IF(AJ49=\"\", \"\", \"P\")","v":""},{"$f":"IF('4'!$H$11=\"\", \"\", '4'!$H$11)","v":""},{"$f":"IF('4'!$D$15=\"\", \"\", '4'!$D$15)","v":""},{"$f":"IF(AK49=\"\", \"\", \"/\")","v":""},{"$f":"IF('4'!$F$15=\"\", \"\", '4'!$F$15)","v":""},{"$f":"IF(AO49=\"\", \"\", \"P\")","v":""},{"$f":"IF('4'!$H$15=\"\", \"\", '4'!$H$15)","v":""},{"$f":"IF('4'!$D$19=\"\", \"\", '4'!$D$19)","v":""},{"$f":"IF(AP49=\"\", \"\", \"/\")","v":""},{"$f":"IF('4'!$F$19=\"\", \"\", '4'!$F$19)","v":""},{"$f":"IF(AT49=\"\", \"\", \"P\")","v":""},{"$f":"IF('4'!$H$19=\"\", \"\", '4'!$H$19)","v":""},{"$f":"IF('4'!$D$23=\"\", \"\", '4'!$D$23)","v":""},{"$f":"IF(AU49=\"\", \"\", \"/\")","v":""},{"$f":"IF('4'!$F$23=\"\", \"\", '4'!$F$23)","v":""},{"$f":"IF(AY49=\"\", \"\", \"P\")","v":""},{"$f":"IF('4'!$H$23=\"\", \"\", '4'!$H$23)","v":""},{"$f":"IF('4'!$D$27=\"\", \"\", '4'!$D$27)","v":""},{"$f":"IF(AZ49=\"\", \"\", \"/\")","v":""},{"$f":"IF('4'!$F$27=\"\", \"\", '4'!$F$27)","v":""},{"$f":"IF(BD49=\"\", \"\", \"P\")","v":""},{"$f":"IF('4'!$H$27=\"\", \"\", '4'!$H$27)","v":""},{"$f":"IF('4'!$D$31=\"\", \"\", '4'!$D$31)","v":""},{"$f":"IF(BE49=\"\", \"\", \"/\")","v":""},{"$f":"IF('4'!$F$31=\"\", \"\", '4'!$F$31)","v":""},{"$f":"IF(BI49=\"\", \"\", \"P\")","v":""},{"$f":"IF('4'!$H$31=\"\", \"\", '4'!$H$31)","v":""}]
[null,null,2,{"$f":"IF('4'!$B$12=\"\", \"\", '4'!$B$12)","v":""},null,null,6,{"$f":"IF('4'!$B$16=\"\", \"\", '4'!$B$16)","v":202},null,null,10,{"$f":"IF('4'!$B$20=\"\", \"\", '4'!$B$20)","v":""},null,null,14,{"$f":"IF('4'!$B$24=\"\", \"\", '4'!$B$24)","v":""},null,null,18,{"$f":"IF('4'!$B$28=\"\", \"\", '4'!$B$28)","v":""},null,null,22,{"$f":"IF('4'!$B$32=\"\", \"\", '4'!$B$32)","v":207},{"$nulls":7},{"$f":"IF('4'!$D$12=\"\", \"\", '4'!$D$12)","v":""},{"$f":"IF(AF50=\"\", \"\", \"/\")","v":""},{"$f":"IF('4'!$F$12=\"\", \"\", '4'!$F$12)","v":""},{"$f":"IF(AJ50=\"\", \"\", \"P\")","v":""},{"$f":"IF('4'!$H$12=\"\", \"\", '4'!$H$12)","v":""},{"$f":"IF('4'!$D$16=\"\", \"\", '4'!$D$16)","v":136},{"$f":"IF(AK50=\"\", \"\", \"/\")","v":"/"},{"$f":"IF('4'!$F$16=\"\", \"\", '4'!$F$16)","v":78},{"$f":"IF(AO50=\"\", \"\", \"P\")","v":"P"},{"$f":"IF('4'!$H$16=\"\", \"\", '4'!$H$16)","v":77},{"$f":"IF('4'!$D$20=\"\", \"\", '4'!$D$20)","v":""},{"$f":"IF(AP50=\"\", \"\", \"/\")","v":""},{"$f":"IF('4'!$F$20=\"\", \"\", '4'!$F$20)","v":""},{"$f":"IF(AT50=\"\", \"\", \"P\")","v":""},{"$f":"IF('4'!$H$20=\"\", \"\", '4'!$H$20)","v":""},{"$f":"IF('4'!$D$24=\"\", \"\", '4'!$D$24)","v":""},{"$f":"IF(AU50=\"\", \"\", \"/\")","v":""},{"$f":"IF('4'!$F$24=\"\", \"\", '4'!$F$24)","v":""},{"$f":"IF(AY50=\"\", \"\", \"P\")","v":""},{"$f":"IF('4'!$H$24=\"\", \"\", '4'!$H$24)","v":""},{"$f":"IF('4'!$D$28=\"\", \"\", '4'!$D$28)","v":""},{"$f":"IF(AZ50=\"\", \"\", \"/\")","v":""},{"$f":"IF('4'!$F$28=\"\", \"\", '4'!$F$28)","v":""},{"$f":"IF(BD50=\"\", \"\", \"P\")","v":""},{"$f":"IF('4'!$H$28=\"\", \"\", '4'!$H$28)","v":""},{"$f":"IF('4'!$D$32=\"\", \"\", '4'!$D$32)","v":""},{"$f":"IF(BE50=\"\", \"\", \"/\")","v":""},{"$f":"IF('4'!$F$32=\"\", \"\", '4'!$F$32)","v":""},{"$f":"IF(BI50=\"\", \"\", \"P\")","v":""},{"$f":"IF('4'!$H$32=\"\", \"\", '4'!$H$32)","v":""}]
[null,null,3,{"$f":"IF('4'!$B$13=\"\", \"\", '4'!$B$13)","v":""},null,null,7,{"$f":"IF('4'!$B$17=\"\", \"\", '4'!$B$17)","v":""},null,null,11,{"$f":"IF('4'!$B$21=\"\", \"\", '4'!$B$21)","v":""},null,null,15,{"$f":"IF('4'!$B$25=\"\", \"\", '4'!$B$25)","v":""},null,null,19,{"$f":"IF('4'!$B$29=\"\", \"\", '4'!$B$29)","v":""},null,null,23,{"$f":"IF('4'!$B$33=\"\", \"\", '4'!$B$33)","v":""},{"$nulls":7},{"$f":"IF('4'!$D$13=\"\", \"\", '4'!$D$13)","v":""},"",{"$f":"IF('4'!$F$13=\"\", \"\", '4'!$F$13)","v":""},"",{"$f":"IF('4'!$H$13=\"\", \"\", '4'!$H$13)","v":""},{"$f":"IF('4'!$D$17=\"\", \"\", '4'!$D$17)","v":""},"",{"$f":"IF('4'!$F$17=\"\", \"\", '4'!$F$17)","v":""},"",{"$f":"IF('4'!$H$17=\"\", \"\", '4'!$H$17)","v":""},{"$f":"IF('4'!$D$21=\"\", \"\", '4'!$D$21)","v":""},"",{"$f":"IF('4'!$F$21=\"\", \"\", '4'!$F$21)","v":""},"",{"$f":"IF('4'!$H$21=\"\", \"\", '4'!$H$21)","v":""},{"$f":"IF('4'!$D$25=\"\", \"\", '4'!$D$25)","v":""},"",{"$f":"IF('4'!$F$25=\"\", \"\", '4'!$F$25)","v":""},"",{"$f":"IF('4'!$H$25=\"\", \"\", '4'!$H$25)","v":""},{"$f":"IF('4'!$D$29=\"\", \"\", '4'!$D$29)","v":""},"",{"$f":"IF('4'!$F$29=\"\", \"\", '4'!$F$29)","v":""},"",{"$f":"IF('4'!$H$29=\"\", \"\", '4'!$H$29)","v":""},{"$f":"IF('4'!$D$33=\"\", \"\", '4'!$D$33)","v":""},"",{"$f":"IF('4'!$F$33=\"\", \"\", '4'!$F$33)","v":""},"",{"$f":"IF('4'!$H$33=\"\", \"\", '4'!$H$33)","v":""}]
[null,null,4,{"$f":"IF('4'!$B$14=\"\", \"\", '4'!$B$14)","v":""},null,null,8,{"$f":"IF('4'!$B$18=\"\", \"\", '4'!$B$18)","v":""},null,null,12,{"$f":"IF('4'!$B$22=\"\", \"\", '4'!$B$22)","v":""},null,null,16,{"$f":"IF('4'!$B$26=\"\", \"\", '4'!$B$26)","v":""},null,null,20,{"$f":"IF('4'!$B$30=\"\", \"\", '4'!$B$30)","v":""},null,null,24,{"$f":"IF('4'!$B$34=\"\", \"\", '4'!$B$34)","v":""},{"$nulls":7},{"$f":"IF('4'!$D$14=\"\", \"\", '4'!$D$14)","v":""},"",{"$f":"IF('4'!$F$14=\"\", \"\", '4'!$F$14)","v":""},"",{"$f":"IF('4'!$H$14=\"\", \"\", '4'!$H$14)","v":""},{"$f":"IF('4'!$D$18=\"\", \"\", '4'!$D$18)","v":""},"",{"$f":"IF('4'!$F$18=\"\", \"\", '4'!$F$18)","v":""},"",{"$f":"IF('4'!$H$18=\"\", \"\", '4'!$H$18)","v":""},{"$f":"IF('4'!$D$22=\"\", \"\", '4'!$D$22)","v":""},"",{"$f":"IF('4'!$F$22=\"\", \"\", '4'!$F$22)","v":""},"",{"$f":"IF('4'!$H$22=\"\", \"\", '4'!$H$22)","v":""},{"$f":"IF('4'!$D$26=\"\", \"\", '4'!$D$26)","v":""},"",{"$f":"IF('4'!$F$26=\"\", \"\", '4'!$F$26)","v":""},"",{"$f":"IF('4'!$H$26=\"\", \"\", '4'!$H$26)","v":""},{"$f":"IF('4'!$D$30=\"\", \"\", '4'!$D$30)","v":""},"",{"$f":"IF('4'!$F$30=\"\", \"\", '4'!$F$30)","v":""},"",{"$f":"IF('4'!$H$30=\"\", \"\", '4'!$H$30)","v":""},{"$f":"IF('4'!$D$34=\"\", \"\", '4'!$D$34)","v":""},"",{"$f":"IF('4'!$F$34=\"\", \"\", '4'!$F$34)","v":""},"",{"$f":"IF('4'!$H$34=\"\", \"\", '4'!$H$34)","v":""}]
[{"$nulls":32},"",null,""]
[null,5,1,{"$f":"IF('5'!$B$11=\"\", \"\", '5'!$B$11)","v":""},null,null,5,{"$f":"IF('5'!$B$15=\"\", \"\", '5'!$B$15)","v":""},null,null,9,{"$f":"IF('5'!$B$19=\"\", \"\", '5'!$B$19)","v":153},null,null,13,{"$f":"IF('5'!$B$23=\"\", \"\", '5'!$B$23)","v":""},null,null,17,{"$f":"IF('5'!$B$27=\"\", \"\", '5'!$B$27)","v":""},null,null,21,{"$f":"IF('5'!$B$31=\"\", \"\", '5'!$B$31)","v":""},{"$nulls":7},{"$f":"IF('5'!$D$11=\"\", \"\", '5'!$D$11)","v":""},{"$f":"IF(AF54=\"\", \"\", \"/\")","v":""},{"$f":"IF('5'!$F$11=\"\", \"\", '5'!$F$11)","v":""},{"$f":"IF(AJ54=\"\", \"\", \"P\")","v":""},{"$f":"IF('5'!$H$11=\"\", \"\", '5'!$H$11)","v":""},{"$f":"IF('5'!$D$15=\"\", \"\", '5'!$D$15)","v":""},{"$f":"IF(AK54=\"\", \"\", \"/\")","v":""},{"$f":"IF('5'!$F$15=\"\", \"\", '5'!$F$15)","v":""},{"$f":"IF(AO54=\"\", \"\", \"P\")","v":""},{"$f":"IF('5'!$H$15=\"\", \"\", '5'!$H$15)","v":""},{"$f":"IF('5'!$D$19=\"\", \"\", '5'!$D$19)","v":""},{"$f":"IF(AP54=\"\", \"\", \"/\")","v":""},{"$f":"IF('5'!$F$19=\"\", \"\", '5'!$F$19)","v":""},{"$f":"IF(AT54=\"\", \"\", \"P\")","v":""},{"$f":"IF('5'!$H$19=\"\", \"\", '5'!$H$19)","v":""},{"$f":"IF('5'!$D$23=\"\", \"\", '5'!$D$23)","v":""},{"$f":"IF(AU54=\"\", \"\", \"/\")","v":""},{"$f":"IF('5'!$F$23=\"\", \"\", '5'!$F$23)","v":""},{"$f":"IF(AY54=\"\", \"\", \"P\")","v":""},{"$f":"IF('5'!$H$23=\"\", \"\", '5'!$H$23)","v":""},{"$f":"IF('5'!$D$27=\"\", \"\", '5'!$D$27)","v":""},{"$f":"IF(AZ54=\"\", \"\", \"/\")","v":""},{"$f":"IF('5'!$F$27=\"\", \"\", '5'!$F$27)","v":""},{"$f":"IF(BD54=\"\", \"\", \"P\")","v":""},{"$f":"IF('5'!$H$27=\"\", \"\", '5'!$H$27)","v":""},{"$f":"IF('5'!$D$31=\"\", \"\", '5'!$D$31)","v":""},{"$f":"IF(BE54=\"\", \"\", \"/\")","v":""},{"$f":"IF('5'!$F$31=\"\", \"\", '5'!$F$31)","v":""},{"$f":"IF(BI54=\"\", \"\", \"P\")","v":""},{"$f":"IF('5'!$H$31=\"\", \"\", '5'!$H$31)","v":""}]
[null,null,2,{"$f":"IF('5'!$B$12=\"\", \"\", '5'!$B$12)","v":""},null,null,6,{"$f":"IF('5'!$B$16=\"\", \"\", '5'!$B$16)","v":""},null,null,10,{"$f":"IF('5'!$B$20=\"\", \"\", '5'!$B$20)","v":""},null,null,14,{"$f":"IF('5'!$B$24=\"\", \"\", '5'!$B$24)","v":""},null,null,18,{"$f":"IF('5'!$B$28=\"\", \"\", '5'!$B$28)","v":""},null,null,22,{"$f":"IF('5'!$B$32=\"\", \"\", '5'!$B$32)","v":""},{"$nulls":7},{"$f":"IF('5'!$D$12=\"\", \"\", '5'!$D$12)","v":""},{"$f":"IF(AF55=\"\", \"\", \"/\")","v":""},{"$f":"IF('5'!$F$12=\"\", \"\", '5'!$F$12)","v":""},{"$f":"IF(AJ55=\"\", \"\", \"P\")","v":""},{"$f":"IF('5'!$H$12=\"\", \"\", '5'!$H$12)","v":""},{"$f":"IF('5'!$D$16=\"\", \"\", '5'!$D$16)","v":""},{"$f":"IF(AK55=\"\", \"\", \"/\")","v":""},{"$f":"IF('5'!$F$16=\"\", \"\", '5'!$F$16)","v":""},{"$f":"IF(AO55=\"\", \"\", \"P\")","v":""},{"$f":"IF('5'!$H$16=\"\", \"\", '5'!$H$16)","v":""},{"$f":"IF('5'!$D$20=\"\", \"\", '5'!$D$20)","v":""},{"$f":"IF(AP55=\"\", \"\", \"/\")","v":""},{"$f":"IF('5'!$F$20=\"\", \"\", '5'!$F$20)","v":""},{"$f":"IF(AT55=\"\", \"\", \"P\")","v":""},{"$f":"IF('5'!$H$20=\"\", \"\", '5'!$H$20)","v":""},{"$f":"IF('5'!$D$24=\"\", \"\", '5'!$D$24)","v":""},{"$f":"IF(AU55=\"\", \"\", \"/\")","v":""},{"$f":"IF('5'!$F$24=\"\", \"\", '5'!$F$24)","v":""},{"$f":"IF(AY55=\"\", \"\", \"P\")","v":""},{"$f":"IF('5'!$H$24=\"\", \"\", '5'!$H$24)","v":""},{"$f":"IF('5'!$D$28=\"\", \"\", '5'!$D$28)","v":""},{"$f":"IF(AZ55=\"\", \"\", \"/\")","v":""},{"$f":"IF('5'!$F$28=\"\", \"\", '5'!$F$28)","v":""},{"$f":"IF(BD55=\"\", \"\", \"P\")","v":""},{"$f":"IF('5'!$H$28=\"\", \"\", '5'!$H$28)","v":""},{"$f":"IF('5'!$D$32=\"\", \"\", '5'!$D$32)","v":""},{"$f":"IF(BE55=\"\", \"\", \"/\")","v":""},{"$f":"IF('5'!$F$32=\"\", \"\", '5'!$F$32)","v":""},{"$f":"IF(BI55=\"\", \"\", \"P\")","v":""},{"$f":"IF('5'!$H$32=\"\", \"\", '5'!$H$32)","v":""}]
[null,null,3,{"$f":"IF('5'!$B$13=\"\", \"\", '5'!$B$13)","v":""},null,null,7,{"$f":"IF('5'!$B$17=\"\", \"\", '5'!$B$17)","v":""},null,null,11,{"$f":"IF('5'!$B$21=\"\", \"\", '5'!$B$21)","v":""},null,null,15,{"$f":"IF('5'!$B$25=\"\", \"\", '5'!$B$25)","v":""},null,null,19,{"$f":"IF('5'!$B$29=\"\", \"\", '5'!$B$29)","v":""},null,null,23,{"$f":"IF('5'!$B$33=\"\", \"\", '5'!$B$33)","v":""},{"$nulls":7},{"$f":"IF('5'!$D$13=\"\", \"\", '5'!$D$13)","v":""},"",{"$f":"IF('5'!$F$13=\"\", \"\", '5'!$F$13)","v":""},"",{"$f":"IF('5'!$H$13=\"\", \"\", '5'!$H$13)","v":""},{"$f":"IF('5'!$D$17=\"\", \"\", '5'!$D$17)","v":""},"",{"$f":"IF('5'!$F$17=\"\", \"\", '5'!$F$17)","v":""},"",{"$f":"IF('5'!$H$17=\"\", \"\", '5'!$H$17)","v":""},{"$f":"IF('5'!$D$21=\"\", \"\", '5'!$D$21)","v":""},"",{"$f":"IF('5'!$F$21=\"\", \"\", '5'!$F$21)","v":""},"",{"$f":"IF('5'!$H$21=\"\", \"\", '5'!$H$21)","v":""},{"$f":"IF('5'!$D$25=\"\", \"\", '5'!$D$25)","v":""},"",{"$f":"IF('5'!$F$25=\"\", \"\", '5'!$F$25)","v":""},"",{"$f":"IF('5'!$H$25=\"\", \"\", '5'!$H$25)","v":""},{"$f":"IF('5'!$D$29=\"\", \"\", '5'!$D$29)","v":""},"",{"$f":"IF('5'!$F$29=\"\", \"\", '5'!$F$29)","v":""},"",{"$f":"IF('5'!$H$29=\"\", \"\", '5'!$H$29)","v":""},{"$f":"IF('5'!$D$33=\"\", \"\", '5'!$D$33)","v":""},"",{"$f":"IF('5'!$F$33=\"\", \"\", '5'!$F$33)","v":""},"",{"$f":"IF('5'!$H$33=\"\", \"\", '5'!$H$33)","v":""}]
[null,null,4,{"$f":"IF('5'!$B$14=\"\", \"\", '5'!$B$14)","v":""},null,null,8,{"$f":"IF('5'!$B$18=\"\", \"\", '5'!$B$18)","v":""},null,null,12,{"$f":"IF('5'!$B$22=\"\", \"\", '5'!$B$22)","v":""},null,null,16,{"$f":"IF('5'!$B$26=\"\", \"\", '5'!$B$26)","v":""},null,null,20,{"$f":"IF('5'!$B$30=\"\", \"\", '5'!$B$30)","v":""},null,null,24,{"$f":"IF('5'!$B$34=\"\", \"\", '5'!$B$34)","v":""},{"$nulls":7},{"$f":"IF('5'!$D$14=\"\", \"\", '5'!$D$14)","v":""},"",{"$f":"IF('5'!$F$14=\"\", \"\", '5'!$F$14)","v":""},"",{"$f":"IF('5'!$H$14=\"\", \"\", '5'!$H$14)","v":""},{"$f":"IF('5'!$D$18=\"\", \"\", '5'!$D$18)","v":""},"",{"$f":"IF('5'!$F$18=\"\", \"\", '5'!$F$18)","v":""},"",{"$f":"IF('5'!$H$18=\"\", \"\", '5'!$H$18)","v":""},{"$f":"IF('5'!$D$22=\"\", \"\", '5'!$D$22)","v":""},"",{"$f":"IF('5'!$F$22=\"\", \"\", '5'!$F$22)","v":""},"",{"$f":"IF('5'!$H$22=\"\", \"\", '5'!$H$22)","v":""},{"$f":"IF('5'!$D$26=\"\", \"\", '5'!$D$26)","v":""},"",{"$f":"IF('5'!$F$26=\"\", \"\", '5'!$F$26)","v":""},"",{"$f":"IF('5'!$H$26=\"\", \"\", '5'!$H$26)","v":""},{"$f":"IF('5'!$D$30=\"\", \"\", '5'!$D$30)","v":""},"",{"$f":"IF('5'!$F$30=\"\", \"\", '5'!$F$30)","v":""},"",{"$f":"IF('5'!$H$30=\"\", \"\", '5'!$H$30)","v":""},{"$f":"IF('5'!$D$34=\"\", \"\", '5'!$D$34)","v":""},"",{"$f":"IF('5'!$F$34=\"\", \"\", '5'!$F$34)","v":""},"",{"$f":"IF('5'!$H$34=\"\", \"\", '5'!$H$34)","v":""}]
[{"$nulls":32},"",null,""]
[null,6,1,{"$f":"IF('6'!$B$11=\"\", \"\", '6'!$B$11)","v":""},null,null,5,{"$f":"IF('6'!$B$15=\"\", \"\", '6'!$B$15)","v":""},null,null,9,{"$f":"IF('6'!$B$19=\"\", \"\", '6'!$B$19)","v":268},null,null,13,{"$f":"IF('6'!$B$23=\"\", \"\", '6'!$B$23)","v":""},null,null,17,{"$f":"IF('6'!$B$27=\"\", \"\", '6'!$B$27)","v":138},null,null,21,{"$f":"IF('6'!$B$31=\"\", \"\", '6'!$B$31)","v":""},{"$nulls":7},{"$f":"IF('6'!$D$11=\"\", \"\", '6'!$D$11)","v":""},{"$f":"IF(AF59=\"\", \"\", \"/\")","v":""},{"$f":"IF('6'!$F$11=\"\", \"\", '6'!$F$11)","v":""},{"$f":"IF(AJ59=\"\", \"\", \"P\")","v":""},{"$f":"IF('6'!$H$11=\"\", \"\", '6'!$H$11)","v":""},{"$f":"IF('6'!$D$15=\"\", \"\", '6'!$D$15)","v":""},{"$f":"IF(AK59=\"\", \"\", \"/\")","v":""},{"$f":"IF('6'!$F$15=\"\", \"\", '6'!$F$15)","v":""},{"$f":"IF(AO59=\"\", \"\", \"P\")","v":""},{"$f":"IF('6'!$H$15=\"\", \"\", '6'!$H$15)","v":""},{"$f":"IF('6'!$D$19=\"\", \"\", '6'!$D$19)","v":""},{"$f":"IF(AP59=\"\", \"\", \"/\")","v":""},{"$f":"IF('6'!$F$19=\"\", \"\", '6'!$F$19)","v":""},{"$f":"IF(AT59=\"\", \"\", \"P\")","v":""},{"$f":"IF('6'!$H$19=\"\", \"\", '6'!$H$19)","v":""},{"$f":"IF('6'!$D$23=\"\", \"\", '6'!$D$23)","v":""},{"$f":"IF(AU59=\"\", \"\", \"/\")","v":""},{"$f":"IF('6'!$F$23=\"\", \"\", '6'!$F$23)","v":""},{"$f":"IF(AY59=\"\", \"\", \"P\")","v":""},{"$f":"IF('6'!$H$23=\"\", \"\", '6'!$H$23)","v":""},{"$f":"IF('6'!$D$27=\"\", \"\", '6'!$D$27)","v":""},{"$f":"IF(AZ59=\"\", \"\", \"/\")","v":""},{"$f":"IF('6'!$F$27=\"\", \"\", '6'!$F$27)","v":""},{"$f":"IF(BD59=\"\", \"\", \"P\")","v":""},{"$f":"IF('6'!$H$27=\"\", \"\", '6'!$H$27)","v":""},{"$f":"IF('6'!$D$31=\"\", \"\", '6'!$D$31)","v":""},{"$f":"IF(BE59=\"\", \"\", \"/\")","v":""},{"$f":"IF('6'!$F$31=\"\", \"\", '6'!$F$31)","v":""},{"$f":"IF(BI59=\"\", \"\", \"P\")","v":""},{"$f":"IF('6'!$H$31=\"\", \"\", '6'!$H$31)","v":""}]
[null,null,2,{"$f":"IF('6'!$B$12=\"\", \"\", '6'!$B$12)","v":""},null,null,6,{"$f":"IF('6'!$B$16=\"\", \"\", '6'!$B$16)","v":""},null,null,10,{"$f":"IF('6'!$B$20=\"\", \"\", '6'!$B$20)","v":""},null,null,14,{"$f":"IF('6'!$B$24=\"\", \"\", '6'!$B$24)","v":""},null,null,18,{"$f":"IF('6'!$B$28=\"\", \"\", '6'!$B$28)","v":""},null,null,22,{"$f":"IF('6'!$B$32=\"\", \"\", '6'!$B$32)","v":""},{"$nulls":7},{"$f":"IF('6'!$D$12=\"\", \"\", '6'!$D$12)","v":""},{"$f":"IF(AF60=\"\", \"\", \"/\")","v":""},{"$f":"IF('6'!$F$12=\"\", \"\", '6'!$F$12)","v":""},{"$f":"IF(AJ60=\"\", \"\", \"P\")","v":""},{"$f":"IF('6'!$H$12=\"\", \"\", '6'!$H$12)","v":""},{"$f":"IF('6'!$D$16=\"\", \"\", '6'!$D$16)","v":""},{"$f":"IF(AK60=\"\", \"\", \"/\")","v":""},{"$f":"IF('6'!$F$16=\"\", \"\", '6'!$F$16)","v":""},{"$f":"IF(AO60=\"\", \"\", \"P\")","v":""},{"$f":"IF('6'!$H$16=\"\", \"\", '6'!$H$16)","v":""},{"$f":"IF('6'!$D$20=\"\", \"\", '6'!$D$20)","v":""},{"$f":"IF(AP60=\"\", \"\", \"/\")","v":""},{"$f":"IF('6'!$F$20=\"\", \"\", '6'!$F$20)","v":""},{"$f":"IF(AT60=\"\", \"\", \"P\")","v":""},{"$f":"IF('6'!$H$20=\"\", \"\", '6'!$H$20)","v":""},{"$f":"IF('6'!$D$24=\"\", \"\", '6'!$D$24)","v":""},{"$f":"IF(AU60=\"\", \"\", \"/\")","v":""},{"$f":"IF('6'!$F$24=\"\", \"\", '6'!$F$24)","v":""},{"$f":"IF(AY60=\"\", \"\", \"P\")","v":""},{"$f":"IF('6'!$H$24=\"\", \"\", '6'!$H$24)","v":""},{"$f":"IF('6'!$D$28=\"\", \"\", '6'!$D$28)","v":""},{"$f":"IF(AZ60=\"\", \"\", \"/\")","v":""},{"$f":"IF('6'!$F$28=\"\", \"\", '6'!$F$28)","v":""},{"$f":"IF(BD60=\"\", \"\", \"P\")","v":""},{"$f":"IF('6'!$H$28=\"\", \"\", '6'!$H$28)","v":""},{"$f":"IF('6'!$D$32=\"\", \"\", '6'!$D$32)","v":""},{"$f":"IF(BE60=\"\", \"\", \"/\")","v":""},{"$f":"IF('6'!$F$32=\"\", \"\", '6'!$F$32)","v":""},{"$f":"IF(BI60=\"\", \"\", \"P\")","v":""},{"$f":"IF('6'!$H$32=\"\", \"\", '6'!$H$32)","v":""}]
[null,null,3,{"$f":"IF('6'!$B$13=\"\", \"\", '6'!$B$13)","v":""},null,null,7,{"$f":"IF('6'!$B$17=\"\", \"\", '6'!$B$17)","v":""},null,null,11,{"$f":"IF('6'!$B$21=\"\", \"\", '6'!$B$21)","v":""},null,null,15,{"$f":"IF('6'!$B$25=\"\", \"\", '6'!$B$25)","v":""},null,null,19,{"$f":"IF('6'!$B$29=\"\", \"\", '6'!$B$29)","v":""},null,null,23,{"$f":"IF('6'!$B$33=\"\", \"\", '6'!$B$33)","v":""},{"$nulls":7},{"$f":"IF('6'!$D$13=\"\", \"\", '6'!$D$13)","v":""},"",{"$f":"IF('6'!$F$13=\"\", \"\", '6'!$F$13)","v":""},"",{"$f":"IF('6'!$H$13=\"\", \"\", '6'!$H$13)","v":""},{"$f":"IF('6'!$D$17=\"\", \"\", '6'!$D$17)","v":""},"",{"$f":"IF('6'!$F$17=\"\", \"\", '6'!$F$17)","v":""},"",{"$f":"IF('6'!$H$17=\"\", \"\", '6'!$H$17)","v":""},{"$f":"IF('6'!$D$21=\"\", \"\", '6'!$D$21)","v":""},"",{"$f":"IF('6'!$F$21=\"\", \"\", '6'!$F$21)","v":""},"",{"$f":"IF('6'!$H$21=\"\", \"\", '6'!$H$21)","v":""},{"$f":"IF('6'!$D$25=\"\", \"\", '6'!$D$25)","v":""},"",{"$f":"IF('6'!$F$25=\"\", \"\", '6'!$F$25)","v":""},"",{"$f":"IF('6'!$H$25=\"\", \"\", '6'!$H$25)","v":""},{"$f":"IF('6'!$D$29=\"\", \"\", '6'!$D$29)","v":""},"",{"$f":"IF('6'!$F$29=\"\", \"\", '6'!$F$29)","v":""},"",{"$f":"IF('6'!$H$29=\"\", \"\", '6'!$H$29)","v":""},{"$f":"IF('6'!$D$33=\"\", \"\", '6'!$D$33)","v":""},"",{"$f":"IF('6'!$F$33=\"\", \"\", '6'!$F$33)","v":""},"",{"$f":"IF('6'!$H$33=\"\", \"\", '6'!$H$33)","v":""}]
[null,null,4,{"$f":"IF('6'!$B$14=\"\", \"\", '6'!$B$14)","v":""},null,null,8,{"$f":"IF('6'!$B$18=\"\", \"\", '6'!$B$18)","v":""},null,null,12,{"$f":"IF('6'!$B$22=\"\", \"\", '6'!$B$22)","v":""},null,null,16,{"$f":"IF('6'!$B$26=\"\", \"\", '6'!$B$26)","v":""},null,null,20,{"$f":"IF('6'!$B$30=\"\", \"\", '6'!$B$30)","v":""},null,null,24,{"$f":"IF('6'!$B$34=\"\", \"\", '6'!$B$34)","v":""},{"$nulls":7},{"$f":"IF('6'!$D$14=\"\", \"\", '6'!$D$14)","v":""},"",{"$f":"IF('6'!$F$14=\"\", \"\", '6'!$F$14)","v":""},"",{"$f":"IF('6'!$H$14=\"\", \"\", '6'!$H$14)","v":""},{"$f":"IF('6'!$D$18=\"\", \"\", '6'!$D$18)","v":""},"",{"$f":"IF('6'!$F$18=\"\", \"\", '6'!$F$18)","v":""},"",{"$f":"IF('6'!$H$18=\"\", \"\", '6'!$H$18)","v":""},{"$f":"IF('6'!$D$22=\"\", \"\", '6'!$D$22)","v":""},"",{"$f":"IF('6'!$F$22=\"\", \"\", '6'!$F$22)","v":""},"",{"$f":"IF('6'!$H$22=\"\", \"\", '6'!$H$22)","v":""},{"$f":"IF('6'!$D$26=\"\", \"\", '6'!$D$26)","v":""},"",{"$f":"IF('6'!$F$26=\"\", \"\", '6'!$F$26)","v":""},"",{"$f":"IF('6'!$H$26=\"\", \"\", '6'!$H$26)","v":""},{"$f":"IF('6'!$D$30=\"\", \"\", '6'!$D$30)","v":""},"",{"$f":"IF('6'!$F$30=\"\", \"\", '6'!$F$30)","v":""},"",{"$f":"IF('6'!$H$30=\"\", \"\", '6'!$H$30)","v":""},{"$f":"IF('6'!$D$34=\"\", \"\", '6'!$D$34)","v":""},"",{"$f":"IF('6'!$F$34=\"\", \"\", '6'!$F$34)","v":""},"",{"$f":"IF('6'!$H$34=\"\", \"\", '6'!$H$34)","v":""}]
[{"$nulls":32},"",null,""]
[null,7,1,{"$f":"IF('7'!$B$11=\"\", \"\", '7'!$B$11)","v":""},null,null,5,{"$f":"IF('7'!$B$15=\"\", \"\", '7'!$B$15)","v":""},null,null,9,{"$f":"IF('7'!$B$19=\"\", \"\", '7'!$B$19)","v":""},null,null,13,{"$f":"IF('7'!$B$23=\"\", \"\", '7'!$B$23)","v":""},null,null,17,{"$f":"IF('7'!$B$27=\"\", \"\", '7'!$B$27)","v":""},null,null,21,{"$f":"IF('7'!$B$31=\"\", \"\", '7'!$B$31)","v":""},{"$nulls":7},{"$f":"IF('7'!$D$11=\"\", \"\", '7'!$D$11)","v":""},{"$f":"IF(AF64=\"\", \"\", \"/\")","v":""},{"$f":"IF('7'!$F$11=\"\", \"\", '7'!$F$11)","v":""},{"$f":"IF(AJ64=\"\", \"\", \"P\")","v":""},{"$f":"IF('7'!$H$11=\"\", \"\", '7'!$H$11)","v":""},{"$f":"IF('7'!$D$15=\"\", \"\", '7'!$D$15)","v":""},{"$f":"IF(AK64=\"\", \"\", \"/\")","v":""},{"$f":"IF('7'!$F$15=\"\", \"\", '7'!$F$15)","v":""},{"$f":"IF(AO64=\"\", \"\", \"P\")","v":""},{"$f":"IF('7'!$H$15=\"\", \"\", '7'!$H$15)","v":""},{"$f":"IF('7'!$D$19=\"\", \"\", '7'!$D$19)","v":""},{"$f":"IF(AP64=\"\", \"\", \"/\")","v":""},{"$f":"IF('7'!$F$19=\"\", \"\", '7'!$F$19)","v":""},{"$f":"IF(AT64=\"\", \"\", \"P\")","v":""},{"$f":"IF('7'!$H$19=\"\", \"\", '7'!$H$19)","v":""},{"$f":"IF('7'!$D$23=\"\", \"\", '7'!$D$23)","v":""},{"$f":"IF(AU64=\"\", \"\", \"/\")","v":""},{"$f":"IF('7'!$F$23=\"\", \"\", '7'!$F$23)","v":""},{"$f":"IF(AY64=\"\", \"\", \"P\")","v":""},{"$f":"IF('7'!$H$23=\"\", \"\", '7'!$H$23)","v":""},{"$f":"IF('7'!$D$27=\"\", \"\", '7'!$D$27)","v":""},{"$f":"IF(AZ64=\"\", \"\", \"/\")","v":""},{"$f":"IF('7'!$F$27=\"\", \"\", '7'!$F$27)","v":""},{"$f":"IF(BD64=\"\", \"\", \"P\")","v":""},{"$f":"IF('7'!$H$27=\"\", \"\", '7'!$H$27)","v":""},{"$f":"IF('7'!$D$31=\"\", \"\", '7'!$D$31)","v":""},{"$f":"IF(BE64=\"\", \"\", \"/\")","v":""},{"$f":"IF('7'!$F$31=\"\", \"\", '7'!$F$31)","v":""},{"$f":"IF(BI64=\"\", \"\", \"P\")","v":""},{"$f":"IF('7'!$H$31=\"\", \"\", '7'!$H$31)","v":""}]
[null,null,2,{"$f":"IF('7'!$B$12=\"\", \"\", '7'!$B$12)","v":""},null,null,6,{"$f":"IF('7'!$B$16=\"\", \"\", '7'!$B$16)","v":""},null,null,10,{"$f":"IF('7'!$B$20=\"\", \"\", '7'!$B$20)","v":""},null,null,14,{"$f":"IF('7'!$B$24=\"\", \"\", '7'!$B$24)","v":""},null,null,18,{"$f":"IF('7'!$B$28=\"\", \"\", '7'!$B$28)","v":""},null,null,22,{"$f":"IF('7'!$B$32=\"\", \"\", '7'!$B$32)","v":""},{"$nulls":7},{"$f":"IF('7'!$D$12=\"\", \"\", '7'!$D$12)","v":""},{"$f":"IF(AF65=\"\", \"\", \"/\")","v":""},{"$f":"IF('7'!$F$12=\"\", \"\", '7'!$F$12)","v":""},{"$f":"IF(AJ65=\"\", \"\", \"P\")","v":""},{"$f":"IF('7'!$H$12=\"\", \"\", '7'!$H$12)","v":""},{"$f":"IF('7'!$D$16=\"\", \"\", '7'!$D$16)","v":""},{"$f":"IF(AK65=\"\", \"\", \"/\")","v":""},{"$f":"IF('7'!$F$16=\"\", \"\", '7'!$F$16)","v":""},{"$f":"IF(AO65=\"\", \"\", \"P\")","v":""},{"$f":"IF('7'!$H$16=\"\", \"\", '7'!$H$16)","v":""},{"$f":"IF('7'!$D$20=\"\", \"\", '7'!$D$20)","v":""},{"$f":"IF(AP65=\"\", \"\", \"/\")","v":""},{"$f":"IF('7'!$F$20=\"\", \"\", '7'!$F$20)","v":""},{"$f":"IF(AT65=\"\", \"\", \"P\")","v":""},{"$f":"IF('7'!$H$20=\"\", \"\", '7'!$H$20)","v":""},{"$f":"IF('7'!$D$24=\"\", \"\", '7'!$D$24)","v":""},{"$f":"IF(AU65=\"\", \"\", \"/\")","v":""},{"$f":"IF('7'!$F$24=\"\", \"\", '7'!$F$24)","v":""},{"$f":"IF(AY65=\"\", \"\", \"P\")","v":""},{"$f":"IF('7'!$H$24=\"\", \"\", '7'!$H$24)","v":""},{"$f":"IF('7'!$D$28=\"\", \"\", '7'!$D$28)","v":""},{"$f":"IF(AZ65=\"\", \"\", \"/\")","v":""},{"$f":"IF('7'!$F$28=\"\", \"\", '7'!$F$28)","v":""},{"$f":"IF(BD65=\"\", \"\", \"P\")","v":""},{"$f":"IF('7'!$H$28=\"\", \"\", '7'!$H$28)","v":""},{"$f":"IF('7'!$D$32=\"\", \"\", '7'!$D$32)","v":""},{"$f":"IF(BE65=\"\", \"\", \"/\")","v":""},{"$f":"IF('7'!$F$32=\"\", \"\", '7'!$F$32)","v":""},{"$f":"IF(BI65=\"\", \"\", \"P\")","v":""},{"$f":"IF('7'!$H$32=\"\", \"\", '7'!$H$32)","v":""}]
[null,null,3,{"$f":"IF('7'!$B$13=\"\", \"\", '7'!$B$13)","v":""},null,null,7,{"$f":"IF('7'!$B$17=\"\", \"\", '7'!$B$17)","v":""},null,null,11,{"$f":"IF('7'!$B$21=\"\", \"\", '7'!$B$21)","v":""},null,null,15,{"$f":"IF('7'!$B$25=\"\", \"\", '7'!$B$25)","v":""},null,null,19,{"$f":"IF('7'!$B$29=\"\", \"\", '7'!$B$29)","v":""},null,null,23,{"$f":"IF('7'!$B$33=\"\", \"\", '7'!$B$33)","v":201},{"$nulls":7},{"$f":"IF('7'!$D$13=\"\", \"\", '7'!$D$13)","v":""},"",{"$f":"IF('7'!$F$13=\"\", \"\", '7'!$F$13)","v":""},"",{"$f":"IF('7'!$H$13=\"\", \"\", '7'!$H$13)","v":""},{"$f":"IF('7'!$D$17=\"\", \"\", '7'!$D$17)","v":""},"",{"$f":"IF('7'!$F$17=\"\", \"\", '7'!$F$17)","v":""},"",{"$f":"IF('7'!$H$17=\"\", \"\", '7'!$H$17)","v":""},{"$f":"IF('7'!$D$21=\"\", \"\", '7'!$D$21)","v":""},"",{"$f":"IF('7'!$F$21=\"\", \"\", '7'!$F$21)","v":""},"",{"$f":"IF('7'!$H$21=\"\", \"\", '7'!$H$21)","v":""},{"$f":"IF('7'!$D$25=\"\", \"\", '7'!$D$25)","v":""},"",{"$f":"IF('7'!$F$25=\"\", \"\", '7'!$F$25)","v":""},"",{"$f":"IF('7'!$H$25=\"\", \"\", '7'!$H$25)","v":""},{"$f":"IF('7'!$D$29=\"\", \"\", '7'!$D$29)","v":""},"",{"$f":"IF('7'!$F$29=\"\", \"\", '7'!$F$29)","v":""},"",{"$f":"IF('7'!$H$29=\"\", \"\", '7'!$H$29)","v":""},{"$f":"IF('7'!$D$33=\"\", \"\", '7'!$D$33)","v":""},"",{"$f":"IF('7'!$F$33=\"\", \"\", '7'!$F$33)","v":""},"",{"$f":"IF('7'!$H$33=\"\", \"\", '7'!$H$33)","v":""}]
[null,null,4,{"$f":"IF('7'!$B$14=\"\", \"\", '7'!$B$14)","v":""},null,null,8,{"$f":"IF('7'!$B$18=\"\", \"\", '7'!$B$18)","v":""},null,null,12,{"$f":"IF('7'!$B$22=\"\", \"\", '7'!$B$22)","v":""},null,null,16,{"$f":"IF('7'!$B$26=\"\", \"\", '7'!$B$26)","v":""},null,null,20,{"$f":"IF('7'!$B$30=\"\", \"\", '7'!$B$30)","v":145},null,null,24,{"$f":"IF('7'!$B$34=\"\", \"\", '7'!$B$34)","v":""},{"$nulls":7},{"$f":"IF('7'!$D$14=\"\", \"\", '7'!$D$14)","v":""},"",{"$f":"IF('7'!$F$14=\"\", \"\", '7'!$F$14)","v":""},"",{"$f":"IF('7'!$H$14=\"\", \"\", '7'!$H$14)","v":""},{"$f":"IF('7'!$D$18=\"\", \"\", '7'!$D$18)","v":""},"",{"$f":"IF('7'!$F$18=\"\", \"\", '7'!$F$18)","v":""},"",{"$f":"IF('7'!$H$18=\"\", \"\", '7'!$H$18)","v":""},{"$f":"IF('7'!$D$22=\"\", \"\", '7'!$D$22)","v":""},"",{"$f":"IF('7'!$F$22=\"\", \"\", '7'!$F$22)","v":""},"",{"$f":"IF('7'!$H$22=\"\", \"\", '7'!$H$22)","v":""},{"$f":"IF('7'!$D$26=\"\", \"\", '7'!$D$26)","v":""},"",{"$f":"IF('7'!$F$26=\"\", \"\", '7'!$F$26)","v":""},"",{"$f":"IF('7'!$H$26=\"\", \"\", '7'!$H$26)","v":""},{"$f":"IF('7'!$D$30=\"\", \"\", '7'!$D$30)","v":""},"",{"$f":"IF('7'!$F$30=\"\", \"\", '7'!$F$30)","v":""},"",{"$f":"IF('7'!$H$30=\"\", \"\", '7'!$H$30)","v":""},{"$f":"IF('7'!$D$34=\"\", \"\", '7'!$D$34)","v":""},"",{"$f":"IF('7'!$F$34=\"\", \"\", '7'!$F$34)","v":""},"",{"$f":"IF('7'!$H$34=\"\", \"\", '7'!$H$34)","v":""}]
[{"$nulls":32},"",null,""]
[null,8,1,{"$f":"IF('8'!$B$11=\"\", \"\", '8'!$B$11)","v":""},null,null,5,{"$f":"IF('8'!$B$15=\"\", \"\", '8'!$B$15)","v":""},null,null,9,{"$f":"IF('8'!$B$19=\"\", \"\", '8'!$B$19)","v":""},null,null,13,{"$f":"IF('8'!$B$23=\"\", \"\", '8'!$B$23)","v":""},null,null,17,{"$f":"IF('8'!$B$27=\"\", \"\", '8'!$B$27)","v":""},null,null,21,{"$f":"IF('8'!$B$31=\"\", \"\", '8'!$B$31)","v":""},{"$nulls":7},{"$f":"IF('8'!$D$11=\"\", \"\", '8'!$D$11)","v":""},{"$f":"IF(AF69=\"\", \"\", \"/\")","v":""},{"$f":"IF('8'!$F$11=\"\", \"\", '8'!$F$11)","v":""},{"$f":"IF(AJ69=\"\", \"\", \"P\")","v":""},{"$f":"IF('8'!$H$11=\"\", \"\", '8'!$H$11)","v":""},{"$f":"IF('8'!$D$15=\"\", \"\", '8'!$D$15)","v":""},{"$f":"IF(AK69=\"\", \"\", \"/\")","v":""},{"$f":"IF('8'!$F$15=\"\", \"\", '8'!$F$15)","v":""},{"$f":"IF(AO69=\"\", \"\", \"P\")","v":""},{"$f":"IF('8'!$H$15=\"\", \"\", '8'!$H$15)","v":""},{"$f":"IF('8'!$D$19=\"\", \"\", '8'!$D$19)","v":""},{"$f":"IF(AP69=\"\", \"\", \"/\")","v":""},{"$f":"IF('8'!$F$19=\"\", \"\", '8'!$F$19)","v":""},{"$f":"IF(AT69=\"\", \"\", \"P\")","v":""},{"$f":"IF('8'!$H$19=\"\", \"\", '8'!$H$19)","v":""},{"$f":"IF('8'!$D$23=\"\", \"\", '8'!$D$23)","v":""},{"$f":"IF(AU69=\"\", \"\", \"/\")","v":""},{"$f":"IF('8'!$F$23=\"\", \"\", '8'!$F$23)","v":""},{"$f":"IF(AY69=\"\", \"\", \"P\")","v":""},{"$f":"IF('8'!$H$23=\"\", \"\", '8'!$H$23)","v":""},{"$f":"IF('8'!$D$27=\"\", \"\", '8'!$D$27)","v":""},{"$f":"IF(AZ69=\"\", \"\", \"/\")","v":""},{"$f":"IF('8'!$F$27=\"\", \"\", '8'!$F$27)","v":""},{"$f":"IF(BD69=\"\", \"\", \"P\")","v":""},{"$f":"IF('8'!$H$27=\"\", \"\", '8'!$H$27)","v":""},{"$f":"IF('8'!$D$31=\"\", \"\", '8'!$D$31)","v":""},{"$f":"IF(BE69=\"\", \"\", \"/\")","v":""},{"$f":"IF('8'!$F$31=\"\", \"\", '8'!$F$31)","v":""},{"$f":"IF(BI69=\"\", \"\", \"P\")","v":""},{"$f":"IF('8'!$H$31=\"\", \"\", '8'!$H$31)","v":""}]
[null,null,2,{"$f":"IF('8'!$B$12=\"\", \"\", '8'!$B$12)","v":""},null,null,6,{"$f":"IF('8'!$B$16=\"\", \"\", '8'!$B$16)","v":""},null,null,10,{"$f":"IF('8'!$B$20=\"\", \"\", '8'!$B$20)","v":163},null,null,14,{"$f":"IF('8'!$B$24=\"\", \"\", '8'!$B$24)","v":""},null,null,18,{"$f":"IF('8'!$B$28=\"\", \"\", '8'!$B$28)","v":""},null,null,22,{"$f":"IF('8'!$B$32=\"\", \"\", '8'!$B$32)","v":""},{"$nulls":7},{"$f":"IF('8'!$D$12=\"\", \"\", '8'!$D$12)","v":""},{"$f":"IF(AF70=\"\", \"\", \"/\")","v":""},{"$f":"IF('8'!$F$12=\"\", \"\", '8'!$F$12)","v":""},{"$f":"IF(AJ70=\"\", \"\", \"P\")","v":""},{"$f":"IF('8'!$H$12=\"\", \"\", '8'!$H$12)","v":""},{"$f":"IF('8'!$D$16=\"\", \"\", '8'!$D$16)","v":""},{"$f":"IF(AK70=\"\", \"\", \"/\")","v":""},{"$f":"IF('8'!$F$16=\"\", \"\", '8'!$F$16)","v":""},{"$f":"IF(AO70=\"\", \"\", \"P\")","v":""},{"$f":"IF('8'!$H$16=\"\", \"\", '8'!$H$16)","v":""},{"$f":"IF('8'!$D$20=\"\", \"\", '8'!$D$20)","v":""},{"$f":"IF(AP70=\"\", \"\", \"/\")","v":""},{"$f":"IF('8'!$F$20=\"\", \"\", '8'!$F$20)","v":""},{"$f":"IF(AT70=\"\", \"\", \"P\")","v":""},{"$f":"IF('8'!$H$20=\"\", \"\", '8'!$H$20)","v":""},{"$f":"IF('8'!$D$24=\"\", \"\", '8'!$D$24)","v":""},{"$f":"IF(AU70=\"\", \"\", \"/\")","v":""},{"$f":"IF('8'!$F$24=\"\", \"\", '8'!$F$24)","v":""},{"$f":"IF(AY70=\"\", \"\", \"P\")","v":""},{"$f":"IF('8'!$H$24=\"\", \"\", '8'!$H$24)","v":""},{"$f":"IF('8'!$D$28=\"\", \"\", '8'!$D$28)","v":""},{"$f":"IF(AZ70=\"\", \"\", \"/\")","v":""},{"$f":"IF('8'!$F$28=\"\", \"\", '8'!$F$28)","v":""},{"$f":"IF(BD70=\"\", \"\", \"P\")","v":""},{"$f":"IF('8'!$H$28=\"\", \"\", '8'!$H$28)","v":""},{"$f":"IF('8'!$D$32=\"\", \"\", '8'!$D$32)","v":""},{"$f":"IF(BE70=\"\", \"\", \"/\")","v":""},{"$f":"IF('8'!$F$32=\"\", \"\", '8'!$F$32)","v":""},{"$f":"IF(BI70=\"\", \"\", \"P\")","v":""},{"$f":"IF('8'!$H$32=\"\", \"\", '8'!$H$32)","v":""}]
[null,null,3,{"$f":"IF('8'!$B$13=\"\", \"\", '8'!$B$13)","v":""},null,null,7,{"$f":"IF('8'!$B$17=\"\", \"\", '8'!$B$17)","v":""},null,null,11,{"$f":"IF('8'!$B$21=\"\", \"\", '8'!$B$21)","v":""},null,null,15,{"$f":"IF('8'!$B$25=\"\", \"\", '8'!$B$25)","v":""},null,null,19,{"$f":"IF('8'!$B$29=\"\", \"\", '8'!$B$29)","v":""},null,null,23,{"$f":"IF('8'!$B$33=\"\", \"\", '8'!$B$33)","v":""},{"$nulls":7},{"$f":"IF('8'!$D$13=\"\", \"\", '8'!$D$13)","v":""},"",{"$f":"IF('8'!$F$13=\"\", \"\", '8'!$F$13)","v":""},"",{"$f":"IF('8'!$H$13=\"\", \"\", '8'!$H$13)","v":""},{"$f":"IF('8'!$D$17=\"\", \"\", '8'!$D$17)","v":""},"",{"$f":"IF('8'!$F$17=\"\", \"\", '8'!$F$17)","v":""},"",{"$f":"IF('8'!$H$17=\"\", \"\", '8'!$H$17)","v":""},{"$f":"IF('8'!$D$21=\"\", \"\", '8'!$D$21)","v":""},"",{"$f":"IF('8'!$F$21=\"\", \"\", '8'!$F$21)","v":""},"",{"$f":"IF('8'!$H$21=\"\", \"\", '8'!$H$21)","v":""},{"$f":"IF('8'!$D$25=\"\", \"\", '8'!$D$25)","v":""},"",{"$f":"IF('8'!$F$25=\"\", \"\", '8'!$F$25)","v":""},"",{"$f":"IF('8'!$H$25=\"\", \"\", '8'!$H$25)","v":""},{"$f":"IF('8'!$D$29=\"\", \"\", '8'!$D$29)","v":""},"",{"$f":"IF('8'!$F$29=\"\", \"\", '8'!$F$29)","v":""},"",{"$f":"IF('8'!$H$29=\"\", \"\", '8'!$H$29)","v":""},{"$f":"IF('8'!$D$33=\"\", \"\", '8'!$D$33)","v":""},"",{"$f":"IF('8'!$F$33=\"\", \"\", '8'!$F$33)","v":""},"",{"$f":"IF('8'!$H$33=\"\", \"\", '8'!$H$33)","v":""}]
[null,null,4,{"$f":"IF('8'!$B$14=\"\", \"\", '8'!$B$14)","v":""},null,null,8,{"$f":"IF('8'!$B$18=\"\", \"\", '8'!$B$18)","v":""},null,null,12,{"$f":"IF('8'!$B$22=\"\", \"\", '8'!$B$22)","v":""},null,null,16,{"$f":"IF('8'!$B$26=\"\", \"\", '8'!$B$26)","v":""},null,null,20,{"$f":"IF('8'!$B$30=\"\", \"\", '8'!$B$30)","v":""},null,null,24,{"$f":"IF('8'!$B$34=\"\", \"\", '8'!$B$34)","v":""},{"$nulls":7},{"$f":"IF('8'!$D$14=\"\", \"\", '8'!$D$14)","v":""},"",{"$f":"IF('8'!$F$14=\"\", \"\", '8'!$F$14)","v":""},"",{"$f":"IF('8'!$H$14=\"\", \"\", '8'!$H$14)","v":""},{"$f":"IF('8'!$D$18=\"\", \"\", '8'!$D$18)","v":""},"",{"$f":"IF('8'!$F$18=\"\", \"\", '8'!$F$18)","v":""},"",{"$f":"IF('8'!$H$18=\"\", \"\", '8'!$H$18)","v":""},{"$f":"IF('8'!$D$22=\"\", \"\", '8'!$D$22)","v":""},"",{"$f":"IF('8'!$F$22=\"\", \"\", '8'!$F$22)","v":""},"",{"$f":"IF('8'!$H$22=\"\", \"\", '8'!$H$22)","v":""},{"$f":"IF('8'!$D$26=\"\", \"\", '8'!$D$26)","v":""},"",{"$f":"IF('8'!$F$26=\"\", \"\", '8'!$F$26)","v":""},"",{"$f":"IF('8'!$H$26=\"\", \"\", '8'!$H$26)","v":""},{"$f":"IF('8'!$D$30=\"\", \"\", '8'!$D$30)","v":""},"",{"$f":"IF('8'!$F$30=\"\", \"\", '8'!$F$30)","v":""},"",{"$f":"IF('8'!$H$30=\"\", \"\", '8'!$H$30)","v":""},{"$f":"IF('8'!$D$34=\"\", \"\", '8'!$D$34)","v":""},"",{"$f":"IF('8'!$F$34=\"\", \"\", '8'!$F$34)","v":""},"",{"$f":"IF('8'!$H$34=\"\", \"\", '8'!$H$34)","v":""}]
[{"$nulls":32},"",null,""]
[{"$f":"info!$B$2&\"        \"&info!$B$3&\", \"&info!$B$4","v":"Jesse Hutton        November, 2014"},9,1,{"$f":"IF('9'!$B$11=\"\", \"\", '9'!$B$11)","v":""},null,null,5,{"$f":"IF('9'!$B$15=\"\", \"\", '9'!$B$15)","v":""},null,null,9,{"$f":"IF('9'!$B$19=\"\", \"\", '9'!$B$19)","v":""},null,null,13,{"$f":"IF('9'!$B$23=\"\", \"\", '9'!$B$23)","v":""},null,null,17,{"$f":"IF('9'!$B$27=\"\", \"\", '9'!$B$27)","v":""},null,null,21,{"$f":"IF('9'!$B$31=\"\", \"\", '9'!$B$31)","v":""},{"$nulls":7},{"$f":"IF('9'!$D$11=\"\", \"\", '9'!$D$11)","v":""},{"$f":"IF(AF74=\"\", \"\", \"/\")","v":""},{"$f":"IF('9'!$F$11=\"\", \"\", '9'!$F$11)","v":""},{"$f":"IF(AJ74=\"\", \"\", \"P\")","v":""},{"$f":"IF('9'!$H$11=\"\", \"\", '9'!$H$11)","v":""},{"$f":"IF('9'!$D$15=\"\", \"\", '9'!$D$15)","v":""},{"$f":"IF(AK74=\"\", \"\", \"/\")","v":""},{"$f":"IF('9'!$F$15=\"\", \"\", '9'!$F$15)","v":""},{"$f":"IF(AO74=\"\", \"\", \"P\")","v":""},{"$f":"IF('9'!$H$15=\"\", \"\", '9'!$H$15)","v":""},{"$f":"IF('9'!$D$19=\"\", \"\", '9'!$D$19)","v":""},{"$f":"IF(AP74=\"\", \"\", \"/\")","v":""},{"$f":"IF('9'!$F$19=\"\", \"\", '9'!$F$19)","v":""},{"$f":"IF(AT74=\"\", \"\", \"P\")","v":""},{"$f":"IF('9'!$H$19=\"\", \"\", '9'!$H$19)","v":""},{"$f":"IF('9'!$D$23=\"\", \"\", '9'!$D$23)","v":""},{"$f":"IF(AU74=\"\", \"\", \"/\")","v":""},{"$f":"IF('9'!$F$23=\"\", \"\", '9'!$F$23)","v":""},{"$f":"IF(AY74=\"\", \"\", \"P\")","v":""},{"$f":"IF('9'!$H$23=\"\", \"\", '9'!$H$23)","v":""},{"$f":"IF('9'!$D$27=\"\", \"\", '9'!$D$27)","v":""},{"$f":"IF(AZ74=\"\", \"\", \"/\")","v":""},{"$f":"IF('9'!$F$27=\"\", \"\", '9'!$F$27)","v":""},{"$f":"IF(BD74=\"\", \"\", \"P\")","v":""},{"$f":"IF('9'!$H$27=\"\", \"\", '9'!$H$27)","v":""},{"$f":"IF('9'!$D$31=\"\", \"\", '9'!$D$31)","v":""},{"$f":"IF(BE74=\"\", \"\", \"/\")","v":""},{"$f":"IF('9'!$F$31=\"\", \"\", '9'!$F$31)","v":""},{"$f":"IF(BI74=\"\", \"\", \"P\")","v":""},{"$f":"IF('9'!$H$31=\"\", \"\", '9'!$H$31)","v":""}]
[null,null,2,{"$f":"IF('9'!$B$12=\"\", \"\", '9'!$B$12)","v":""},null,null,6,{"$f":"IF('9'!$B$16=\"\", \"\", '9'!$B$16)","v":""},null,null,10,{"$f":"IF('9'!$B$20=\"\", \"\", '9'!$B$20)","v":""},null,null,14,{"$f":"IF('9'!$B$24=\"\", \"\", '9'!$B$24)","v":""},null,null,18,{"$f":"IF('9'!$B$28=\"\", \"\", '9'!$B$28)","v":""},null,null,22,{"$f":"IF('9'!$B$32=\"\", \"\", '9'!$B$32)","v":""},{"$nulls":7},{"$f":"IF('9'!$D$12=\"\", \"\", '9'!$D$12)","v":""},{"$f":"IF(AF75=\"\", \"\", \"/\")","v":""},{"$f":"IF('9'!$F$12=\"\", \"\", '9'!$F$12)","v":""},{"$f":"IF(AJ75=\"\", \"\", \"P\")","v":""},{"$f":"IF('9'!$H$12=\"\", \"\", '9'!$H$12)","v":""},{"$f":"IF('9'!$D$16=\"\", \"\", '9'!$D$16)","v":""},{"$f":"IF(AK75=\"\", \"\", \"/\")","v":""},{"$f":"IF('9'!$F$16=\"\", \"\", '9'!$F$16)","v":""},{"$f":"IF(AO75=\"\", \"\", \"P\")","v":""},{"$f":"IF('9'!$H$16=\"\", \"\", '9'!$H$16)","v":""},{"$f":"IF('9'!$D$20=\"\", \"\", '9'!$D$20)","v":""},{"$f":"IF(AP75=\"\", \"\", \"/\")","v":""},{"$f":"IF('9'!$F$20=\"\", \"\", '9'!$F$20)","v":""},{"$f":"IF(AT75=\"\", \"\", \"P\")","v":""},{"$f":"IF('9'!$H$20=\"\", \"\", '9'!$H$20)","v":""},{"$f":"IF('9'!$D$24=\"\", \"\", '9'!$D$24)","v":""},{"$f":"IF(AU75=\"\", \"\", \"/\")","v":""},{"$f":"IF('9'!$F$24=\"\", \"\", '9'!$F$24)","v":""},{"$f":"IF(AY75=\"\", \"\", \"P\")","v":""},{"$f":"IF('9'!$H$24=\"\", \"\", '9'!$H$24)","v":""},{"$f":"IF('9'!$D$28=\"\", \"\", '9'!$D$28)","v":""},{"$f":"IF(AZ75=\"\", \"\", \"/\")","v":""},{"$f":"IF('9'!$F$28=\"\", \"\", '9'!$F$28)","v":""},{"$f":"IF(BD75=\"\", \"\", \"P\")","v":""},{"$f":"IF('9'!$H$28=\"\", \"\", '9'!$H$28)","v":""},{"$f":"IF('9'!$D$32=\"\", \"\", '9'!$D$32)","v":""},{"$f":"IF(BE75=\"\", \"\", \"/\")","v":""},{"$f":"IF('9'!$F$32=\"\", \"\", '9'!$F$32)","v":""},{"$f":"IF(BI75=\"\", \"\", \"P\")","v":""},{"$f":"IF('9'!$H$32=\"\", \"\", '9'!$H$32)","v":""}]
[null,null,3,{"$f":"IF('9'!$B$13=\"\", \"\", '9'!$B$13)","v":""},null,null,7,{"$f":"IF('9'!$B$17=\"\", \"\", '9'!$B$17)","v":""},null,null,11,{"$f":"IF('9'!$B$21=\"\", \"\", '9'!$B$21)","v":""},null,null,15,{"$f":"IF('9'!$B$25=\"\", \"\", '9'!$B$25)","v":""},null,null,19,{"$f":"IF('9'!$B$29=\"\", \"\", '9'!$B$29)","v":""},null,null,23,{"$f":"IF('9'!$B$33=\"\", \"\", '9'!$B$33)","v":""},{"$nulls":7},{"$f":"IF('9'!$D$13=\"\", \"\", '9'!$D$13)","v":""},"",{"$f":"IF('9'!$F$13=\"\", \"\", '9'!$F$13)","v":""},"",{"$f":"IF('9'!$H$13=\"\", \"\", '9'!$H$13)","v":""},{"$f":"IF('9'!$D$17=\"\", \"\", '9'!$D$17)","v":""},"",{"$f":"IF('9'!$F$17=\"\", \"\", '9'!$F$17)","v":""},"",{"$f":"IF('9'!$H$17=\"\", \"\", '9'!$H$17)","v":""},{"$f":"IF('9'!$D$21=\"\", \"\", '9'!$D$21)","v":""},"",{"$f":"IF('9'!$F$21=\"\", \"\", '9'!$F$21)","v":""},"",{"$f":"IF('9'!$H$21=\"\", \"\", '9'!$H$21)","v":""},{"$f":"IF('9'!$D$25=\"\", \"\", '9'!$D$25)","v":""},"",{"$f":"IF('9'!$F$25=\"\", \"\", '9'!$F$25)","v":""},"",{"$f":"IF('9'!$H$25=\"\", \"\", '9'!$H$25)","v":""},{"$f":"IF('9'!$D$29=\"\", \"\", '9'!$D$29)","v":""},"",{"$f":"IF('9'!$F$29=\"\", \"\", '9'!$F$29)","v":""},"",{"$f":"IF('9'!$H$29=\"\", \"\", '9'!$H$29)","v":""},{"$f":"IF('9'!$D$33=\"\", \"\", '9'!$D$33)","v":""},"",{"$f":"IF('9'!$F$33=\"\", \"\", '9'!$F$33)","v":""},"",{"$f":"IF('9'!$H$33=\"\", \"\", '9'!$H$33)","v":""}]
[null,null,4,{"$f":"IF('9'!$B$14=\"\", \"\", '9'!$B$14)","v":""},null,null,8,{"$f":"IF('9'!$B$18=\"\", \"\", '9'!$B$18)","v":""},null,null,12,{"$f":"IF('9'!$B$22=\"\", \"\", '9'!$B$22)","v":""},null,null,16,{"$f":"IF('9'!$B$26=\"\", \"\", '9'!$B$26)","v":""},null,null,20,{"$f":"IF('9'!$B$30=\"\", \"\", '9'!$B$30)","v":""},null,null,24,{"$f":"IF('9'!$B$34=\"\", \"\", '9'!$B$34)","v":""},{"$nulls":7},{"$f":"IF('9'!$D$14=\"\", \"\", '9'!$D$14)","v":""},"",{"$f":"IF('9'!$F$14=\"\", \"\", '9'!$F$14)","v":""},"",{"$f":"IF('9'!$H$14=\"\", \"\", '9'!$H$14)","v":""},{"$f":"IF('9'!$D$18=\"\", \"\", '9'!$D$18)","v":""},"",{"$f":"IF('9'!$F$18=\"\", \"\", '9'!$F$18)","v":""},"",{"$f":"IF('9'!$H$18=\"\", \"\", '9'!$H$18)","v":""},{"$f":"IF('9'!$D$22=\"\", \"\", '9'!$D$22)","v":""},"",{"$f":"IF('9'!$F$22=\"\", \"\", '9'!$F$22)","v":""},"",{"$f":"IF('9'!$H$22=\"\", \"\", '9'!$H$22)","v":""},{"$f":"IF('9'!$D$26=\"\", \"\", '9'!$D$26)","v":""},"",{"$f":"IF('9'!$F$26=\"\", \"\", '9'!$F$26)","v":""},"",{"$f":"IF('9'!$H$26=\"\", \"\", '9'!$H$26)","v":""},{"$f":"IF('9'!$D$30=\"\", \"\", '9'!$D$30)","v":""},"",{"$f":"IF('9'!$F$30=\"\", \"\", '9'!$F$30)","v":""},"",{"$f":"IF('9'!$H$30=\"\", \"\", '9'!$H$30)","v":""},{"$f":"IF('9'!$D$34=\"\", \"\", '9'!$D$34)","v":""},"",{"$f":"IF('9'!$F$34=\"\", \"\", '9'!$F$34)","v":""},"",{"$f":"IF('9'!$H$34=\"\", \"\", '9'!$H$34)","v":""}]
[{"$nulls":32},"",null,""]
[null,10,1,{"$f":"IF('10'!$B$11=\"\", \"\", '10'!$B$11)","v":""},null,null,5,{"$f":"IF('10'!$B$15=\"\", \"\", '10'!$B$15)","v":""},null,null,9,{"$f":"IF('10'!$B$19=\"\", \"\", '10'!$B$19)","v":""},null,null,13,{"$f":"IF('10'!$B$23=\"\", \"\", '10'!$B$23)","v":""},null,null,17,{"$f":"IF('10'!$B$27=\"\", \"\", '10'!$B$27)","v":""},null,null,21,{"$f":"IF('10'!$B$31=\"\", \"\", '10'!$B$31)","v":""},{"$nulls":7},{"$f":"IF('10'!$D$11=\"\", \"\", '10'!$D$11)","v":""},{"$f":"IF(AF79=\"\", \"\", \"/\")","v":""},{"$f":"IF('10'!$F$11=\"\", \"\", '10'!$F$11)","v":""},{"$f":"IF(AJ79=\"\", \"\", \"P\")","v":""},{"$f":"IF('10'!$H$11=\"\", \"\", '10'!$H$11)","v":""},{"$f":"IF('10'!$D$15=\"\", \"\", '10'!$D$15)","v":""},{"$f":"IF(AK79=\"\", \"\", \"/\")","v":""},{"$f":"IF('10'!$F$15=\"\", \"\", '10'!$F$15)","v":""},{"$f":"IF(AO79=\"\", \"\", \"P\")","v":""},{"$f":"IF('10'!$H$15=\"\", \"\", '10'!$H$15)","v":""},{"$f":"IF('10'!$D$19=\"\", \"\", '10'!$D$19)","v":""},{"$f":"IF(AP79=\"\", \"\", \"/\")","v":""},{"$f":"IF('10'!$F$19=\"\", \"\", '10'!$F$19)","v":""},{"$f":"IF(AT79=\"\", \"\", \"P\")","v":""},{"$f":"IF('10'!$H$19=\"\", \"\", '10'!$H$19)","v":""},{"$f":"IF('10'!$D$23=\"\", \"\", '10'!$D$23)","v":""},{"$f":"IF(AU79=\"\", \"\", \"/\")","v":""},{"$f":"IF('10'!$F$23=\"\", \"\", '10'!$F$23)","v":""},{"$f":"IF(AY79=\"\", \"\", \"P\")","v":""},{"$f":"IF('10'!$H$23=\"\", \"\", '10'!$H$23)","v":""},{"$f":"IF('10'!$D$27=\"\", \"\", '10'!$D$27)","v":""},{"$f":"IF(AZ79=\"\", \"\", \"/\")","v":""},{"$f":"IF('10'!$F$27=\"\", \"\", '10'!$F$27)","v":""},{"$f":"IF(BD79=\"\", \"\", \"P\")","v":""},{"$f":"IF('10'!$H$27=\"\", \"\", '10'!$H$27)","v":""},{"$f":"IF('10'!$D$31=\"\", \"\", '10'!$D$31)","v":""},{"$f":"IF(BE79=\"\", \"\", \"/\")","v":""},{"$f":"IF('10'!$F$31=\"\", \"\", '10'!$F$31)","v":""},{"$f":"IF(BI79=\"\", \"\", \"P\")","v":""},{"$f":"IF('10'!$H$31=\"\", \"\", '10'!$H$31)","v":""}]
[null,null,2,{"$f":"IF('10'!$B$12=\"\", \"\", '10'!$B$12)","v":""},null,null,6,{"$f":"IF('10'!$B$16=\"\", \"\", '10'!$B$16)","v":""},null,null,10,{"$f":"IF('10'!$B$20=\"\", \"\", '10'!$B$20)","v":""},null,null,14,{"$f":"IF('10'!$B$24=\"\", \"\", '10'!$B$24)","v":""},null,null,18,{"$f":"IF('10'!$B$28=\"\", \"\", '10'!$B$28)","v":""},null,null,22,{"$f":"IF('10'!$B$32=\"\", \"\", '10'!$B$32)","v":""},{"$nulls":7},{"$f":"IF('10'!$D$12=\"\", \"\", '10'!$D$12)","v":""},{"$f":"IF(AF80=\"\", \"\", \"/\")","v":""},{"$f":"IF('10'!$F$12=\"\", \"\", '10'!$F$12)","v":""},{"$f":"IF(AJ80=\"\", \"\", \"P\")","v":""},{"$f":"IF('10'!$H$12=\"\", \"\", '10'!$H$12)","v":""},{"$f":"IF('10'!$D$16=\"\", \"\", '10'!$D$16)","v":""},{"$f":"IF(AK80=\"\", \"\", \"/\")","v":""},{"$f":"IF('10'!$F$16=\"\", \"\", '10'!$F$16)","v":""},{"$f":"IF(AO80=\"\", \"\", \"P\")","v":""},{"$f":"IF('10'!$H$16=\"\", \"\", '10'!$H$16)","v":""},{"$f":"IF('10'!$D$20=\"\", \"\", '10'!$D$20)","v":""},{"$f":"IF(AP80=\"\", \"\", \"/\")","v":""},{"$f":"IF('10'!$F$20=\"\", \"\", '10'!$F$20)","v":""},{"$f":"IF(AT80=\"\", \"\", \"P\")","v":""},{"$f":"IF('10'!$H$20=\"\", \"\", '10'!$H$20)","v":""},{"$f":"IF('10'!$D$24=\"\", \"\", '10'!$D$24)","v":""},{"$f":"IF(AU80=\"\", \"\", \"/\")","v":""},{"$f":"IF('10'!$F$24=\"\", \"\", '10'!$F$24)","v":""},{"$f":"IF(AY80=\"\", \"\", \"P\")","v":""},{"$f":"IF('10'!$H$24=\"\", \"\", '10'!$H$24)","v":""},{"$f":"IF('10'!$D$28=\"\", \"\", '10'!$D$28)","v":""},{"$f":"IF(AZ80=\"\", \"\", \"/\")","v":""},{"$f":"IF('10'!$F$28=\"\", \"\", '10'!$F$28)","v":""},{"$f":"IF(BD80=\"\", \"\", \"P\")","v":""},{"$f":"IF('10'!$H$28=\"\", \"\", '10'!$H$28)","v":""},{"$f":"IF('10'!$D$32=\"\", \"\", '10'!$D$32)","v":""},{"$f":"IF(BE80=\"\", \"\", \"/\")","v":""},{"$f":"IF('10'!$F$32=\"\", \"\", '10'!$F$32)","v":""},{"$f":"IF(BI80=\"\", \"\", \"P\")","v":""},{"$f":"IF('10'!$H$32=\"\", \"\", '10'!$H$32)","v":""}]
[null,null,3,{"$f":"IF('10'!$B$13=\"\", \"\", '10'!$B$13)","v":""},null,null,7,{"$f":"IF('10'!$B$17=\"\", \"\", '10'!$B$17)","v":""},null,null,11,{"$f":"IF('10'!$B$21=\"\", \"\", '10'!$B$21)","v":""},null,null,15,{"$f":"IF('10'!$B$25=\"\", \"\", '10'!$B$25)","v":""},null,null,19,{"$f":"IF('10'!$B$29=\"\", \"\", '10'!$B$29)","v":""},null,null,23,{"$f":"IF('10'!$B$33=\"\", \"\", '10'!$B$33)","v":""},{"$nulls":7},{"$f":"IF('10'!$D$13=\"\", \"\", '10'!$D$13)","v":""},"",{"$f":"IF('10'!$F$13=\"\", \"\", '10'!$F$13)","v":""},"",{"$f":"IF('10'!$H$13=\"\", \"\", '10'!$H$13)","v":""},{"$f":"IF('10'!$D$17=\"\", \"\", '10'!$D$17)","v":""},"",{"$f":"IF('10'!$F$17=\"\", \"\", '10'!$F$17)","v":""},"",{"$f":"IF('10'!$H$17=\"\", \"\", '10'!$H$17)","v":""},{"$f":"IF('10'!$D$21=\"\", \"\", '10'!$D$21)","v":""},"",{"$f":"IF('10'!$F$21=\"\", \"\", '10'!$F$21)","v":""},"",{"$f":"IF('10'!$H$21=\"\", \"\", '10'!$H$21)","v":""},{"$f":"IF('10'!$D$25=\"\", \"\", '10'!$D$25)","v":""},"",{"$f":"IF('10'!$F$25=\"\", \"\", '10'!$F$25)","v":""},"",{"$f":"IF('10'!$H$25=\"\", \"\", '10'!$H$25)","v":""},{"$f":"IF('10'!$D$29=\"\", \"\", '10'!$D$29)","v":""},"",{"$f":"IF('10'!$F$29=\"\", \"\", '10'!$F$29)","v":""},"",{"$f":"IF('10'!$H$29=\"\", \"\", '10'!$H$29)","v":""},{"$f":"IF('10'!$D$33=\"\", \"\", '10'!$D$33)","v":""},"",{"$f":"IF('10'!$F$33=\"\", \"\", '10'!$F$33)","v":""},"",{"$f":"IF('10'!$H$33=\"\", \"\", '10'!$H$33)","v":""}]
[null,null,4,{"$f":"IF('10'!$B$14=\"\", \"\", '10'!$B$14)","v":""},null,null,8,{"$f":"IF('10'!$B$18=\"\", \"\", '10'!$B$18)","v":""},null,null,12,{"$f":"IF('10'!$B$22=\"\", \"\", '10'!$B$22)","v":""},null,null,16,{"$f":"IF('10'!$B$26=\"\", \"\", '10'!$B$26)","v":""},null,null,20,{"$f":"IF('10'!$B$30=\"\", \"\", '10'!$B$30)","v":""},null,null,24,{"$f":"IF('10'!$B$34=\"\", \"\", '10'!$B$34)","v":""},{"$nulls":7},{"$f":"IF('10'!$D$14=\"\", \"\", '10'!$D$14)","v":""},"",{"$f":"IF('10'!$F$14=\"\", \"\", '10'!$F$14)","v":""},"",{"$f":"IF('10'!$H$14=\"\", \"\", '10'!$H$14)","v":""},{"$f":"IF('10'!$D$18=\"\", \"\", '10'!$D$18)","v":""},"",{"$f":"IF('10'!$F$18=\"\", \"\", '10'!$F$18)","v":""},"",{"$f":"IF('10'!$H$18=\"\", \"\", '10'!$H$18)","v":""},{"$f":"IF('10'!$D$22=\"\", \"\", '10'!$D$22)","v":""},"",{"$f":"IF('10'!$F$22=\"\", \"\", '10'!$F$22)","v":""},"",{"$f":"IF('10'!$H$22=\"\", \"\", '10'!$H$22)","v":""},{"$f":"IF('10'!$D$26=\"\", \"\", '10'!$D$26)","v":""},"",{"$f":"IF('10'!$F$26=\"\", \"\", '10'!$F$26)","v":""},"",{"$f":"IF('10'!$H$26=\"\", \"\", '10'!$H$26)","v":""},{"$f":"IF('10'!$D$30=\"\", \"\", '10'!$D$30)","v":""},"",{"$f":"IF('10'!$F$30=\"\", \"\", '10'!$F$30)","v":""},"",{"$f":"IF('10'!$H$30=\"\", \"\", '10'!$H$30)","v":""},{"$f":"IF('10'!$D$34=\"\", \"\", '10'!$D$34)","v":""},"",{"$f":"IF('10'!$F$34=\"\", \"\", '10'!$F$34)","v":""},"",{"$f":"IF('10'!$H$34=\"\", \"\", '10'!$H$34)","v":""}]
[{"$nulls":32},"",null,""]
[null,11,1,{"$f":"IF('11'!$B$11=\"\", \"\", '11'!$B$11)","v":""},null,null,5,{"$f":"IF('11'!$B$15=\"\", \"\", '11'!$B$15)","v":""},null,null,9,{"$f":"IF('11'!$B$19=\"\", \"\", '11'!$B$19)","v":""},null,null,13,{"$f":"IF('11'!$B$23=\"\", \"\", '11'!$B$23)","v":""},null,null,17,{"$f":"IF('11'!$B$27=\"\", \"\", '11'!$B$27)","v":""},null,null,21,{"$f":"IF('11'!$B$31=\"\", \"\", '11'!$B$31)","v":""},{"$nulls":7},{"$f":"IF('11'!$D$11=\"\", \"\", '11'!$D$11)","v":""},{"$f":"IF(AF84=\"\", \"\", \"/\")","v":""},{"$f":"IF('11'!$F$11=\"\", \"\", '11'!$F$11)","v":""},{"$f":"IF(AJ84=\"\", \"\", \"P\")","v":""},{"$f":"IF('11'!$H$11=\"\", \"\", '11'!$H$11)","v":""},{"$f":"IF('11'!$D$15=\"\", \"\", '11'!$D$15)","v":""},{"$f":"IF(AK84=\"\", \"\", \"/\")","v":""},{"$f":"IF('11'!$F$15=\"\", \"\", '11'!$F$15)","v":""},{"$f":"IF(AO84=\"\", \"\", \"P\")","v":""},{"$f":"IF('11'!$H$15=\"\", \"\", '11'!$H$15)","v":""},{"$f":"IF('11'!$D$19=\"\", \"\", '11'!$D$19)","v":""},{"$f":"IF(AP84=\"\", \"\", \"/\")","v":""},{"$f":"IF('11'!$F$19=\"\", \"\", '11'!$F$19)","v":""},{"$f":"IF(AT84=\"\", \"\", \"P\")","v":""},{"$f":"IF('11'!$H$19=\"\", \"\", '11'!$H$19)","v":""},{"$f":"IF('11'!$D$23=\"\", \"\", '11'!$D$23)","v":""},{"$f":"IF(AU84=\"\", \"\", \"/\")","v":""},{"$f":"IF('11'!$F$23=\"\", \"\", '11'!$F$23)","v":""},{"$f":"IF(AY84=\"\", \"\", \"P\")","v":""},{"$f":"IF('11'!$H$23=\"\", \"\", '11'!$H$23)","v":""},{"$f":"IF('11'!$D$27=\"\", \"\", '11'!$D$27)","v":""},{"$f":"IF(AZ84=\"\", \"\", \"/\")","v":""},{"$f":"IF('11'!$F$27=\"\", \"\", '11'!$F$27)","v":""},{"$f":"IF(BD84=\"\", \"\", \"P\")","v":""},{"$f":"IF('11'!$H$27=\"\", \"\", '11'!$H$27)","v":""},{"$f":"IF('11'!$D$31=\"\", \"\", '11'!$D$31)","v":""},{"$f":"IF(BE84=\"\", \"\", \"/\")","v":""},{"$f":"IF('11'!$F$31=\"\", \"\", '11'!$F$31)","v":""},{"$f":"IF(BI84=\"\", \"\", \"P\")","v":""},{"$f":"IF('11'!$H$31=\"\", \"\", '11'!$H$31)","v":""}]
[null,null,2,{"$f":"IF('11'!$B$12=\"\", \"\", '11'!$B$12)","v":""},null,null,6,{"$f":"IF('11'!$B$16=\"\", \"\", '11'!$B$16)","v":""},null,null,10,{"$f":"IF('11'!$B$20=\"\", \"\", '11'!$B$20)","v":""},null,null,14,{"$f":"IF('11'!$B$24=\"\", \"\", '11'!$B$24)","v":""},null,null,18,{"$f":"IF('11'!$B$28=\"\", \"\", '11'!$B$28)","v":""},null,null,22,{"$f":"IF('11'!$B$32=\"\", \"\", '11'!$B$32)","v":""},{"$nulls":7},{"$f":"IF('11'!$D$12=\"\", \"\", '11'!$D$12)","v":""},{"$f":"IF(AF85=\"\", \"\", \"/\")","v":""},{"$f":"IF('11'!$F$12=\"\", \"\", '11'!$F$12)","v":""},{"$f":"IF(AJ85=\"\", \"\", \"P\")","v":""},{"$f":"IF('11'!$H$12=\"\", \"\", '11'!$H$12)","v":""},{"$f":"IF('11'!$D$16=\"\", \"\", '11'!$D$16)","v":""},{"$f":"IF(AK85=\"\", \"\", \"/\")","v":""},{"$f":"IF('11'!$F$16=\"\", \"\", '11'!$F$16)","v":""},{"$f":"IF(AO85=\"\", \"\", \"P\")","v":""},{"$f":"IF('11'!$H$16=\"\", \"\", '11'!$H$16)","v":""},{"$f":"IF('11'!$D$20=\"\", \"\", '11'!$D$20)","v":""},{"$f":"IF(AP85=\"\", \"\", \"/\")","v":""},{"$f":"IF('11'!$F$20=\"\", \"\", '11'!$F$20)","v":""},{"$f":"IF(AT85=\"\", \"\", \"P\")","v":""},{"$f":"IF('11'!$H$20=\"\", \"\", '11'!$H$20)","v":""},{"$f":"IF('11'!$D$24=\"\", \"\", '11'!$D$24)","v":""},{"$f":"IF(AU85=\"\", \"\", \"/\")","v":""},{"$f":"IF('11'!$F$24=\"\", \"\", '11'!$F$24)","v":""},{"$f":"IF(AY85=\"\", \"\", \"P\")","v":""},{"$f":"IF('11'!$H$24=\"\", \"\", '11'!$H$24)","v":""},{"$f":"IF('11'!$D$28=\"\", \"\", '11'!$D$28)","v":""},{"$f":"IF(AZ85=\"\", \"\", \"/\")","v":""},{"$f":"IF('11'!$F$28=\"\", \"\", '11'!$F$28)","v":""},{"$f":"IF(BD85=\"\", \"\", \"P\")","v":""},{"$f":"IF('11'!$H$28=\"\", \"\", '11'!$H$28)","v":""},{"$f":"IF('11'!$D$32=\"\", \"\", '11'!$D$32)","v":""},{"$f":"IF(BE85=\"\", \"\", \"/\")","v":""},{"$f":"IF('11'!$F$32=\"\", \"\", '11'!$F$32)","v":""},{"$f":"IF(BI85=\"\", \"\", \"P\")","v":""},{"$f":"IF('11'!$H$32=\"\", \"\", '11'!$H$32)","v":""}]
[null,null,3,{"$f":"IF('11'!$B$13=\"\", \"\", '11'!$B$13)","v":""},null,null,7,{"$f":"IF('11'!$B$17=\"\", \"\", '11'!$B$17)","v":""},null,null,11,{"$f":"IF('11'!$B$21=\"\", \"\", '11'!$B$21)","v":""},null,null,15,{"$f":"IF('11'!$B$25=\"\", \"\", '11'!$B$25)","v":""},null,null,19,{"$f":"IF('11'!$B$29=\"\", \"\", '11'!$B$29)","v":""},null,null,23,{"$f":"IF('11'!$B$33=\"\", \"\", '11'!$B$33)","v":""},{"$nulls":7},{"$f":"IF('11'!$D$13=\"\", \"\", '11'!$D$13)","v":""},"",{"$f":"IF('11'!$F$13=\"\", \"\", '11'!$F$13)","v":""},"",{"$f":"IF('11'!$H$13=\"\", \"\", '11'!$H$13)","v":""},{"$f":"IF('11'!$D$17=\"\", \"\", '11'!$D$17)","v":""},"",{"$f":"IF('11'!$F$17=\"\", \"\", '11'!$F$17)","v":""},"",{"$f":"IF('11'!$H$17=\"\", \"\", '11'!$H$17)","v":""},{"$f":"IF('11'!$D$21=\"\", \"\", '11'!$D$21)","v":""},"",{"$f":"IF('11'!$F$21=\"\", \"\", '11'!$F$21)","v":""},"",{"$f":"IF('11'!$H$21=\"\", \"\", '11'!$H$21)","v":""},{"$f":"IF('11'!$D$25=\"\", \"\", '11'!$D$25)","v":""},"",{"$f":"IF('11'!$F$25=\"\", \"\", '11'!$F$25)","v":""},"",{"$f":"IF('11'!$H$25=\"\", \"\", '11'!$H$25)","v":""},{"$f":"IF('11'!$D$29=\"\", \"\", '11'!$D$29)","v":""},"",{"$f":"IF('11'!$F$29=\"\", \"\", '11'!$F$29)","v":""},"",{"$f":"IF('11'!$H$29=\"\", \"\", '11'!$H$29)","v":""},{"$f":"IF('11'!$D$33=\"\", \"\", '11'!$D$33)","v":""},"",{"$f":"IF('11'!$F$33=\"\", \"\", '11'!$F$33)","v":""},"",{"$f":"IF('11'!$H$33=\"\", \"\", '11'!$H$33)","v":""}]
[null,null,4,{"$f":"IF('11'!$B$14=\"\", \"\", '11'!$B$14)","v":""},null,null,8,{"$f":"IF('11'!$B$18=\"\", \"\", '11'!$B$18)","v":""},null,null,12,{"$f":"IF('11'!$B$22=\"\", \"\", '11'!$B$22)","v":""},null,null,16,{"$f":"IF('11'!$B$26=\"\", \"\", '11'!$B$26)","v":""},null,null,20,{"$f":"IF('11'!$B$30=\"\", \"\", '11'!$B$30)","v":""},null,null,24,{"$f":"IF('11'!$B$34=\"\", \"\", '11'!$B$34)","v":""},{"$nulls":7},{"$f":"IF('11'!$D$14=\"\", \"\", '11'!$D$14)","v":""},"",{"$f":"IF('11'!$F$14=\"\", \"\", '11'!$F$14)","v":""},"",{"$f":"IF('11'!$H$14=\"\", \"\", '11'!$H$14)","v":""},{"$f":"IF('11'!$D$18=\"\", \"\", '11'!$D$18)","v":""},"",{"$f":"IF('11'!$F$18=\"\", \"\", '11'!$F$18)","v":""},"",{"$f":"IF('11'!$H$18=\"\", \"\", '11'!$H$18)","v":""},{"$f":"IF('11'!$D$22=\"\", \"\", '11'!$D$22)","v":""},"",{"$f":"IF('11'!$F$22=\"\", \"\", '11'!$F$22)","v":""},"",{"$f":"IF('11'!$H$22=\"\", \"\", '11'!$H$22)","v":""},{"$f":"IF('11'!$D$26=\"\", \"\", '11'!$D$26)","v":""},"",{"$f":"IF('11'!$F$26=\"\", \"\", '11'!$F$26)","v":""},"",{"$f":"IF('11'!$H$26=\"\", \"\", '11'!$H$26)","v":""},{"$f":"IF('11'!$D$30=\"\", \"\", '11'!$D$30)","v":""},"",{"$f":"IF('11'!$F$30=\"\", \"\", '11'!$F$30)","v":""},"",{"$f":"IF('11'!$H$30=\"\", \"\", '11'!$H$30)","v":""},{"$f":"IF('11'!$D$34=\"\", \"\", '11'!$D$34)","v":""},"",{"$f":"IF('11'!$F$34=\"\", \"\", '11'!$F$34)","v":""},"",{"$f":"IF('11'!$H$34=\"\", \"\", '11'!$H$34)","v":""}]
[{"$nulls":32},"",null,""]
[null,12,1,{"$f":"IF('12'!$B$11=\"\", \"\", '12'!$B$11)","v":""},null,null,5,{"$f":"IF('12'!$B$15=\"\", \"\", '12'!$B$15)","v":""},null,null,9,{"$f":"IF('12'!$B$19=\"\", \"\", '12'!$B$19)","v":""},null,null,13,{"$f":"IF('12'!$B$23=\"\", \"\", '12'!$B$23)","v":""},null,null,17,{"$f":"IF('12'!$B$27=\"\", \"\", '12'!$B$27)","v":""},null,null,21,{"$f":"IF('12'!$B$31=\"\", \"\", '12'!$B$31)","v":""},{"$nulls":7},{"$f":"IF('12'!$D$11=\"\", \"\", '12'!$D$11)","v":""},{"$f":"IF(AF89=\"\", \"\", \"/\")","v":""},{"$f":"IF('12'!$F$11=\"\", \"\", '12'!$F$11)","v":""},{"$f":"IF(AJ89=\"\", \"\", \"P\")","v":""},{"$f":"IF('12'!$H$11=\"\", \"\", '12'!$H$11)","v":""},{"$f":"IF('12'!$D$15=\"\", \"\", '12'!$D$15)","v":""},{"$f":"IF(AK89=\"\", \"\", \"/\")","v":""},{"$f":"IF('12'!$F$15=\"\", \"\", '12'!$F$15)","v":""},{"$f":"IF(AO89=\"\", \"\", \"P\")","v":""},{"$f":"IF('12'!$H$15=\"\", \"\", '12'!$H$15)","v":""},{"$f":"IF('12'!$D$19=\"\", \"\", '12'!$D$19)","v":""},{"$f":"IF(AP89=\"\", \"\", \"/\")","v":""},{"$f":"IF('12'!$F$19=\"\", \"\", '12'!$F$19)","v":""},{"$f":"IF(AT89=\"\", \"\", \"P\")","v":""},{"$f":"IF('12'!$H$19=\"\", \"\", '12'!$H$19)","v":""},{"$f":"IF('12'!$D$23=\"\", \"\", '12'!$D$23)","v":""},{"$f":"IF(AU89=\"\", \"\", \"/\")","v":""},{"$f":"IF('12'!$F$23=\"\", \"\", '12'!$F$23)","v":""},{"$f":"IF(AY89=\"\", \"\", \"P\")","v":""},{"$f":"IF('12'!$H$23=\"\", \"\", '12'!$H$23)","v":""},{"$f":"IF('12'!$D$27=\"\", \"\", '12'!$D$27)","v":""},{"$f":"IF(AZ89=\"\", \"\", \"/\")","v":""},{"$f":"IF('12'!$F$27=\"\", \"\", '12'!$F$27)","v":""},{"$f":"IF(BD89=\"\", \"\", \"P\")","v":""},{"$f":"IF('12'!$H$27=\"\", \"\", '12'!$H$27)","v":""},{"$f":"IF('12'!$D$31=\"\", \"\", '12'!$D$31)","v":""},{"$f":"IF(BE89=\"\", \"\", \"/\")","v":""},{"$f":"IF('12'!$F$31=\"\", \"\", '12'!$F$31)","v":""},{"$f":"IF(BI89=\"\", \"\", \"P\")","v":""},{"$f":"IF('12'!$H$31=\"\", \"\", '12'!$H$31)","v":""}]
[null,null,2,{"$f":"IF('12'!$B$12=\"\", \"\", '12'!$B$12)","v":""},null,null,6,{"$f":"IF('12'!$B$16=\"\", \"\", '12'!$B$16)","v":""},null,null,10,{"$f":"IF('12'!$B$20=\"\", \"\", '12'!$B$20)","v":""},null,null,14,{"$f":"IF('12'!$B$24=\"\", \"\", '12'!$B$24)","v":""},null,null,18,{"$f":"IF('12'!$B$28=\"\", \"\", '12'!$B$28)","v":""},null,null,22,{"$f":"IF('12'!$B$32=\"\", \"\", '12'!$B$32)","v":""},{"$nulls":7},{"$f":"IF('12'!$D$12=\"\", \"\", '12'!$D$12)","v":""},{"$f":"IF(AF90=\"\", \"\", \"/\")","v":""},{"$f":"IF('12'!$F$12=\"\", \"\", '12'!$F$12)","v":""},{"$f":"IF(AJ90=\"\", \"\", \"P\")","v":""},{"$f":"IF('12'!$H$12=\"\", \"\", '12'!$H$12)","v":""},{"$f":"IF('12'!$D$16=\"\", \"\", '12'!$D$16)","v":""},{"$f":"IF(AK90=\"\", \"\", \"/\")","v":""},{"$f":"IF('12'!$F$16=\"\", \"\", '12'!$F$16)","v":""},{"$f":"IF(AO90=\"\", \"\", \"P\")","v":""},{"$f":"IF('12'!$H$16=\"\", \"\", '12'!$H$16)","v":""},{"$f":"IF('12'!$D$20=\"\", \"\", '12'!$D$20)","v":""},{"$f":"IF(AP90=\"\", \"\", \"/\")","v":""},{"$f":"IF('12'!$F$20=\"\", \"\", '12'!$F$20)","v":""},{"$f":"IF(AT90=\"\", \"\", \"P\")","v":""},{"$f":"IF('12'!$H$20=\"\", \"\", '12'!$H$20)","v":""},{"$f":"IF('12'!$D$24=\"\", \"\", '12'!$D$24)","v":""},{"$f":"IF(AU90=\"\", \"\", \"/\")","v":""},{"$f":"IF('12'!$F$24=\"\", \"\", '12'!$F$24)","v":""},{"$f":"IF(AY90=\"\", \"\", \"P\")","v":""},{"$f":"IF('12'!$H$24=\"\", \"\", '12'!$H$24)","v":""},{"$f":"IF('12'!$D$28=\"\", \"\", '12'!$D$28)","v":""},{"$f":"IF(AZ90=\"\", \"\", \"/\")","v":""},{"$f":"IF('12'!$F$28=\"\", \"\", '12'!$F$28)","v":""},{"$f":"IF(BD90=\"\", \"\", \"P\")","v":""},{"$f":"IF('12'!$H$28=\"\", \"\", '12'!$H$28)","v":""},{"$f":"IF('12'!$D$32=\"\", \"\", '12'!$D$32)","v":""},{"$f":"IF(BE90=\"\", \"\", \"/\")","v":""},{"$f":"IF('12'!$F$32=\"\", \"\", '12'!$F$32)","v":""},{"$f":"IF(BI90=\"\", \"\", \"P\")","v":""},{"$f":"IF('12'!$H$32=\"\", \"\", '12'!$H$32)","v":""}]
[null,null,3,{"$f":"IF('12'!$B$13=\"\", \"\", '12'!$B$13)","v":""},null,null,7,{"$f":"IF('12'!$B$17=\"\", \"\", '12'!$B$17)","v":""},null,null,11,{"$f":"IF('12'!$B$21=\"\", \"\", '12'!$B$21)","v":""},null,null,15,{"$f":"IF('12'!$B$25=\"\", \"\", '12'!$B$25)","v":""},null,null,19,{"$f":"IF('12'!$B$29=\"\", \"\", '12'!$B$29)","v":""},null,null,23,{"$f":"IF('12'!$B$33=\"\", \"\", '12'!$B$33)","v":""},{"$nulls":7},{"$f":"IF('12'!$D$13=\"\", \"\", '12'!$D$13)","v":""},"",{"$f":"IF('12'!$F$13=\"\", \"\", '12'!$F$13)","v":""},"",{"$f":"IF('12'!$H$13=\"\", \"\", '12'!$H$13)","v":""},{"$f":"IF('12'!$D$17=\"\", \"\", '12'!$D$17)","v":""},"",{"$f":"IF('12'!$F$17=\"\", \"\", '12'!$F$17)","v":""},"",{"$f":"IF('12'!$H$17=\"\", \"\", '12'!$H$17)","v":""},{"$f":"IF('12'!$D$21=\"\", \"\", '12'!$D$21)","v":""},"",{"$f":"IF('12'!$F$21=\"\", \"\", '12'!$F$21)","v":""},"",{"$f":"IF('12'!$H$21=\"\", \"\", '12'!$H$21)","v":""},{"$f":"IF('12'!$D$25=\"\", \"\", '12'!$D$25)","v":""},"",{"$f":"IF('12'!$F$25=\"\", \"\", '12'!$F$25)","v":""},"",{"$f":"IF('12'!$H$25=\"\", \"\", '12'!$H$25)","v":""},{"$f":"IF('12'!$D$29=\"\", \"\", '12'!$D$29)","v":""},"",{"$f":"IF('12'!$F$29=\"\", \"\", '12'!$F$29)","v":""},"",{"$f":"IF('12'!$H$29=\"\", \"\", '12'!$H$29)","v":""},{"$f":"IF('12'!$D$33=\"\", \"\", '12'!$D$33)","v":""},"",{"$f":"IF('12'!$F$33=\"\", \"\", '12'!$F$33)","v":""},"",{"$f":"IF('12'!$H$33=\"\", \"\", '12'!$H$33)","v":""}]
[null,null,4,{"$f":"IF('12'!$B$14=\"\", \"\", '12'!$B$14)","v":""},null,null,8,{"$f":"IF('12'!$B$18=\"\", \"\", '12'!$B$18)","v":""},null,null,12,{"$f":"IF('12'!$B$22=\"\", \"\", '12'!$B$22)","v":""},null,null,16,{"$f":"IF('12'!$B$26=\"\", \"\", '12'!$B$26)","v":""},null,null,20,{"$f":"IF('12'!$B$30=\"\", \"\", '12'!$B$30)","v":""},null,null,24,{"$f":"IF('12'!$B$34=\"\", \"\", '12'!$B$34)","v":""},{"$nulls":7},{"$f":"IF('12'!$D$14=\"\", \"\", '12'!$D$14)","v":""},"",{"$f":"IF('12'!$F$14=\"\", \"\", '12'!$F$14)","v":""},"",{"$f":"IF('12'!$H$14=\"\", \"\", '12'!$H$14)","v":""},{"$f":"IF('12'!$D$18=\"\", \"\", '12'!$D$18)","v":""},"",{"$f":"IF('12'!$F$18=\"\", \"\", '12'!$F$18)","v":""},"",{"$f":"IF('12'!$H$18=\"\", \"\", '12'!$H$18)","v":""},{"$f":"IF('12'!$D$22=\"\", \"\", '12'!$D$22)","v":""},"",{"$f":"IF('12'!$F$22=\"\", \"\", '12'!$F$22)","v":""},"",{"$f":"IF('12'!$H$22=\"\", \"\", '12'!$H$22)","v":""},{"$f":"IF('12'!$D$26=\"\", \"\", '12'!$D$26)","v":""},"",{"$f":"IF('12'!$F$26=\"\", \"\", '12'!$F$26)","v":""},"",{"$f":"IF('12'!$H$26=\"\", \"\", '12'!$H$26)","v":""},{"$f":"IF('12'!$D$30=\"\", \"\", '12'!$D$30)","v":""},"",{"$f":"IF('12'!$F$30=\"\", \"\", '12'!$F$30)","v":""},"",{"$f":"IF('12'!$H$30=\"\", \"\", '12'!$H$30)","v":""},{"$f":"IF('12'!$D$34=\"\", \"\", '12'!$D$34)","v":""},"",{"$f":"IF('12'!$F$34=\"\", \"\", '12'!$F$34)","v":""},"",{"$f":"IF('12'!$H$34=\"\", \"\", '12'!$H$34)","v":""}]
[{"$nulls":32},"",null,""]
[null,13,1,{"$f":"IF('13'!$B$11=\"\", \"\", '13'!$B$11)","v":""},null,null,5,{"$f":"IF('13'!$B$15=\"\", \"\", '13'!$B$15)","v":""},null,null,9,{"$f":"IF('13'!$B$19=\"\", \"\", '13'!$B$19)","v":""},null,null,13,{"$f":"IF('13'!$B$23=\"\", \"\", '13'!$B$23)","v":""},null,null,17,{"$f":"IF('13'!$B$27=\"\", \"\", '13'!$B$27)","v":""},null,null,21,{"$f":"IF('13'!$B$31=\"\", \"\", '13'!$B$31)","v":""},{"$nulls":7},{"$f":"IF('13'!$D$11=\"\", \"\", '13'!$D$11)","v":""},{"$f":"IF(AF94=\"\", \"\", \"/\")","v":""},{"$f":"IF('13'!$F$11=\"\", \"\", '13'!$F$11)","v":""},{"$f":"IF(AJ94=\"\", \"\", \"P\")","v":""},{"$f":"IF('13'!$H$11=\"\", \"\", '13'!$H$11)","v":""},{"$f":"IF('13'!$D$15=\"\", \"\", '13'!$D$15)","v":""},{"$f":"IF(AK94=\"\", \"\", \"/\")","v":""},{"$f":"IF('13'!$F$15=\"\", \"\", '13'!$F$15)","v":""},{"$f":"IF(AO94=\"\", \"\", \"P\")","v":""},{"$f":"IF('13'!$H$15=\"\", \"\", '13'!$H$15)","v":""},{"$f":"IF('13'!$D$19=\"\", \"\", '13'!$D$19)","v":""},{"$f":"IF(AP94=\"\", \"\", \"/\")","v":""},{"$f":"IF('13'!$F$19=\"\", \"\", '13'!$F$19)","v":""},{"$f":"IF(AT94=\"\", \"\", \"P\")","v":""},{"$f":"IF('13'!$H$19=\"\", \"\", '13'!$H$19)","v":""},{"$f":"IF('13'!$D$23=\"\", \"\", '13'!$D$23)","v":""},{"$f":"IF(AU94=\"\", \"\", \"/\")","v":""},{"$f":"IF('13'!$F$23=\"\", \"\", '13'!$F$23)","v":""},{"$f":"IF(AY94=\"\", \"\", \"P\")","v":""},{"$f":"IF('13'!$H$23=\"\", \"\", '13'!$H$23)","v":""},{"$f":"IF('13'!$D$27=\"\", \"\", '13'!$D$27)","v":""},{"$f":"IF(AZ94=\"\", \"\", \"/\")","v":""},{"$f":"IF('13'!$F$27=\"\", \"\", '13'!$F$27)","v":""},{"$f":"IF(BD94=\"\", \"\", \"P\")","v":""},{"$f":"IF('13'!$H$27=\"\", \"\", '13'!$H$27)","v":""},{"$f":"IF('13'!$D$31=\"\", \"\", '13'!$D$31)","v":""},{"$f":"IF(BE94=\"\", \"\", \"/\")","v":""},{"$f":"IF('13'!$F$31=\"\", \"\", '13'!$F$31)","v":""},{"$f":"IF(BI94=\"\", \"\", \"P\")","v":""},{"$f":"IF('13'!$H$31=\"\", \"\", '13'!$H$31)","v":""}]
[null,null,2,{"$f":"IF('13'!$B$12=\"\", \"\", '13'!$B$12)","v":""},null,null,6,{"$f":"IF('13'!$B$16=\"\", \"\", '13'!$B$16)","v":""},null,null,10,{"$f":"IF('13'!$B$20=\"\", \"\", '13'!$B$20)","v":""},null,null,14,{"$f":"IF('13'!$B$24=\"\", \"\", '13'!$B$24)","v":""},null,null,18,{"$f":"IF('13'!$B$28=\"\", \"\", '13'!$B$28)","v":""},null,null,22,{"$f":"IF('13'!$B$32=\"\", \"\", '13'!$B$32)","v":""},{"$nulls":7},{"$f":"IF('13'!$D$12=\"\", \"\", '13'!$D$12)","v":""},{"$f":"IF(AF95=\"\", \"\", \"/\")","v":""},{"$f":"IF('13'!$F$12=\"\", \"\", '13'!$F$12)","v":""},{"$f":"IF(AJ95=\"\", \"\", \"P\")","v":""},{"$f":"IF('13'!$H$12=\"\", \"\", '13'!$H$12)","v":""},{"$f":"IF('13'!$D$16=\"\", \"\", '13'!$D$16)","v":""},{"$f":"IF(AK95=\"\", \"\", \"/\")","v":""},{"$f":"IF('13'!$F$16=\"\", \"\", '13'!$F$16)","v":""},{"$f":"IF(AO95=\"\", \"\", \"P\")","v":""},{"$f":"IF('13'!$H$16=\"\", \"\", '13'!$H$16)","v":""},{"$f":"IF('13'!$D$20=\"\", \"\", '13'!$D$20)","v":""},{"$f":"IF(AP95=\"\", \"\", \"/\")","v":""},{"$f":"IF('13'!$F$20=\"\", \"\", '13'!$F$20)","v":""},{"$f":"IF(AT95=\"\", \"\", \"P\")","v":""},{"$f":"IF('13'!$H$20=\"\", \"\", '13'!$H$20)","v":""},{"$f":"IF('13'!$D$24=\"\", \"\", '13'!$D$24)","v":""},{"$f":"IF(AU95=\"\", \"\", \"/\")","v":""},{"$f":"IF('13'!$F$24=\"\", \"\", '13'!$F$24)","v":""},{"$f":"IF(AY95=\"\", \"\", \"P\")","v":""},{"$f":"IF('13'!$H$24=\"\", \"\", '13'!$H$24)","v":""},{"$f":"IF('13'!$D$28=\"\", \"\", '13'!$D$28)","v":""},{"$f":"IF(AZ95=\"\", \"\", \"/\")","v":""},{"$f":"IF('13'!$F$28=\"\", \"\", '13'!$F$28)","v":""},{"$f":"IF(BD95=\"\", \"\", \"P\")","v":""},{"$f":"IF('13'!$H$28=\"\", \"\", '13'!$H$28)","v":""},{"$f":"IF('13'!$D$32=\"\", \"\", '13'!$D$32)","v":""},{"$f":"IF(BE95=\"\", \"\", \"/\")","v":""},{"$f":"IF('13'!$F$32=\"\", \"\", '13'!$F$32)","v":""},{"$f":"IF(BI95=\"\", \"\", \"P\")","v":""},{"$f":"IF('13'!$H$32=\"\", \"\", '13'!$H$32)","v":""}]
[null,null,3,{"$f":"IF('13'!$B$13=\"\", \"\", '13'!$B$13)","v":""},null,null,7,{"$f":"IF('13'!$B$17=\"\", \"\", '13'!$B$17)","v":""},null,null,11,{"$f":"IF('13'!$B$21=\"\", \"\", '13'!$B$21)","v":""},null,null,15,{"$f":"IF('13'!$B$25=\"\", \"\", '13'!$B$25)","v":""},null,null,19,{"$f":"IF('13'!$B$29=\"\", \"\", '13'!$B$29)","v":""},null,null,23,{"$f":"IF('13'!$B$33=\"\", \"\", '13'!$B$33)","v":""},{"$nulls":7},{"$f":"IF('13'!$D$13=\"\", \"\", '13'!$D$13)","v":""},"",{"$f":"IF('13'!$F$13=\"\", \"\", '13'!$F$13)","v":""},"",{"$f":"IF('13'!$H$13=\"\", \"\", '13'!$H$13)","v":""},{"$f":"IF('13'!$D$17=\"\", \"\", '13'!$D$17)","v":""},"",{"$f":"IF('13'!$F$17=\"\", \"\", '13'!$F$17)","v":""},"",{"$f":"IF('13'!$H$17=\"\", \"\", '13'!$H$17)","v":""},{"$f":"IF('13'!$D$21=\"\", \"\", '13'!$D$21)","v":""},"",{"$f":"IF('13'!$F$21=\"\", \"\", '13'!$F$21)","v":""},"",{"$f":"IF('13'!$H$21=\"\", \"\", '13'!$H$21)","v":""},{"$f":"IF('13'!$D$25=\"\", \"\", '13'!$D$25)","v":""},"",{"$f":"IF('13'!$F$25=\"\", \"\", '13'!$F$25)","v":""},"",{"$f":"IF('13'!$H$25=\"\", \"\", '13'!$H$25)","v":""},{"$f":"IF('13'!$D$29=\"\", \"\", '13'!$D$29)","v":""},"",{"$f":"IF('13'!$F$29=\"\", \"\", '13'!$F$29)","v":""},"",{"$f":"IF('13'!$H$29=\"\", \"\", '13'!$H$29)","v":""},{"$f":"IF('13'!$D$33=\"\", \"\", '13'!$D$33)","v":""},"",{"$f":"IF('13'!$F$33=\"\", \"\", '13'!$F$33)","v":""},"",{"$f":"IF('13'!$H$33=\"\", \"\", '13'!$H$33)","v":""}]
[null,null,4,{"$f":"IF('13'!$B$14=\"\", \"\", '13'!$B$14)","v":""},null,null,8,{"$f":"IF('13'!$B$18=\"\", \"\", '13'!$B$18)","v":""},null,null,12,{"$f":"IF('13'!$B$22=\"\", \"\", '13'!$B$22)","v":""},null,null,16,{"$f":"IF('13'!$B$26=\"\", \"\", '13'!$B$26)","v":""},null,null,20,{"$f":"IF('13'!$B$30=\"\", \"\", '13'!$B$30)","v":""},null,null,24,{"$f":"IF('13'!$B$34=\"\", \"\", '13'!$B$34)","v":""},{"$nulls":7},{"$f":"IF('13'!$D$14=\"\", \"\", '13'!$D$14)","v":""},"",{"$f":"IF('13'!$F$14=\"\", \"\", '13'!$F$14)","v":""},"",{"$f":"IF('13'!$H$14=\"\", \"\", '13'!$H$14)","v":""},{"$f":"IF('13'!$D$18=\"\", \"\", '13'!$D$18)","v":""},"",{"$f":"IF('13'!$F$18=\"\", \"\", '13'!$F$18)","v":""},"",{"$f":"IF('13'!$H$18=\"\", \"\", '13'!$H$18)","v":""},{"$f":"IF('13'!$D$22=\"\", \"\", '13'!$D$22)","v":""},"",{"$f":"IF('13'!$F$22=\"\", \"\", '13'!$F$22)","v":""},"",{"$f":"IF('13'!$H$22=\"\", \"\", '13'!$H$22)","v":""},{"$f":"IF('13'!$D$26=\"\", \"\", '13'!$D$26)","v":""},"",{"$f":"IF('13'!$F$26=\"\", \"\", '13'!$F$26)","v":""},"",{"$f":"IF('13'!$H$26=\"\", \"\", '13'!$H$26)","v":""},{"$f":"IF('13'!$D$30=\"\", \"\", '13'!$D$30)","v":""},"",{"$f":"IF('13'!$F$30=\"\", \"\", '13'!$F$30)","v":""},"",{"$f":"IF('13'!$H$30=\"\", \"\", '13'!$H$30)","v":""},{"$f":"IF('13'!$D$34=\"\", \"\", '13'!$D$34)","v":""},"",{"$f":"IF('13'!$F$34=\"\", \"\", '13'!$F$34)","v":""},"",{"$f":"IF('13'!$H$34=\"\", \"\", '13'!$H$34)","v":""}]
[{"$nulls":32},"",null,""]
[null,14,1,{"$f":"IF('14'!$B$11=\"\", \"\", '14'!$B$11)","v":""},null,null,5,{"$f":"IF('14'!$B$15=\"\", \"\", '14'!$B$15)","v":""},null,null,9,{"$f":"IF('14'!$B$19=\"\", \"\", '14'!$B$19)","v":""},null,null,13,{"$f":"IF('14'!$B$23=\"\", \"\", '14'!$B$23)","v":""},null,null,17,{"$f":"IF('14'!$B$27=\"\", \"\", '14'!$B$27)","v":""},null,null,21,{"$f":"IF('14'!$B$31=\"\", \"\", '14'!$B$31)","v":""},{"$nulls":7},{"$f":"IF('14'!$D$11=\"\", \"\", '14'!$D$11)","v":""},{"$f":"IF(AF99=\"\", \"\", \"/\")","v":""},{"$f":"IF('14'!$F$11=\"\", \"\", '14'!$F$11)","v":""},{"$f":"IF(AJ99=\"\", \"\", \"P\")","v":""},{"$f":"IF('14'!$H$11=\"\", \"\", '14'!$H$11)","v":""},{"$f":"IF('14'!$D$15=\"\", \"\", '14'!$D$15)","v":""},{"$f":"IF(AK99=\"\", \"\", \"/\")","v":""},{"$f":"IF('14'!$F$15=\"\", \"\", '14'!$F$15)","v":""},{"$f":"IF(AO99=\"\", \"\", \"P\")","v":""},{"$f":"IF('14'!$H$15=\"\", \"\", '14'!$H$15)","v":""},{"$f":"IF('14'!$D$19=\"\", \"\", '14'!$D$19)","v":""},{"$f":"IF(AP99=\"\", \"\", \"/\")","v":""},{"$f":"IF('14'!$F$19=\"\", \"\", '14'!$F$19)","v":""},{"$f":"IF(AT99=\"\", \"\", \"P\")","v":""},{"$f":"IF('14'!$H$19=\"\", \"\", '14'!$H$19)","v":""},{"$f":"IF('14'!$D$23=\"\", \"\", '14'!$D$23)","v":""},{"$f":"IF(AU99=\"\", \"\", \"/\")","v":""},{"$f":"IF('14'!$F$23=\"\", \"\", '14'!$F$23)","v":""},{"$f":"IF(AY99=\"\", \"\", \"P\")","v":""},{"$f":"IF('14'!$H$23=\"\", \"\", '14'!$H$23)","v":""},{"$f":"IF('14'!$D$27=\"\", \"\", '14'!$D$27)","v":""},{"$f":"IF(AZ99=\"\", \"\", \"/\")","v":""},{"$f":"IF('14'!$F$27=\"\", \"\", '14'!$F$27)","v":""},{"$f":"IF(BD99=\"\", \"\", \"P\")","v":""},{"$f":"IF('14'!$H$27=\"\", \"\", '14'!$H$27)","v":""},{"$f":"IF('14'!$D$31=\"\", \"\", '14'!$D$31)","v":""},{"$f":"IF(BE99=\"\", \"\", \"/\")","v":""},{"$f":"IF('14'!$F$31=\"\", \"\", '14'!$F$31)","v":""},{"$f":"IF(BI99=\"\", \"\", \"P\")","v":""},{"$f":"IF('14'!$H$31=\"\", \"\", '14'!$H$31)","v":""}]
[null,null,2,{"$f":"IF('14'!$B$12=\"\", \"\", '14'!$B$12)","v":""},null,null,6,{"$f":"IF('14'!$B$16=\"\", \"\", '14'!$B$16)","v":""},null,null,10,{"$f":"IF('14'!$B$20=\"\", \"\", '14'!$B$20)","v":""},null,null,14,{"$f":"IF('14'!$B$24=\"\", \"\", '14'!$B$24)","v":""},null,null,18,{"$f":"IF('14'!$B$28=\"\", \"\", '14'!$B$28)","v":""},null,null,22,{"$f":"IF('14'!$B$32=\"\", \"\", '14'!$B$32)","v":""},{"$nulls":7},{"$f":"IF('14'!$D$12=\"\", \"\", '14'!$D$12)","v":""},{"$f":"IF(AF100=\"\", \"\", \"/\")","v":""},{"$f":"IF('14'!$F$12=\"\", \"\", '14'!$F$12)","v":""},{"$f":"IF(AJ100=\"\", \"\", \"P\")","v":""},{"$f":"IF('14'!$H$12=\"\", \"\", '14'!$H$12)","v":""},{"$f":"IF('14'!$D$16=\"\", \"\", '14'!$D$16)","v":""},{"$f":"IF(AK100=\"\", \"\", \"/\")","v":""},{"$f":"IF('14'!$F$16=\"\", \"\", '14'!$F$16)","v":""},{"$f":"IF(AO100=\"\", \"\", \"P\")","v":""},{"$f":"IF('14'!$H$16=\"\", \"\", '14'!$H$16)","v":""},{"$f":"IF('14'!$D$20=\"\", \"\", '14'!$D$20)","v":""},{"$f":"IF(AP100=\"\", \"\", \"/\")","v":""},{"$f":"IF('14'!$F$20=\"\", \"\", '14'!$F$20)","v":""},{"$f":"IF(AT100=\"\", \"\", \"P\")","v":""},{"$f":"IF('14'!$H$20=\"\", \"\", '14'!$H$20)","v":""},{"$f":"IF('14'!$D$24=\"\", \"\", '14'!$D$24)","v":""},{"$f":"IF(AU100=\"\", \"\", \"/\")","v":""},{"$f":"IF('14'!$F$24=\"\", \"\", '14'!$F$24)","v":""},{"$f":"IF(AY100=\"\", \"\", \"P\")","v":""},{"$f":"IF('14'!$H$24=\"\", \"\", '14'!$H$24)","v":""},{"$f":"IF('14'!$D$28=\"\", \"\", '14'!$D$28)","v":""},{"$f":"IF(AZ100=\"\", \"\", \"/\")","v":""},{"$f":"IF('14'!$F$28=\"\", \"\", '14'!$F$28)","v":""},{"$f":"IF(BD100=\"\", \"\", \"P\")","v":""},{"$f":"IF('14'!$H$28=\"\", \"\", '14'!$H$28)","v":""},{"$f":"IF('14'!$D$32=\"\", \"\", '14'!$D$32)","v":""},{"$f":"IF(BE100=\"\", \"\", \"/\")","v":""},{"$f":"IF('14'!$F$32=\"\", \"\", '14'!$F$32)","v":""},{"$f":"IF(BI100=\"\", \"\", \"P\")","v":""},{"$f":"IF('14'!$H$32=\"\", \"\", '14'!$H$32)","v":""}]
[null,null,3,{"$f":"IF('14'!$B$13=\"\", \"\", '14'!$B$13)","v":""},null,null,7,{"$f":"IF('14'!$B$17=\"\", \"\", '14'!$B$17)","v":""},null,null,11,{"$f":"IF('14'!$B$21=\"\", \"\", '14'!$B$21)","v":""},null,null,15,{"$f":"IF('14'!$B$25=\"\", \"\", '14'!$B$25)","v":""},null,null,19,{"$f":"IF('14'!$B$29=\"\", \"\", '14'!$B$29)","v":""},null,null,23,{"$f":"IF('14'!$B$33=\"\", \"\", '14'!$B$33)","v":""},{"$nulls":7},{"$f":"IF('14'!$D$13=\"\", \"\", '14'!$D$13)","v":""},"",{"$f":"IF('14'!$F$13=\"\", \"\", '14'!$F$13)","v":""},"",{"$f":"IF('14'!$H$13=\"\", \"\", '14'!$H$13)","v":""},{"$f":"IF('14'!$D$17=\"\", \"\", '14'!$D$17)","v":""},"",{"$f":"IF('14'!$F$17=\"\", \"\", '14'!$F$17)","v":""},"",{"$f":"IF('14'!$H$17=\"\", \"\", '14'!$H$17)","v":""},{"$f":"IF('14'!$D$21=\"\", \"\", '14'!$D$21)","v":""},"",{"$f":"IF('14'!$F$21=\"\", \"\", '14'!$F$21)","v":""},"",{"$f":"IF('14'!$H$21=\"\", \"\", '14'!$H$21)","v":""},{"$f":"IF('14'!$D$25=\"\", \"\", '14'!$D$25)","v":""},"",{"$f":"IF('14'!$F$25=\"\", \"\", '14'!$F$25)","v":""},"",{"$f":"IF('14'!$H$25=\"\", \"\", '14'!$H$25)","v":""},{"$f":"IF('14'!$D$29=\"\", \"\", '14'!$D$29)","v":""},"",{"$f":"IF('14'!$F$29=\"\", \"\", '14'!$F$29)","v":""},"",{"$f":"IF('14'!$H$29=\"\", \"\", '14'!$H$29)","v":""},{"$f":"IF('14'!$D$33=\"\", \"\", '14'!$D$33)","v":""},"",{"$f":"IF('14'!$F$33=\"\", \"\", '14'!$F$33)","v":""},"",{"$f":"IF('14'!$H$33=\"\", \"\", '14'!$H$33)","v":""}]
[null,null,4,{"$f":"IF('14'!$B$14=\"\", \"\", '14'!$B$14)","v":""},null,null,8,{"$f":"IF('14'!$B$18=\"\", \"\", '14'!$B$18)","v":""},null,null,12,{"$f":"IF('14'!$B$22=\"\", \"\", '14'!$B$22)","v":""},null,null,16,{"$f":"IF('14'!$B$26=\"\", \"\", '14'!$B$26)","v":""},null,null,20,{"$f":"IF('14'!$B$30=\"\", \"\", '14'!$B$30)","v":""},null,null,24,{"$f":"IF('14'!$B$34=\"\", \"\", '14'!$B$34)","v":""},{"$nulls":7},{"$f":"IF('14'!$D$14=\"\", \"\", '14'!$D$14)","v":""},"",{"$f":"IF('14'!$F$14=\"\", \"\", '14'!$F$14)","v":""},"",{"$f":"IF('14'!$H$14=\"\", \"\", '14'!$H$14)","v":""},{"$f":"IF('14'!$D$18=\"\", \"\", '14'!$D$18)","v":""},"",{"$f":"IF('14'!$F$18=\"\", \"\", '14'!$F$18)","v":""},"",{"$f":"IF('14'!$H$18=\"\", \"\", '14'!$H$18)","v":""},{"$f":"IF('14'!$D$22=\"\", \"\", '14'!$D$22)","v":""},"",{"$f":"IF('14'!$F$22=\"\", \"\", '14'!$F$22)","v":""},"",{"$f":"IF('14'!$H$22=\"\", \"\", '14'!$H$22)","v":""},{"$f":"IF('14'!$D$26=\"\", \"\", '14'!$D$26)","v":""},"",{"$f":"IF('14'!$F$26=\"\", \"\", '14'!$F$26)","v":""},"",{"$f":"IF('14'!$H$26=\"\", \"\", '14'!$H$26)","v":""},{"$f":"IF('14'!$D$30=\"\", \"\", '14'!$D$30)","v":""},"",{"$f":"IF('14'!$F$30=\"\", \"\", '14'!$F$30)","v":""},"",{"$f":"IF('14'!$H$30=\"\", \"\", '14'!$H$30)","v":""},{"$f":"IF('14'!$D$34=\"\", \"\", '14'!$D$34)","v":""},"",{"$f":"IF('14'!$F$34=\"\", \"\", '14'!$F$34)","v":""},"",{"$f":"IF('14'!$H$34=\"\", \"\", '14'!$H$34)","v":""}]
[{"$nulls":32},{"$f":"IF(AF103=\"\", \"\", \"/\")","v":""},null,{"$f":"IF(AJ103=\"\", \"\", \"P\")","v":""}]
[null,15,1,{"$f":"IF('15'!$B$11=\"\", \"\", '15'!$B$11)","v":""},null,null,5,{"$f":"IF('15'!$B$15=\"\", \"\", '15'!$B$15)","v":""},null,null,9,{"$f":"IF('15'!$B$19=\"\", \"\", '15'!$B$19)","v":""},null,null,13,{"$f":"IF('15'!$B$23=\"\", \"\", '15'!$B$23)","v":""},null,null,17,{"$f":"IF('15'!$B$27=\"\", \"\", '15'!$B$27)","v":""},null,null,21,{"$f":"IF('15'!$B$31=\"\", \"\", '15'!$B$31)","v":""},{"$nulls":7},{"$f":"IF('15'!$D$11=\"\", \"\", '15'!$D$11)","v":""},{"$f":"IF(AF104=\"\", \"\", \"/\")","v":""},{"$f":"IF('15'!$F$11=\"\", \"\", '15'!$F$11)","v":""},{"$f":"IF(AJ104=\"\", \"\", \"P\")","v":""},{"$f":"IF('15'!$H$11=\"\", \"\", '15'!$H$11)","v":""},{"$f":"IF('15'!$D$15=\"\", \"\", '15'!$D$15)","v":""},{"$f":"IF(AK104=\"\", \"\", \"/\")","v":""},{"$f":"IF('15'!$F$15=\"\", \"\", '15'!$F$15)","v":""},{"$f":"IF(AO104=\"\", \"\", \"P\")","v":""},{"$f":"IF('15'!$H$15=\"\", \"\", '15'!$H$15)","v":""},{"$f":"IF('15'!$D$19=\"\", \"\", '15'!$D$19)","v":""},{"$f":"IF(AP104=\"\", \"\", \"/\")","v":""},{"$f":"IF('15'!$F$19=\"\", \"\", '15'!$F$19)","v":""},{"$f":"IF(AT104=\"\", \"\", \"P\")","v":""},{"$f":"IF('15'!$H$19=\"\", \"\", '15'!$H$19)","v":""},{"$f":"IF('15'!$D$23=\"\", \"\", '15'!$D$23)","v":""},{"$f":"IF(AU104=\"\", \"\", \"/\")","v":""},{"$f":"IF('15'!$F$23=\"\", \"\", '15'!$F$23)","v":""},{"$f":"IF(AY104=\"\", \"\", \"P\")","v":""},{"$f":"IF('15'!$H$23=\"\", \"\", '15'!$H$23)","v":""},{"$f":"IF('15'!$D$27=\"\", \"\", '15'!$D$27)","v":""},{"$f":"IF(AZ104=\"\", \"\", \"/\")","v":""},{"$f":"IF('15'!$F$27=\"\", \"\", '15'!$F$27)","v":""},{"$f":"IF(BD104=\"\", \"\", \"P\")","v":""},{"$f":"IF('15'!$H$27=\"\", \"\", '15'!$H$27)","v":""},{"$f":"IF('15'!$D$31=\"\", \"\", '15'!$D$31)","v":""},{"$f":"IF(BE104=\"\", \"\", \"/\")","v":""},{"$f":"IF('15'!$F$31=\"\", \"\", '15'!$F$31)","v":""},{"$f":"IF(BI104=\"\", \"\", \"P\")","v":""},{"$f":"IF('15'!$H$31=\"\", \"\", '15'!$H$31)","v":""}]
[null,null,2,{"$f":"IF('15'!$B$12=\"\", \"\", '15'!$B$12)","v":""},null,null,6,{"$f":"IF('15'!$B$16=\"\", \"\", '15'!$B$16)","v":""},null,null,10,{"$f":"IF('15'!$B$20=\"\", \"\", '15'!$B$20)","v":""},null,null,14,{"$f":"IF('15'!$B$24=\"\", \"\", '15'!$B$24)","v":""},null,null,18,{"$f":"IF('15'!$B$28=\"\", \"\", '15'!$B$28)","v":""},null,null,22,{"$f":"IF('15'!$B$32=\"\", \"\", '15'!$B$32)","v":""},{"$nulls":7},{"$f":"IF('15'!$D$12=\"\", \"\", '15'!$D$12)","v":""},{"$f":"IF(AF105=\"\", \"\", \"/\")","v":""},{"$f":"IF('15'!$F$12=\"\", \"\", '15'!$F$12)","v":""},{"$f":"IF(AJ105=\"\", \"\", \"P\")","v":""},{"$f":"IF('15'!$H$12=\"\", \"\", '15'!$H$12)","v":""},{"$f":"IF('15'!$D$16=\"\", \"\", '15'!$D$16)","v":""},{"$f":"IF(AK105=\"\", \"\", \"/\")","v":""},{"$f":"IF('15'!$F$16=\"\", \"\", '15'!$F$16)","v":""},{"$f":"IF(AO105=\"\", \"\", \"P\")","v":""},{"$f":"IF('15'!$H$16=\"\", \"\", '15'!$H$16)","v":""},{"$f":"IF('15'!$D$20=\"\", \"\", '15'!$D$20)","v":""},{"$f":"IF(AP105=\"\", \"\", \"/\")","v":""},{"$f":"IF('15'!$F$20=\"\", \"\", '15'!$F$20)","v":""},{"$f":"IF(AT105=\"\", \"\", \"P\")","v":""},{"$f":"IF('15'!$H$20=\"\", \"\", '15'!$H$20)","v":""},{"$f":"IF('15'!$D$24=\"\", \"\", '15'!$D$24)","v":""},{"$f":"IF(AU105=\"\", \"\", \"/\")","v":""},{"$f":"IF('15'!$F$24=\"\", \"\", '15'!$F$24)","v":""},{"$f":"IF(AY105=\"\", \"\", \"P\")","v":""},{"$f":"IF('15'!$H$24=\"\", \"\", '15'!$H$24)","v":""},{"$f":"IF('15'!$D$28=\"\", \"\", '15'!$D$28)","v":""},{"$f":"IF(AZ105=\"\", \"\", \"/\")","v":""},{"$f":"IF('15'!$F$28=\"\", \"\", '15'!$F$28)","v":""},{"$f":"IF(BD105=\"\", \"\", \"P\")","v":""},{"$f":"IF('15'!$H$28=\"\", \"\", '15'!$H$28)","v":""},{"$f":"IF('15'!$D$32=\"\", \"\", '15'!$D$32)","v":""},{"$f":"IF(BE105=\"\", \"\", \"/\")","v":""},{"$f":"IF('15'!$F$32=\"\", \"\", '15'!$F$32)","v":""},{"$f":"IF(BI105=\"\", \"\", \"P\")","v":""},{"$f":"IF('15'!$H$32=\"\", \"\", '15'!$H$32)","v":""}]
[null,null,3,{"$f":"IF('15'!$B$13=\"\", \"\", '15'!$B$13)","v":""},null,null,7,{"$f":"IF('15'!$B$17=\"\", \"\", '15'!$B$17)","v":""},null,null,11,{"$f":"IF('15'!$B$21=\"\", \"\", '15'!$B$21)","v":""},null,null,15,{"$f":"IF('15'!$B$25=\"\", \"\", '15'!$B$25)","v":""},null,null,19,{"$f":"IF('15'!$B$29=\"\", \"\", '15'!$B$29)","v":""},null,null,23,{"$f":"IF('15'!$B$33=\"\", \"\", '15'!$B$33)","v":""},{"$nulls":7},{"$f":"IF('15'!$D$13=\"\", \"\", '15'!$D$13)","v":""},"",{"$f":"IF('15'!$F$13=\"\", \"\", '15'!$F$13)","v":""},"",{"$f":"IF('15'!$H$13=\"\", \"\", '15'!$H$13)","v":""},{"$f":"IF('15'!$D$17=\"\", \"\", '15'!$D$17)","v":""},"",{"$f":"IF('15'!$F$17=\"\", \"\", '15'!$F$17)","v":""},"",{"$f":"IF('15'!$H$17=\"\", \"\", '15'!$H$17)","v":""},{"$f":"IF('15'!$D$21=\"\", \"\", '15'!$D$21)","v":""},"",{"$f":"IF('15'!$F$21=\"\", \"\", '15'!$F$21)","v":""},"",{"$f":"IF('15'!$H$21=\"\", \"\", '15'!$H$21)","v":""},{"$f":"IF('15'!$D$25=\"\", \"\", '15'!$D$25)","v":""},"",{"$f":"IF('15'!$F$25=\"\", \"\", '15'!$F$25)","v":""},"",{"$f":"IF('15'!$H$25=\"\", \"\", '15'!$H$25)","v":""},{"$f":"IF('15'!$D$29=\"\", \"\", '15'!$D$29)","v":""},"",{"$f":"IF('15'!$F$29=\"\", \"\", '15'!$F$29)","v":""},"",{"$f":"IF('15'!$H$29=\"\", \"\", '15'!$H$29)","v":""},{"$f":"IF('15'!$D$33=\"\", \"\", '15'!$D$33)","v":""},"",{"$f":"IF('15'!$F$33=\"\", \"\", '15'!$F$33)","v":""},"",{"$f":"IF('15'!$H$33=\"\", \"\", '15'!$H$33)","v":""}]
[null,null,4,{"$f":"IF('15'!$B$14=\"\", \"\", '15'!$B$14)","v":""},null,null,8,{"$f":"IF('15'!$B$18=\"\", \"\", '15'!$B$18)","v":""},null,null,12,{"$f":"IF('15'!$B$22=\"\", \"\", '15'!$B$22)","v":""},null,null,16,{"$f":"IF('15'!$B$26=\"\", \"\", '15'!$B$26)","v":""},null,null,20,{"$f":"IF('15'!$B$30=\"\", \"\", '15'!$B$30)","v":""},null,null,24,{"$f":"IF('15'!$B$34=\"\", \"\", '15'!$B$34)","v":""},{"$nulls":7},{"$f":"IF('15'!$D$14=\"\", \"\", '15'!$D$14)","v":""},"",{"$f":"IF('15'!$F$14=\"\", \"\", '15'!$F$14)","v":""},"",{"$f":"IF('15'!$H$14=\"\", \"\", '15'!$H$14)","v":""},{"$f":"IF('15'!$D$18=\"\", \"\", '15'!$D$18)","v":""},"",{"$f":"IF('15'!$F$18=\"\", \"\", '15'!$F$18)","v":""},"",{"$f":"IF('15'!$H$18=\"\", \"\", '15'!$H$18)","v":""},{"$f":"IF('15'!$D$22=\"\", \"\", '15'!$D$22)","v":""},"",{"$f":"IF('15'!$F$22=\"\", \"\", '15'!$F$22)","v":""},"",{"$f":"IF('15'!$H$22=\"\", \"\", '15'!$H$22)","v":""},{"$f":"IF('15'!$D$26=\"\", \"\", '15'!$D$26)","v":""},"",{"$f":"IF('15'!$F$26=\"\", \"\", '15'!$F$26)","v":""},"",{"$f":"IF('15'!$H$26=\"\", \"\", '15'!$H$26)","v":""},{"$f":"IF('15'!$D$30=\"\", \"\", '15'!$D$30)","v":""},"",{"$f":"IF('15'!$F$30=\"\", \"\", '15'!$F$30)","v":""},"",{"$f":"IF('15'!$H$30=\"\", \"\", '15'!$H$30)","v":""},{"$f":"IF('15'!$D$34=\"\", \"\", '15'!$D$34)","v":""},"",{"$f":"IF('15'!$F$34=\"\", \"\", '15'!$F$34)","v":""},"",{"$f":"IF('15'!$H$34=\"\", \"\", '15'!$H$34)","v":""}]
[{"$nulls":32},"",null,""]
[null,16,1,{"$f":"IF('16'!$B$11=\"\", \"\", '16'!$B$11)","v":""},null,null,5,{"$f":"IF('16'!$B$15=\"\", \"\", '16'!$B$15)","v":""},null,null,9,{"$f":"IF('16'!$B$19=\"\", \"\", '16'!$B$19)","v":""},null,null,13,{"$f":"IF('16'!$B$23=\"\", \"\", '16'!$B$23)","v":""},null,null,17,{"$f":"IF('16'!$B$27=\"\", \"\", '16'!$B$27)","v":""},null,null,21,{"$f":"IF('16'!$B$31=\"\", \"\", '16'!$B$31)","v":""},{"$nulls":7},{"$f":"IF('16'!$D$11=\"\", \"\", '16'!$D$11)","v":""},{"$f":"IF(AF109=\"\", \"\", \"/\")","v":""},{"$f":"IF('16'!$F$11=\"\", \"\", '16'!$F$11)","v":""},{"$f":"IF(AJ109=\"\", \"\", \"P\")","v":""},{"$f":"IF('16'!$H$11=\"\", \"\", '16'!$H$11)","v":""},{"$f":"IF('16'!$D$15=\"\", \"\", '16'!$D$15)","v":""},{"$f":"IF(AK109=\"\", \"\", \"/\")","v":""},{"$f":"IF('16'!$F$15=\"\", \"\", '16'!$F$15)","v":""},{"$f":"IF(AO109=\"\", \"\", \"P\")","v":""},{"$f":"IF('16'!$H$15=\"\", \"\", '16'!$H$15)","v":""},{"$f":"IF('16'!$D$19=\"\", \"\", '16'!$D$19)","v":""},{"$f":"IF(AP109=\"\", \"\", \"/\")","v":""},{"$f":"IF('16'!$F$19=\"\", \"\", '16'!$F$19)","v":""},{"$f":"IF(AT109=\"\", \"\", \"P\")","v":""},{"$f":"IF('16'!$H$19=\"\", \"\", '16'!$H$19)","v":""},{"$f":"IF('16'!$D$23=\"\", \"\", '16'!$D$23)","v":""},{"$f":"IF(AU109=\"\", \"\", \"/\")","v":""},{"$f":"IF('16'!$F$23=\"\", \"\", '16'!$F$23)","v":""},{"$f":"IF(AY109=\"\", \"\", \"P\")","v":""},{"$f":"IF('16'!$H$23=\"\", \"\", '16'!$H$23)","v":""},{"$f":"IF('16'!$D$27=\"\", \"\", '16'!$D$27)","v":""},{"$f":"IF(AZ109=\"\", \"\", \"/\")","v":""},{"$f":"IF('16'!$F$27=\"\", \"\", '16'!$F$27)","v":""},{"$f":"IF(BD109=\"\", \"\", \"P\")","v":""},{"$f":"IF('16'!$H$27=\"\", \"\", '16'!$H$27)","v":""},{"$f":"IF('16'!$D$31=\"\", \"\", '16'!$D$31)","v":""},{"$f":"IF(BE109=\"\", \"\", \"/\")","v":""},{"$f":"IF('16'!$F$31=\"\", \"\", '16'!$F$31)","v":""},{"$f":"IF(BI109=\"\", \"\", \"P\")","v":""},{"$f":"IF('16'!$H$31=\"\", \"\", '16'!$H$31)","v":""}]
[null,null,2,{"$f":"IF('16'!$B$12=\"\", \"\", '16'!$B$12)","v":""},null,null,6,{"$f":"IF('16'!$B$16=\"\", \"\", '16'!$B$16)","v":""},null,null,10,{"$f":"IF('16'!$B$20=\"\", \"\", '16'!$B$20)","v":""},null,null,14,{"$f":"IF('16'!$B$24=\"\", \"\", '16'!$B$24)","v":""},null,null,18,{"$f":"IF('16'!$B$28=\"\", \"\", '16'!$B$28)","v":""},null,null,22,{"$f":"IF('16'!$B$32=\"\", \"\", '16'!$B$32)","v":""},{"$nulls":7},{"$f":"IF('16'!$D$12=\"\", \"\", '16'!$D$12)","v":""},{"$f":"IF(AF110=\"\", \"\", \"/\")","v":""},{"$f":"IF('16'!$F$12=\"\", \"\", '16'!$F$12)","v":""},{"$f":"IF(AJ110=\"\", \"\", \"P\")","v":""},{"$f":"IF('16'!$H$12=\"\", \"\", '16'!$H$12)","v":""},{"$f":"IF('16'!$D$16=\"\", \"\", '16'!$D$16)","v":""},{"$f":"IF(AK110=\"\", \"\", \"/\")","v":""},{"$f":"IF('16'!$F$16=\"\", \"\", '16'!$F$16)","v":""},{"$f":"IF(AO110=\"\", \"\", \"P\")","v":""},{"$f":"IF('16'!$H$16=\"\", \"\", '16'!$H$16)","v":""},{"$f":"IF('16'!$D$20=\"\", \"\", '16'!$D$20)","v":""},{"$f":"IF(AP110=\"\", \"\", \"/\")","v":""},{"$f":"IF('16'!$F$20=\"\", \"\", '16'!$F$20)","v":""},{"$f":"IF(AT110=\"\", \"\", \"P\")","v":""},{"$f":"IF('16'!$H$20=\"\", \"\", '16'!$H$20)","v":""},{"$f":"IF('16'!$D$24=\"\", \"\", '16'!$D$24)","v":""},{"$f":"IF(AU110=\"\", \"\", \"/\")","v":""},{"$f":"IF('16'!$F$24=\"\", \"\", '16'!$F$24)","v":""},{"$f":"IF(AY110=\"\", \"\", \"P\")","v":""},{"$f":"IF('16'!$H$24=\"\", \"\", '16'!$H$24)","v":""},{"$f":"IF('16'!$D$28=\"\", \"\", '16'!$D$28)","v":""},{"$f":"IF(AZ110=\"\", \"\", \"/\")","v":""},{"$f":"IF('16'!$F$28=\"\", \"\", '16'!$F$28)","v":""},{"$f":"IF(BD110=\"\", \"\", \"P\")","v":""},{"$f":"IF('16'!$H$28=\"\", \"\", '16'!$H$28)","v":""},{"$f":"IF('16'!$D$32=\"\", \"\", '16'!$D$32)","v":""},{"$f":"IF(BE110=\"\", \"\", \"/\")","v":""},{"$f":"IF('16'!$F$32=\"\", \"\", '16'!$F$32)","v":""},{"$f":"IF(BI110=\"\", \"\", \"P\")","v":""},{"$f":"IF('16'!$H$32=\"\", \"\", '16'!$H$32)","v":""}]
[null,null,3,{"$f":"IF('16'!$B$13=\"\", \"\", '16'!$B$13)","v":""},null,null,7,{"$f":"IF('16'!$B$17=\"\", \"\", '16'!$B$17)","v":""},null,null,11,{"$f":"IF('16'!$B$21=\"\", \"\", '16'!$B$21)","v":""},null,null,15,{"$f":"IF('16'!$B$25=\"\", \"\", '16'!$B$25)","v":""},null,null,19,{"$f":"IF('16'!$B$29=\"\", \"\", '16'!$B$29)","v":""},null,null,23,{"$f":"IF('16'!$B$33=\"\", \"\", '16'!$B$33)","v":""},{"$nulls":7},{"$f":"IF('16'!$D$13=\"\", \"\", '16'!$D$13)","v":""},"",{"$f":"IF('16'!$F$13=\"\", \"\", '16'!$F$13)","v":""},"",{"$f":"IF('16'!$H$13=\"\", \"\", '16'!$H$13)","v":""},{"$f":"IF('16'!$D$17=\"\", \"\", '16'!$D$17)","v":""},"",{"$f":"IF('16'!$F$17=\"\", \"\", '16'!$F$17)","v":""},"",{"$f":"IF('16'!$H$17=\"\", \"\", '16'!$H$17)","v":""},{"$f":"IF('16'!$D$21=\"\", \"\", '16'!$D$21)","v":""},"",{"$f":"IF('16'!$F$21=\"\", \"\", '16'!$F$21)","v":""},"",{"$f":"IF('16'!$H$21=\"\", \"\", '16'!$H$21)","v":""},{"$f":"IF('16'!$D$25=\"\", \"\", '16'!$D$25)","v":""},"",{"$f":"IF('16'!$F$25=\"\", \"\", '16'!$F$25)","v":""},"",{"$f":"IF('16'!$H$25=\"\", \"\", '16'!$H$25)","v":""},{"$f":"IF('16'!$D$29=\"\", \"\", '16'!$D$29)","v":""},"",{"$f":"IF('16'!$F$29=\"\", \"\", '16'!$F$29)","v":""},"",{"$f":"IF('16'!$H$29=\"\", \"\", '16'!$H$29)","v":""},{"$f":"IF('16'!$D$33=\"\", \"\", '16'!$D$33)","v":""},"",{"$f":"IF('16'!$F$33=\"\", \"\", '16'!$F$33)","v":""},"",{"$f":"IF('16'!$H$33=\"\", \"\", '16'!$H$33)","v":""}]
[null,null,4,{"$f":"IF('16'!$B$14=\"\", \"\", '16'!$B$14)","v":""},null,null,8,{"$f":"IF('16'!$B$18=\"\", \"\", '16'!$B$18)","v":""},null,null,12,{"$f":"IF('16'!$B$22=\"\", \"\", '16'!$B$22)","v":""},null,null,16,{"$f":"IF('16'!$B$26=\"\", \"\", '16'!$B$26)","v":""},null,null,20,{"$f":"IF('16'!$B$30=\"\", \"\", '16'!$B$30)","v":""},null,null,24,{"$f":"IF('16'!$B$34=\"\", \"\", '16'!$B$34)","v":""},{"$nulls":7},{"$f":"IF('16'!$D$14=\"\", \"\", '16'!$D$14)","v":""},"",{"$f":"IF('16'!$F$14=\"\", \"\", '16'!$F$14)","v":""},"",{"$f":"IF('16'!$H$14=\"\", \"\", '16'!$H$14)","v":""},{"$f":"IF('16'!$D$18=\"\", \"\", '16'!$D$18)","v":""},"",{"$f":"IF('16'!$F$18=\"\", \"\", '16'!$F$18)","v":""},"",{"$f":"IF('16'!$H$18=\"\", \"\", '16'!$H$18)","v":""},{"$f":"IF('16'!$D$22=\"\", \"\", '16'!$D$22)","v":""},"",{"$f":"IF('16'!$F$22=\"\", \"\", '16'!$F$22)","v":""},"",{"$f":"IF('16'!$H$22=\"\", \"\", '16'!$H$22)","v":""},{"$f":"IF('16'!$D$26=\"\", \"\", '16'!$D$26)","v":""},"",{"$f":"IF('16'!$F$26=\"\", \"\", '16'!$F$26)","v":""},"",{"$f":"IF('16'!$H$26=\"\", \"\", '16'!$H$26)","v":""},{"$f":"IF('16'!$D$30=\"\", \"\", '16'!$D$30)","v":""},"",{"$f":"IF('16'!$F$30=\"\", \"\", '16'!$F$30)","v":""},"",{"$f":"IF('16'!$H$30=\"\", \"\", '16'!$H$30)","v":""},{"$f":"IF('16'!$D$34=\"\", \"\", '16'!$D$34)","v":""},"",{"$f":"IF('16'!$F$34=\"\", \"\", '16'!$F$34)","v":""},"",{"$f":"IF('16'!$H$34=\"\", \"\", '16'!$H$34)","v":""}]
[{"$nulls":32},"",null,""]
[{"$f":"info!$B$2&\"        \"&info!$B$3&\", \"&info!$B$4","v":"Jesse Hutton        November, 2014"},17,1,{"$f":"IF('17'!$B$11=\"\", \"\", '17'!$B$11)","v":""},null,null,5,{"$f":"IF('17'!$B$15=\"\", \"\", '17'!$B$15)","v":""},null,null,9,{"$f":"IF('17'!$B$19=\"\", \"\", '17'!$B$19)","v":""},null,null,13,{"$f":"IF('17'!$B$23=\"\", \"\", '17'!$B$23)","v":""},null,null,17,{"$f":"IF('17'!$B$27=\"\", \"\", '17'!$B$27)","v":""},null,null,21,{"$f":"IF('17'!$B$31=\"\", \"\", '17'!$B$31)","v":""},{"$nulls":7},{"$f":"IF('17'!$D$11=\"\", \"\", '17'!$D$11)","v":""},{"$f":"IF(AF114=\"\", \"\", \"/\")","v":""},{"$f":"IF('17'!$F$11=\"\", \"\", '17'!$F$11)","v":""},{"$f":"IF(AJ114=\"\", \"\", \"P\")","v":""},{"$f":"IF('17'!$H$11=\"\", \"\", '17'!$H$11)","v":""},{"$f":"IF('17'!$D$15=\"\", \"\", '17'!$D$15)","v":""},{"$f":"IF(AK114=\"\", \"\", \"/\")","v":""},{"$f":"IF('17'!$F$15=\"\", \"\", '17'!$F$15)","v":""},{"$f":"IF(AO114=\"\", \"\", \"P\")","v":""},{"$f":"IF('17'!$H$15=\"\", \"\", '17'!$H$15)","v":""},{"$f":"IF('17'!$D$19=\"\", \"\", '17'!$D$19)","v":""},{"$f":"IF(AP114=\"\", \"\", \"/\")","v":""},{"$f":"IF('17'!$F$19=\"\", \"\", '17'!$F$19)","v":""},{"$f":"IF(AT114=\"\", \"\", \"P\")","v":""},{"$f":"IF('17'!$H$19=\"\", \"\", '17'!$H$19)","v":""},{"$f":"IF('17'!$D$23=\"\", \"\", '17'!$D$23)","v":""},{"$f":"IF(AU114=\"\", \"\", \"/\")","v":""},{"$f":"IF('17'!$F$23=\"\", \"\", '17'!$F$23)","v":""},{"$f":"IF(AY114=\"\", \"\", \"P\")","v":""},{"$f":"IF('17'!$H$23=\"\", \"\", '17'!$H$23)","v":""},{"$f":"IF('17'!$D$27=\"\", \"\", '17'!$D$27)","v":""},{"$f":"IF(AZ114=\"\", \"\", \"/\")","v":""},{"$f":"IF('17'!$F$27=\"\", \"\", '17'!$F$27)","v":""},{"$f":"IF(BD114=\"\", \"\", \"P\")","v":""},{"$f":"IF('17'!$H$27=\"\", \"\", '17'!$H$27)","v":""},{"$f":"IF('17'!$D$31=\"\", \"\", '17'!$D$31)","v":""},{"$f":"IF(BE114=\"\", \"\", \"/\")","v":""},{"$f":"IF('17'!$F$31=\"\", \"\", '17'!$F$31)","v":""},{"$f":"IF(BI114=\"\", \"\", \"P\")","v":""},{"$f":"IF('17'!$H$31=\"\", \"\", '17'!$H$31)","v":""}]
[null,null,2,{"$f":"IF('17'!$B$12=\"\", \"\", '17'!$B$12)","v":""},null,null,6,{"$f":"IF('17'!$B$16=\"\", \"\", '17'!$B$16)","v":""},null,null,10,{"$f":"IF('17'!$B$20=\"\", \"\", '17'!$B$20)","v":""},null,null,14,{"$f":"IF('17'!$B$24=\"\", \"\", '17'!$B$24)","v":""},null,null,18,{"$f":"IF('17'!$B$28=\"\", \"\", '17'!$B$28)","v":""},null,null,22,{"$f":"IF('17'!$B$32=\"\", \"\", '17'!$B$32)","v":""},{"$nulls":7},{"$f":"IF('17'!$D$12=\"\", \"\", '17'!$D$12)","v":""},{"$f":"IF(AF115=\"\", \"\", \"/\")","v":""},{"$f":"IF('17'!$F$12=\"\", \"\", '17'!$F$12)","v":""},{"$f":"IF(AJ115=\"\", \"\", \"P\")","v":""},{"$f":"IF('17'!$H$12=\"\", \"\", '17'!$H$12)","v":""},{"$f":"IF('17'!$D$16=\"\", \"\", '17'!$D$16)","v":""},{"$f":"IF(AK115=\"\", \"\", \"/\")","v":""},{"$f":"IF('17'!$F$16=\"\", \"\", '17'!$F$16)","v":""},{"$f":"IF(AO115=\"\", \"\", \"P\")","v":""},{"$f":"IF('17'!$H$16=\"\", \"\", '17'!$H$16)","v":""},{"$f":"IF('17'!$D$20=\"\", \"\", '17'!$D$20)","v":""},{"$f":"IF(AP115=\"\", \"\", \"/\")","v":""},{"$f":"IF('17'!$F$20=\"\", \"\", '17'!$F$20)","v":""},{"$f":"IF(AT115=\"\", \"\", \"P\")","v":""},{"$f":"IF('17'!$H$20=\"\", \"\", '17'!$H$20)","v":""},{"$f":"IF('17'!$D$24=\"\", \"\", '17'!$D$24)","v":""},{"$f":"IF(AU115=\"\", \"\", \"/\")","v":""},{"$f":"IF('17'!$F$24=\"\", \"\", '17'!$F$24)","v":""},{"$f":"IF(AY115=\"\", \"\", \"P\")","v":""},{"$f":"IF('17'!$H$24=\"\", \"\", '17'!$H$24)","v":""},{"$f":"IF('17'!$D$28=\"\", \"\", '17'!$D$28)","v":""},{"$f":"IF(AZ115=\"\", \"\", \"/\")","v":""},{"$f":"IF('17'!$F$28=\"\", \"\", '17'!$F$28)","v":""},{"$f":"IF(BD115=\"\", \"\", \"P\")","v":""},{"$f":"IF('17'!$H$28=\"\", \"\", '17'!$H$28)","v":""},{"$f":"IF('17'!$D$32=\"\", \"\", '17'!$D$32)","v":""},{"$f":"IF(BE115=\"\", \"\", \"/\")","v":""},{"$f":"IF('17'!$F$32=\"\", \"\", '17'!$F$32)","v":""},{"$f":"IF(BI115=\"\", \"\", \"P\")","v":""},{"$f":"IF('17'!$H$32=\"\", \"\", '17'!$H$32)","v":""}]
[null,null,3,{"$f":"IF('17'!$B$13=\"\", \"\", '17'!$B$13)","v":""},null,null,7,{"$f":"IF('17'!$B$17=\"\", \"\", '17'!$B$17)","v":""},null,null,11,{"$f":"IF('17'!$B$21=\"\", \"\", '17'!$B$21)","v":""},null,null,15,{"$f":"IF('17'!$B$25=\"\", \"\", '17'!$B$25)","v":""},null,null,19,{"$f":"IF('17'!$B$29=\"\", \"\", '17'!$B$29)","v":""},null,null,23,{"$f":"IF('17'!$B$33=\"\", \"\", '17'!$B$33)","v":""},{"$nulls":7},{"$f":"IF('17'!$D$13=\"\", \"\", '17'!$D$13)","v":""},"",{"$f":"IF('17'!$F$13=\"\", \"\", '17'!$F$13)","v":""},"",{"$f":"IF('17'!$H$13=\"\", \"\", '17'!$H$13)","v":""},{"$f":"IF('17'!$D$17=\"\", \"\", '17'!$D$17)","v":""},"",{"$f":"IF('17'!$F$17=\"\", \"\", '17'!$F$17)","v":""},"",{"$f":"IF('17'!$H$17=\"\", \"\", '17'!$H$17)","v":""},{"$f":"IF('17'!$D$21=\"\", \"\", '17'!$D$21)","v":""},"",{"$f":"IF('17'!$F$21=\"\", \"\", '17'!$F$21)","v":""},"",{"$f":"IF('17'!$H$21=\"\", \"\", '17'!$H$21)","v":""},{"$f":"IF('17'!$D$25=\"\", \"\", '17'!$D$25)","v":""},"",{"$f":"IF('17'!$F$25=\"\", \"\", '17'!$F$25)","v":""},"",{"$f":"IF('17'!$H$25=\"\", \"\", '17'!$H$25)","v":""},{"$f":"IF('17'!$D$29=\"\", \"\", '17'!$D$29)","v":""},"",{"$f":"IF('17'!$F$29=\"\", \"\", '17'!$F$29)","v":""},"",{"$f":"IF('17'!$H$29=\"\", \"\", '17'!$H$29)","v":""},{"$f":"IF('17'!$D$33=\"\", \"\", '17'!$D$33)","v":""},"",{"$f":"IF('17'!$F$33=\"\", \"\", '17'!$F$33)","v":""},"",{"$f":"IF('17'!$H$33=\"\", \"\", '17'!$H$33)","v":""}]
[null,null,4,{"$f":"IF('17'!$B$14=\"\", \"\", '17'!$B$14)","v":""},null,null,8,{"$f":"IF('17'!$B$18=\"\", \"\", '17'!$B$18)","v":""},null,null,12,{"$f":"IF('17'!$B$22=\"\", \"\", '17'!$B$22)","v":""},null,null,16,{"$f":"IF('17'!$B$26=\"\", \"\", '17'!$B$26)","v":""},null,null,20,{"$f":"IF('17'!$B$30=\"\", \"\", '17'!$B$30)","v":""},null,null,24,{"$f":"IF('17'!$B$34=\"\", \"\", '17'!$B$34)","v":""},{"$nulls":7},{"$f":"IF('17'!$D$14=\"\", \"\", '17'!$D$14)","v":""},"",{"$f":"IF('17'!$F$14=\"\", \"\", '17'!$F$14)","v":""},"",{"$f":"IF('17'!$H$14=\"\", \"\", '17'!$H$14)","v":""},{"$f":"IF('17'!$D$18=\"\", \"\", '17'!$D$18)","v":""},"",{"$f":"IF('17'!$F$18=\"\", \"\", '17'!$F$18)","v":""},"",{"$f":"IF('17'!$H$18=\"\", \"\", '17'!$H$18)","v":""},{"$f":"IF('17'!$D$22=\"\", \"\", '17'!$D$22)","v":""},"",{"$f":"IF('17'!$F$22=\"\", \"\", '17'!$F$22)","v":""},"",{"$f":"IF('17'!$H$22=\"\", \"\", '17'!$H$22)","v":""},{"$f":"IF('17'!$D$26=\"\", \"\", '17'!$D$26)","v":""},"",{"$f":"IF('17'!$F$26=\"\", \"\", '17'!$F$26)","v":""},"",{"$f":"IF('17'!$H$26=\"\", \"\", '17'!$H$26)","v":""},{"$f":"IF('17'!$D$30=\"\", \"\", '17'!$D$30)","v":""},"",{"$f":"IF('17'!$F$30=\"\", \"\", '17'!$F$30)","v":""},"",{"$f":"IF('17'!$H$30=\"\", \"\", '17'!$H$30)","v":""},{"$f":"IF('17'!$D$34=\"\", \"\", '17'!$D$34)","v":""},"",{"$f":"IF('17'!$F$34=\"\", \"\", '17'!$F$34)","v":""},"",{"$f":"IF('17'!$H$34=\"\", \"\", '17'!$H$34)","v":""}]
[{"$nulls":32},"",null,""]
[null,18,1,{"$f":"IF('18'!$B$11=\"\", \"\", '18'!$B$11)","v":""},null,null,5,{"$f":"IF('18'!$B$15=\"\", \"\", '18'!$B$15)","v":""},null,null,9,{"$f":"IF('18'!$B$19=\"\", \"\", '18'!$B$19)","v":""},null,null,13,{"$f":"IF('18'!$B$23=\"\", \"\", '18'!$B$23)","v":""},null,null,17,{"$f":"IF('18'!$B$27=\"\", \"\", '18'!$B$27)","v":""},null,null,21,{"$f":"IF('18'!$B$31=\"\", \"\", '18'!$B$31)","v":""},{"$nulls":7},{"$f":"IF('18'!$D$11=\"\", \"\", '18'!$D$11)","v":""},{"$f":"IF(AF119=\"\", \"\", \"/\")","v":""},{"$f":"IF('18'!$F$11=\"\", \"\", '18'!$F$11)","v":""},{"$f":"IF(AJ119=\"\", \"\", \"P\")","v":""},{"$f":"IF('18'!$H$11=\"\", \"\", '18'!$H$11)","v":""},{"$f":"IF('18'!$D$15=\"\", \"\", '18'!$D$15)","v":""},{"$f":"IF(AK119=\"\", \"\", \"/\")","v":""},{"$f":"IF('18'!$F$15=\"\", \"\", '18'!$F$15)","v":""},{"$f":"IF(AO119=\"\", \"\", \"P\")","v":""},{"$f":"IF('18'!$H$15=\"\", \"\", '18'!$H$15)","v":""},{"$f":"IF('18'!$D$19=\"\", \"\", '18'!$D$19)","v":""},{"$f":"IF(AP119=\"\", \"\", \"/\")","v":""},{"$f":"IF('18'!$F$19=\"\", \"\", '18'!$F$19)","v":""},{"$f":"IF(AT119=\"\", \"\", \"P\")","v":""},{"$f":"IF('18'!$H$19=\"\", \"\", '18'!$H$19)","v":""},{"$f":"IF('18'!$D$23=\"\", \"\", '18'!$D$23)","v":""},{"$f":"IF(AU119=\"\", \"\", \"/\")","v":""},{"$f":"IF('18'!$F$23=\"\", \"\", '18'!$F$23)","v":""},{"$f":"IF(AY119=\"\", \"\", \"P\")","v":""},{"$f":"IF('18'!$H$23=\"\", \"\", '18'!$H$23)","v":""},{"$f":"IF('18'!$D$27=\"\", \"\", '18'!$D$27)","v":""},{"$f":"IF(AZ119=\"\", \"\", \"/\")","v":""},{"$f":"IF('18'!$F$27=\"\", \"\", '18'!$F$27)","v":""},{"$f":"IF(BD119=\"\", \"\", \"P\")","v":""},{"$f":"IF('18'!$H$27=\"\", \"\", '18'!$H$27)","v":""},{"$f":"IF('18'!$D$31=\"\", \"\", '18'!$D$31)","v":""},{"$f":"IF(BE119=\"\", \"\", \"/\")","v":""},{"$f":"IF('18'!$F$31=\"\", \"\", '18'!$F$31)","v":""},{"$f":"IF(BI119=\"\", \"\", \"P\")","v":""},{"$f":"IF('18'!$H$31=\"\", \"\", '18'!$H$31)","v":""}]
[null,null,2,{"$f":"IF('18'!$B$12=\"\", \"\", '18'!$B$12)","v":""},null,null,6,{"$f":"IF('18'!$B$16=\"\", \"\", '18'!$B$16)","v":""},null,null,10,{"$f":"IF('18'!$B$20=\"\", \"\", '18'!$B$20)","v":""},null,null,14,{"$f":"IF('18'!$B$24=\"\", \"\", '18'!$B$24)","v":""},null,null,18,{"$f":"IF('18'!$B$28=\"\", \"\", '18'!$B$28)","v":""},null,null,22,{"$f":"IF('18'!$B$32=\"\", \"\", '18'!$B$32)","v":""},{"$nulls":7},{"$f":"IF('18'!$D$12=\"\", \"\", '18'!$D$12)","v":""},{"$f":"IF(AF120=\"\", \"\", \"/\")","v":""},{"$f":"IF('18'!$F$12=\"\", \"\", '18'!$F$12)","v":""},{"$f":"IF(AJ120=\"\", \"\", \"P\")","v":""},{"$f":"IF('18'!$H$12=\"\", \"\", '18'!$H$12)","v":""},{"$f":"IF('18'!$D$16=\"\", \"\", '18'!$D$16)","v":""},{"$f":"IF(AK120=\"\", \"\", \"/\")","v":""},{"$f":"IF('18'!$F$16=\"\", \"\", '18'!$F$16)","v":""},{"$f":"IF(AO120=\"\", \"\", \"P\")","v":""},{"$f":"IF('18'!$H$16=\"\", \"\", '18'!$H$16)","v":""},{"$f":"IF('18'!$D$20=\"\", \"\", '18'!$D$20)","v":""},{"$f":"IF(AP120=\"\", \"\", \"/\")","v":""},{"$f":"IF('18'!$F$20=\"\", \"\", '18'!$F$20)","v":""},{"$f":"IF(AT120=\"\", \"\", \"P\")","v":""},{"$f":"IF('18'!$H$20=\"\", \"\", '18'!$H$20)","v":""},{"$f":"IF('18'!$D$24=\"\", \"\", '18'!$D$24)","v":""},{"$f":"IF(AU120=\"\", \"\", \"/\")","v":""},{"$f":"IF('18'!$F$24=\"\", \"\", '18'!$F$24)","v":""},{"$f":"IF(AY120=\"\", \"\", \"P\")","v":""},{"$f":"IF('18'!$H$24=\"\", \"\", '18'!$H$24)","v":""},{"$f":"IF('18'!$D$28=\"\", \"\", '18'!$D$28)","v":""},{"$f":"IF(AZ120=\"\", \"\", \"/\")","v":""},{"$f":"IF('18'!$F$28=\"\", \"\", '18'!$F$28)","v":""},{"$f":"IF(BD120=\"\", \"\", \"P\")","v":""},{"$f":"IF('18'!$H$28=\"\", \"\", '18'!$H$28)","v":""},{"$f":"IF('18'!$D$32=\"\", \"\", '18'!$D$32)","v":""},{"$f":"IF(BE120=\"\", \"\", \"/\")","v":""},{"$f":"IF('18'!$F$32=\"\", \"\", '18'!$F$32)","v":""},{"$f":"IF(BI120=\"\", \"\", \"P\")","v":""},{"$f":"IF('18'!$H$32=\"\", \"\", '18'!$H$32)","v":""}]
[null,null,3,{"$f":"IF('18'!$B$13=\"\", \"\", '18'!$B$13)","v":""},null,null,7,{"$f":"IF('18'!$B$17=\"\", \"\", '18'!$B$17)","v":""},null,null,11,{"$f":"IF('18'!$B$21=\"\", \"\", '18'!$B$21)","v":""},null,null,15,{"$f":"IF('18'!$B$25=\"\", \"\", '18'!$B$25)","v":""},null,null,19,{"$f":"IF('18'!$B$29=\"\", \"\", '18'!$B$29)","v":""},null,null,23,{"$f":"IF('18'!$B$33=\"\", \"\", '18'!$B$33)","v":""},{"$nulls":7},{"$f":"IF('18'!$D$13=\"\", \"\", '18'!$D$13)","v":""},"",{"$f":"IF('18'!$F$13=\"\", \"\", '18'!$F$13)","v":""},"",{"$f":"IF('18'!$H$13=\"\", \"\", '18'!$H$13)","v":""},{"$f":"IF('18'!$D$17=\"\", \"\", '18'!$D$17)","v":""},"",{"$f":"IF('18'!$F$17=\"\", \"\", '18'!$F$17)","v":""},"",{"$f":"IF('18'!$H$17=\"\", \"\", '18'!$H$17)","v":""},{"$f":"IF('18'!$D$21=\"\", \"\", '18'!$D$21)","v":""},"",{"$f":"IF('18'!$F$21=\"\", \"\", '18'!$F$21)","v":""},"",{"$f":"IF('18'!$H$21=\"\", \"\", '18'!$H$21)","v":""},{"$f":"IF('18'!$D$25=\"\", \"\", '18'!$D$25)","v":""},"",{"$f":"IF('18'!$F$25=\"\", \"\", '18'!$F$25)","v":""},"",{"$f":"IF('18'!$H$25=\"\", \"\", '18'!$H$25)","v":""},{"$f":"IF('18'!$D$29=\"\", \"\", '18'!$D$29)","v":""},"",{"$f":"IF('18'!$F$29=\"\", \"\", '18'!$F$29)","v":""},"",{"$f":"IF('18'!$H$29=\"\", \"\", '18'!$H$29)","v":""},{"$f":"IF('18'!$D$33=\"\", \"\", '18'!$D$33)","v":""},"",{"$f":"IF('18'!$F$33=\"\", \"\", '18'!$F$33)","v":""},"",{"$f":"IF('18'!$H$33=\"\", \"\", '18'!$H$33)","v":""}]
[null,null,4,{"$f":"IF('18'!$B$14=\"\", \"\", '18'!$B$14)","v":""},null,null,8,{"$f":"IF('18'!$B$18=\"\", \"\", '18'!$B$18)","v":""},null,null,12,{"$f":"IF('18'!$B$22=\"\", \"\", '18'!$B$22)","v":""},null,null,16,{"$f":"IF('18'!$B$26=\"\", \"\", '18'!$B$26)","v":""},null,null,20,{"$f":"IF('18'!$B$30=\"\", \"\", '18'!$B$30)","v":""},null,null,24,{"$f":"IF('18'!$B$34=\"\", \"\", '18'!$B$34)","v":""},{"$nulls":7},{"$f":"IF('18'!$D$14=\"\", \"\", '18'!$D$14)","v":""},"",{"$f":"IF('18'!$F$14=\"\", \"\", '18'!$F$14)","v":""},"",{"$f":"IF('18'!$H$14=\"\", \"\", '18'!$H$14)","v":""},{"$f":"IF('18'!$D$18=\"\", \"\", '18'!$D$18)","v":""},"",{"$f":"IF('18'!$F$18=\"\", \"\", '18'!$F$18)","v":""},"",{"$f":"IF('18'!$H$18=\"\", \"\", '18'!$H$18)","v":""},{"$f":"IF('18'!$D$22=\"\", \"\", '18'!$D$22)","v":""},"",{"$f":"IF('18'!$F$22=\"\", \"\", '18'!$F$22)","v":""},"",{"$f":"IF('18'!$H$22=\"\", \"\", '18'!$H$22)","v":""},{"$f":"IF('18'!$D$26=\"\", \"\", '18'!$D$26)","v":""},"",{"$f":"IF('18'!$F$26=\"\", \"\", '18'!$F$26)","v":""},"",{"$f":"IF('18'!$H$26=\"\", \"\", '18'!$H$26)","v":""},{"$f":"IF('18'!$D$30=\"\", \"\", '18'!$D$30)","v":""},"",{"$f":"IF('18'!$F$30=\"\", \"\", '18'!$F$30)","v":""},"",{"$f":"IF('18'!$H$30=\"\", \"\", '18'!$H$30)","v":""},{"$f":"IF('18'!$D$34=\"\", \"\", '18'!$D$34)","v":""},"",{"$f":"IF('18'!$F$34=\"\", \"\", '18'!$F$34)","v":""},"",{"$f":"IF('18'!$H$34=\"\", \"\", '18'!$H$34)","v":""}]
[{"$nulls":32},"",null,""]
[null,19,1,{"$f":"IF('19'!$B$11=\"\", \"\", '19'!$B$11)","v":""},null,null,5,{"$f":"IF('19'!$B$15=\"\", \"\", '19'!$B$15)","v":""},null,null,9,{"$f":"IF('19'!$B$19=\"\", \"\", '19'!$B$19)","v":""},null,null,13,{"$f":"IF('19'!$B$23=\"\", \"\", '19'!$B$23)","v":""},null,null,17,{"$f":"IF('19'!$B$27=\"\", \"\", '19'!$B$27)","v":""},null,null,21,{"$f":"IF('19'!$B$31=\"\", \"\", '19'!$B$31)","v":""},{"$nulls":7},{"$f":"IF('19'!$D$11=\"\", \"\", '19'!$D$11)","v":""},{"$f":"IF(AF124=\"\", \"\", \"/\")","v":""},{"$f":"IF('19'!$F$11=\"\", \"\", '19'!$F$11)","v":""},{"$f":"IF(AJ124=\"\", \"\", \"P\")","v":""},{"$f":"IF('19'!$H$11=\"\", \"\", '19'!$H$11)","v":""},{"$f":"IF('19'!$D$15=\"\", \"\", '19'!$D$15)","v":""},{"$f":"IF(AK124=\"\", \"\", \"/\")","v":""},{"$f":"IF('19'!$F$15=\"\", \"\", '19'!$F$15)","v":""},{"$f":"IF(AO124=\"\", \"\", \"P\")","v":""},{"$f":"IF('19'!$H$15=\"\", \"\", '19'!$H$15)","v":""},{"$f":"IF('19'!$D$19=\"\", \"\", '19'!$D$19)","v":""},{"$f":"IF(AP124=\"\", \"\", \"/\")","v":""},{"$f":"IF('19'!$F$19=\"\", \"\", '19'!$F$19)","v":""},{"$f":"IF(AT124=\"\", \"\", \"P\")","v":""},{"$f":"IF('19'!$H$19=\"\", \"\", '19'!$H$19)","v":""},{"$f":"IF('19'!$D$23=\"\", \"\", '19'!$D$23)","v":""},{"$f":"IF(AU124=\"\", \"\", \"/\")","v":""},{"$f":"IF('19'!$F$23=\"\", \"\", '19'!$F$23)","v":""},{"$f":"IF(AY124=\"\", \"\", \"P\")","v":""},{"$f":"IF('19'!$H$23=\"\", \"\", '19'!$H$23)","v":""},{"$f":"IF('19'!$D$27=\"\", \"\", '19'!$D$27)","v":""},{"$f":"IF(AZ124=\"\", \"\", \"/\")","v":""},{"$f":"IF('19'!$F$27=\"\", \"\", '19'!$F$27)","v":""},{"$f":"IF(BD124=\"\", \"\", \"P\")","v":""},{"$f":"IF('19'!$H$27=\"\", \"\", '19'!$H$27)","v":""},{"$f":"IF('19'!$D$31=\"\", \"\", '19'!$D$31)","v":""},{"$f":"IF(BE124=\"\", \"\", \"/\")","v":""},{"$f":"IF('19'!$F$31=\"\", \"\", '19'!$F$31)","v":""},{"$f":"IF(BI124=\"\", \"\", \"P\")","v":""},{"$f":"IF('19'!$H$31=\"\", \"\", '19'!$H$31)","v":""}]
[null,null,2,{"$f":"IF('19'!$B$12=\"\", \"\", '19'!$B$12)","v":""},null,null,6,{"$f":"IF('19'!$B$16=\"\", \"\", '19'!$B$16)","v":""},null,null,10,{"$f":"IF('19'!$B$20=\"\", \"\", '19'!$B$20)","v":""},null,null,14,{"$f":"IF('19'!$B$24=\"\", \"\", '19'!$B$24)","v":""},null,null,18,{"$f":"IF('19'!$B$28=\"\", \"\", '19'!$B$28)","v":""},null,null,22,{"$f":"IF('19'!$B$32=\"\", \"\", '19'!$B$32)","v":""},{"$nulls":7},{"$f":"IF('19'!$D$12=\"\", \"\", '19'!$D$12)","v":""},{"$f":"IF(AF125=\"\", \"\", \"/\")","v":""},{"$f":"IF('19'!$F$12=\"\", \"\", '19'!$F$12)","v":""},{"$f":"IF(AJ125=\"\", \"\", \"P\")","v":""},{"$f":"IF('19'!$H$12=\"\", \"\", '19'!$H$12)","v":""},{"$f":"IF('19'!$D$16=\"\", \"\", '19'!$D$16)","v":""},{"$f":"IF(AK125=\"\", \"\", \"/\")","v":""},{"$f":"IF('19'!$F$16=\"\", \"\", '19'!$F$16)","v":""},{"$f":"IF(AO125=\"\", \"\", \"P\")","v":""},{"$f":"IF('19'!$H$16=\"\", \"\", '19'!$H$16)","v":""},{"$f":"IF('19'!$D$20=\"\", \"\", '19'!$D$20)","v":""},{"$f":"IF(AP125=\"\", \"\", \"/\")","v":""},{"$f":"IF('19'!$F$20=\"\", \"\", '19'!$F$20)","v":""},{"$f":"IF(AT125=\"\", \"\", \"P\")","v":""},{"$f":"IF('19'!$H$20=\"\", \"\", '19'!$H$20)","v":""},{"$f":"IF('19'!$D$24=\"\", \"\", '19'!$D$24)","v":""},{"$f":"IF(AU125=\"\", \"\", \"/\")","v":""},{"$f":"IF('19'!$F$24=\"\", \"\", '19'!$F$24)","v":""},{"$f":"IF(AY125=\"\", \"\", \"P\")","v":""},{"$f":"IF('19'!$H$24=\"\", \"\", '19'!$H$24)","v":""},{"$f":"IF('19'!$D$28=\"\", \"\", '19'!$D$28)","v":""},{"$f":"IF(AZ125=\"\", \"\", \"/\")","v":""},{"$f":"IF('19'!$F$28=\"\", \"\", '19'!$F$28)","v":""},{"$f":"IF(BD125=\"\", \"\", \"P\")","v":""},{"$f":"IF('19'!$H$28=\"\", \"\", '19'!$H$28)","v":""},{"$f":"IF('19'!$D$32=\"\", \"\", '19'!$D$32)","v":""},{"$f":"IF(BE125=\"\", \"\", \"/\")","v":""},{"$f":"IF('19'!$F$32=\"\", \"\", '19'!$F$32)","v":""},{"$f":"IF(BI125=\"\", \"\", \"P\")","v":""},{"$f":"IF('19'!$H$32=\"\", \"\", '19'!$H$32)","v":""}]
[null,null,3,{"$f":"IF('19'!$B$13=\"\", \"\", '19'!$B$13)","v":""},null,null,7,{"$f":"IF('19'!$B$17=\"\", \"\", '19'!$B$17)","v":""},null,null,11,{"$f":"IF('19'!$B$21=\"\", \"\", '19'!$B$21)","v":""},null,null,15,{"$f":"IF('19'!$B$25=\"\", \"\", '19'!$B$25)","v":""},null,null,19,{"$f":"IF('19'!$B$29=\"\", \"\", '19'!$B$29)","v":""},null,null,23,{"$f":"IF('19'!$B$33=\"\", \"\", '19'!$B$33)","v":""},{"$nulls":7},{"$f":"IF('19'!$D$13=\"\", \"\", '19'!$D$13)","v":""},"",{"$f":"IF('19'!$F$13=\"\", \"\", '19'!$F$13)","v":""},"",{"$f":"IF('19'!$H$13=\"\", \"\", '19'!$H$13)","v":""},{"$f":"IF('19'!$D$17=\"\", \"\", '19'!$D$17)","v":""},"",{"$f":"IF('19'!$F$17=\"\", \"\", '19'!$F$17)","v":""},"",{"$f":"IF('19'!$H$17=\"\", \"\", '19'!$H$17)","v":""},{"$f":"IF('19'!$D$21=\"\", \"\", '19'!$D$21)","v":""},"",{"$f":"IF('19'!$F$21=\"\", \"\", '19'!$F$21)","v":""},"",{"$f":"IF('19'!$H$21=\"\", \"\", '19'!$H$21)","v":""},{"$f":"IF('19'!$D$25=\"\", \"\", '19'!$D$25)","v":""},"",{"$f":"IF('19'!$F$25=\"\", \"\", '19'!$F$25)","v":""},"",{"$f":"IF('19'!$H$25=\"\", \"\", '19'!$H$25)","v":""},{"$f":"IF('19'!$D$29=\"\", \"\", '19'!$D$29)","v":""},"",{"$f":"IF('19'!$F$29=\"\", \"\", '19'!$F$29)","v":""},"",{"$f":"IF('19'!$H$29=\"\", \"\", '19'!$H$29)","v":""},{"$f":"IF('19'!$D$33=\"\", \"\", '19'!$D$33)","v":""},"",{"$f":"IF('19'!$F$33=\"\", \"\", '19'!$F$33)","v":""},"",{"$f":"IF('19'!$H$33=\"\", \"\", '19'!$H$33)","v":""}]
[null,null,4,{"$f":"IF('19'!$B$14=\"\", \"\", '19'!$B$14)","v":""},null,null,8,{"$f":"IF('19'!$B$18=\"\", \"\", '19'!$B$18)","v":""},null,null,12,{"$f":"IF('19'!$B$22=\"\", \"\", '19'!$B$22)","v":""},null,null,16,{"$f":"IF('19'!$B$26=\"\", \"\", '19'!$B$26)","v":""},null,null,20,{"$f":"IF('19'!$B$30=\"\", \"\", '19'!$B$30)","v":""},null,null,24,{"$f":"IF('19'!$B$34=\"\", \"\", '19'!$B$34)","v":""},{"$nulls":7},{"$f":"IF('19'!$D$14=\"\", \"\", '19'!$D$14)","v":""},"",{"$f":"IF('19'!$F$14=\"\", \"\", '19'!$F$14)","v":""},"",{"$f":"IF('19'!$H$14=\"\", \"\", '19'!$H$14)","v":""},{"$f":"IF('19'!$D$18=\"\", \"\", '19'!$D$18)","v":""},"",{"$f":"IF('19'!$F$18=\"\", \"\", '19'!$F$18)","v":""},"",{"$f":"IF('19'!$H$18=\"\", \"\", '19'!$H$18)","v":""},{"$f":"IF('19'!$D$22=\"\", \"\", '19'!$D$22)","v":""},"",{"$f":"IF('19'!$F$22=\"\", \"\", '19'!$F$22)","v":""},"",{"$f":"IF('19'!$H$22=\"\", \"\", '19'!$H$22)","v":""},{"$f":"IF('19'!$D$26=\"\", \"\", '19'!$D$26)","v":""},"",{"$f":"IF('19'!$F$26=\"\", \"\", '19'!$F$26)","v":""},"",{"$f":"IF('19'!$H$26=\"\", \"\", '19'!$H$26)","v":""},{"$f":"IF('19'!$D$30=\"\", \"\", '19'!$D$30)","v":""},"",{"$f":"IF('19'!$F$30=\"\", \"\", '19'!$F$30)","v":""},"",{"$f":"IF('19'!$H$30=\"\", \"\", '19'!$H$30)","v":""},{"$f":"IF('19'!$D$34=\"\", \"\", '19'!$D$34)","v":""},"",{"$f":"IF('19'!$F$34=\"\", \"\", '19'!$F$34)","v":""},"",{"$f":"IF('19'!$H$34=\"\", \"\", '19'!$H$34)","v":""}]
[{"$nulls":32},"",null,""]
[null,20,1,{"$f":"IF('20'!$B$11=\"\", \"\", '20'!$B$11)","v":""},null,null,5,{"$f":"IF('20'!$B$15=\"\", \"\", '20'!$B$15)","v":""},null,null,9,{"$f":"IF('20'!$B$19=\"\", \"\", '20'!$B$19)","v":""},null,null,13,{"$f":"IF('20'!$B$23=\"\", \"\", '20'!$B$23)","v":""},null,null,17,{"$f":"IF('20'!$B$27=\"\", \"\", '20'!$B$27)","v":""},null,null,21,{"$f":"IF('20'!$B$31=\"\", \"\", '20'!$B$31)","v":""},{"$nulls":7},{"$f":"IF('20'!$D$11=\"\", \"\", '20'!$D$11)","v":""},{"$f":"IF(AF129=\"\", \"\", \"/\")","v":""},{"$f":"IF('20'!$F$11=\"\", \"\", '20'!$F$11)","v":""},{"$f":"IF(AJ129=\"\", \"\", \"P\")","v":""},{"$f":"IF('20'!$H$11=\"\", \"\", '20'!$H$11)","v":""},{"$f":"IF('20'!$D$15=\"\", \"\", '20'!$D$15)","v":""},{"$f":"IF(AK129=\"\", \"\", \"/\")","v":""},{"$f":"IF('20'!$F$15=\"\", \"\", '20'!$F$15)","v":""},{"$f":"IF(AO129=\"\", \"\", \"P\")","v":""},{"$f":"IF('20'!$H$15=\"\", \"\", '20'!$H$15)","v":""},{"$f":"IF('20'!$D$19=\"\", \"\", '20'!$D$19)","v":""},{"$f":"IF(AP129=\"\", \"\", \"/\")","v":""},{"$f":"IF('20'!$F$19=\"\", \"\", '20'!$F$19)","v":""},{"$f":"IF(AT129=\"\", \"\", \"P\")","v":""},{"$f":"IF('20'!$H$19=\"\", \"\", '20'!$H$19)","v":""},{"$f":"IF('20'!$D$23=\"\", \"\", '20'!$D$23)","v":""},{"$f":"IF(AU129=\"\", \"\", \"/\")","v":""},{"$f":"IF('20'!$F$23=\"\", \"\", '20'!$F$23)","v":""},{"$f":"IF(AY129=\"\", \"\", \"P\")","v":""},{"$f":"IF('20'!$H$23=\"\", \"\", '20'!$H$23)","v":""},{"$f":"IF('20'!$D$27=\"\", \"\", '20'!$D$27)","v":""},{"$f":"IF(AZ129=\"\", \"\", \"/\")","v":""},{"$f":"IF('20'!$F$27=\"\", \"\", '20'!$F$27)","v":""},{"$f":"IF(BD129=\"\", \"\", \"P\")","v":""},{"$f":"IF('20'!$H$27=\"\", \"\", '20'!$H$27)","v":""},{"$f":"IF('20'!$D$31=\"\", \"\", '20'!$D$31)","v":""},{"$f":"IF(BE129=\"\", \"\", \"/\")","v":""},{"$f":"IF('20'!$F$31=\"\", \"\", '20'!$F$31)","v":""},{"$f":"IF(BI129=\"\", \"\", \"P\")","v":""},{"$f":"IF('20'!$H$31=\"\", \"\", '20'!$H$31)","v":""}]
[null,null,2,{"$f":"IF('20'!$B$12=\"\", \"\", '20'!$B$12)","v":""},null,null,6,{"$f":"IF('20'!$B$16=\"\", \"\", '20'!$B$16)","v":""},null,null,10,{"$f":"IF('20'!$B$20=\"\", \"\", '20'!$B$20)","v":""},null,null,14,{"$f":"IF('20'!$B$24=\"\", \"\", '20'!$B$24)","v":""},null,null,18,{"$f":"IF('20'!$B$28=\"\", \"\", '20'!$B$28)","v":""},null,null,22,{"$f":"IF('20'!$B$32=\"\", \"\", '20'!$B$32)","v":""},{"$nulls":7},{"$f":"IF('20'!$D$12=\"\", \"\", '20'!$D$12)","v":""},{"$f":"IF(AF130=\"\", \"\", \"/\")","v":""},{"$f":"IF('20'!$F$12=\"\", \"\", '20'!$F$12)","v":""},{"$f":"IF(AJ130=\"\", \"\", \"P\")","v":""},{"$f":"IF('20'!$H$12=\"\", \"\", '20'!$H$12)","v":""},{"$f":"IF('20'!$D$16=\"\", \"\", '20'!$D$16)","v":""},{"$f":"IF(AK130=\"\", \"\", \"/\")","v":""},{"$f":"IF('20'!$F$16=\"\", \"\", '20'!$F$16)","v":""},{"$f":"IF(AO130=\"\", \"\", \"P\")","v":""},{"$f":"IF('20'!$H$16=\"\", \"\", '20'!$H$16)","v":""},{"$f":"IF('20'!$D$20=\"\", \"\", '20'!$D$20)","v":""},{"$f":"IF(AP130=\"\", \"\", \"/\")","v":""},{"$f":"IF('20'!$F$20=\"\", \"\", '20'!$F$20)","v":""},{"$f":"IF(AT130=\"\", \"\", \"P\")","v":""},{"$f":"IF('20'!$H$20=\"\", \"\", '20'!$H$20)","v":""},{"$f":"IF('20'!$D$24=\"\", \"\", '20'!$D$24)","v":""},{"$f":"IF(AU130=\"\", \"\", \"/\")","v":""},{"$f":"IF('20'!$F$24=\"\", \"\", '20'!$F$24)","v":""},{"$f":"IF(AY130=\"\", \"\", \"P\")","v":""},{"$f":"IF('20'!$H$24=\"\", \"\", '20'!$H$24)","v":""},{"$f":"IF('20'!$D$28=\"\", \"\", '20'!$D$28)","v":""},{"$f":"IF(AZ130=\"\", \"\", \"/\")","v":""},{"$f":"IF('20'!$F$28=\"\", \"\", '20'!$F$28)","v":""},{"$f":"IF(BD130=\"\", \"\", \"P\")","v":""},{"$f":"IF('20'!$H$28=\"\", \"\", '20'!$H$28)","v":""},{"$f":"IF('20'!$D$32=\"\", \"\", '20'!$D$32)","v":""},{"$f":"IF(BE130=\"\", \"\", \"/\")","v":""},{"$f":"IF('20'!$F$32=\"\", \"\", '20'!$F$32)","v":""},{"$f":"IF(BI130=\"\", \"\", \"P\")","v":""},{"$f":"IF('20'!$H$32=\"\", \"\", '20'!$H$32)","v":""}]
[null,null,3,{"$f":"IF('20'!$B$13=\"\", \"\", '20'!$B$13)","v":""},null,null,7,{"$f":"IF('20'!$B$17=\"\", \"\", '20'!$B$17)","v":""},null,null,11,{"$f":"IF('20'!$B$21=\"\", \"\", '20'!$B$21)","v":""},null,null,15,{"$f":"IF('20'!$B$25=\"\", \"\", '20'!$B$25)","v":""},null,null,19,{"$f":"IF('20'!$B$29=\"\", \"\", '20'!$B$29)","v":""},null,null,23,{"$f":"IF('20'!$B$33=\"\", \"\", '20'!$B$33)","v":""},{"$nulls":7},{"$f":"IF('20'!$D$13=\"\", \"\", '20'!$D$13)","v":""},"",{"$f":"IF('20'!$F$13=\"\", \"\", '20'!$F$13)","v":""},"",{"$f":"IF('20'!$H$13=\"\", \"\", '20'!$H$13)","v":""},{"$f":"IF('20'!$D$17=\"\", \"\", '20'!$D$17)","v":""},"",{"$f":"IF('20'!$F$17=\"\", \"\", '20'!$F$17)","v":""},"",{"$f":"IF('20'!$H$17=\"\", \"\", '20'!$H$17)","v":""},{"$f":"IF('20'!$D$21=\"\", \"\", '20'!$D$21)","v":""},"",{"$f":"IF('20'!$F$21=\"\", \"\", '20'!$F$21)","v":""},"",{"$f":"IF('20'!$H$21=\"\", \"\", '20'!$H$21)","v":""},{"$f":"IF('20'!$D$25=\"\", \"\", '20'!$D$25)","v":""},"",{"$f":"IF('20'!$F$25=\"\", \"\", '20'!$F$25)","v":""},"",{"$f":"IF('20'!$H$25=\"\", \"\", '20'!$H$25)","v":""},{"$f":"IF('20'!$D$29=\"\", \"\", '20'!$D$29)","v":""},"",{"$f":"IF('20'!$F$29=\"\", \"\", '20'!$F$29)","v":""},"",{"$f":"IF('20'!$H$29=\"\", \"\", '20'!$H$29)","v":""},{"$f":"IF('20'!$D$33=\"\", \"\", '20'!$D$33)","v":""},"",{"$f":"IF('20'!$F$33=\"\", \"\", '20'!$F$33)","v":""},"",{"$f":"IF('20'!$H$33=\"\", \"\", '20'!$H$33)","v":""}]
[null,null,4,{"$f":"IF('20'!$B$14=\"\", \"\", '20'!$B$14)","v":""},null,null,8,{"$f":"IF('20'!$B$18=\"\", \"\", '20'!$B$18)","v":""},null,null,12,{"$f":"IF('20'!$B$22=\"\", \"\", '20'!$B$22)","v":""},null,null,16,{"$f":"IF('20'!$B$26=\"\", \"\", '20'!$B$26)","v":""},null,null,20,{"$f":"IF('20'!$B$30=\"\", \"\", '20'!$B$30)","v":""},null,null,24,{"$f":"IF('20'!$B$34=\"\", \"\", '20'!$B$34)","v":""},{"$nulls":7},{"$f":"IF('20'!$D$14=\"\", \"\", '20'!$D$14)","v":""},"",{"$f":"IF('20'!$F$14=\"\", \"\", '20'!$F$14)","v":""},"",{"$f":"IF('20'!$H$14=\"\", \"\", '20'!$H$14)","v":""},{"$f":"IF('20'!$D$18=\"\", \"\", '20'!$D$18)","v":""},"",{"$f":"IF('20'!$F$18=\"\", \"\", '20'!$F$18)","v":""},"",{"$f":"IF('20'!$H$18=\"\", \"\", '20'!$H$18)","v":""},{"$f":"IF('20'!$D$22=\"\", \"\", '20'!$D$22)","v":""},"",{"$f":"IF('20'!$F$22=\"\", \"\", '20'!$F$22)","v":""},"",{"$f":"IF('20'!$H$22=\"\", \"\", '20'!$H$22)","v":""},{"$f":"IF('20'!$D$26=\"\", \"\", '20'!$D$26)","v":""},"",{"$f":"IF('20'!$F$26=\"\", \"\", '20'!$F$26)","v":""},"",{"$f":"IF('20'!$H$26=\"\", \"\", '20'!$H$26)","v":""},{"$f":"IF('20'!$D$30=\"\", \"\", '20'!$D$30)","v":""},"",{"$f":"IF('20'!$F$30=\"\", \"\", '20'!$F$30)","v":""},"",{"$f":"IF('20'!$H$30=\"\", \"\", '20'!$H$30)","v":""},{"$f":"IF('20'!$D$34=\"\", \"\", '20'!$D$34)","v":""},"",{"$f":"IF('20'!$F$34=\"\", \"\", '20'!$F$34)","v":""},"",{"$f":"IF('20'!$H$34=\"\", \"\", '20'!$H$34)","v":""}]
[{"$nulls":32},"",null,""]
[null,21,1,{"$f":"IF('21'!$B$11=\"\", \"\", '21'!$B$11)","v":""},null,null,5,{"$f":"IF('21'!$B$15=\"\", \"\", '21'!$B$15)","v":""},null,null,9,{"$f":"IF('21'!$B$19=\"\", \"\", '21'!$B$19)","v":""},null,null,13,{"$f":"IF('21'!$B$23=\"\", \"\", '21'!$B$23)","v":""},null,null,17,{"$f":"IF('21'!$B$27=\"\", \"\", '21'!$B$27)","v":""},null,null,21,{"$f":"IF('21'!$B$31=\"\", \"\", '21'!$B$31)","v":""},{"$nulls":7},{"$f":"IF('21'!$D$11=\"\", \"\", '21'!$D$11)","v":""},{"$f":"IF(AF134=\"\", \"\", \"/\")","v":""},{"$f":"IF('21'!$F$11=\"\", \"\", '21'!$F$11)","v":""},{"$f":"IF(AJ134=\"\", \"\", \"P\")","v":""},{"$f":"IF('21'!$H$11=\"\", \"\", '21'!$H$11)","v":""},{"$f":"IF('21'!$D$15=\"\", \"\", '21'!$D$15)","v":""},{"$f":"IF(AK134=\"\", \"\", \"/\")","v":""},{"$f":"IF('21'!$F$15=\"\", \"\", '21'!$F$15)","v":""},{"$f":"IF(AO134=\"\", \"\", \"P\")","v":""},{"$f":"IF('21'!$H$15=\"\", \"\", '21'!$H$15)","v":""},{"$f":"IF('21'!$D$19=\"\", \"\", '21'!$D$19)","v":""},{"$f":"IF(AP134=\"\", \"\", \"/\")","v":""},{"$f":"IF('21'!$F$19=\"\", \"\", '21'!$F$19)","v":""},{"$f":"IF(AT134=\"\", \"\", \"P\")","v":""},{"$f":"IF('21'!$H$19=\"\", \"\", '21'!$H$19)","v":""},{"$f":"IF('21'!$D$23=\"\", \"\", '21'!$D$23)","v":""},{"$f":"IF(AU134=\"\", \"\", \"/\")","v":""},{"$f":"IF('21'!$F$23=\"\", \"\", '21'!$F$23)","v":""},{"$f":"IF(AY134=\"\", \"\", \"P\")","v":""},{"$f":"IF('21'!$H$23=\"\", \"\", '21'!$H$23)","v":""},{"$f":"IF('21'!$D$27=\"\", \"\", '21'!$D$27)","v":""},{"$f":"IF(AZ134=\"\", \"\", \"/\")","v":""},{"$f":"IF('21'!$F$27=\"\", \"\", '21'!$F$27)","v":""},{"$f":"IF(BD134=\"\", \"\", \"P\")","v":""},{"$f":"IF('21'!$H$27=\"\", \"\", '21'!$H$27)","v":""},{"$f":"IF('21'!$D$31=\"\", \"\", '21'!$D$31)","v":""},{"$f":"IF(BE134=\"\", \"\", \"/\")","v":""},{"$f":"IF('21'!$F$31=\"\", \"\", '21'!$F$31)","v":""},{"$f":"IF(BI134=\"\", \"\", \"P\")","v":""},{"$f":"IF('21'!$H$31=\"\", \"\", '21'!$H$31)","v":""}]
[null,null,2,{"$f":"IF('21'!$B$12=\"\", \"\", '21'!$B$12)","v":""},null,null,6,{"$f":"IF('21'!$B$16=\"\", \"\", '21'!$B$16)","v":""},null,null,10,{"$f":"IF('21'!$B$20=\"\", \"\", '21'!$B$20)","v":""},null,null,14,{"$f":"IF('21'!$B$24=\"\", \"\", '21'!$B$24)","v":""},null,null,18,{"$f":"IF('21'!$B$28=\"\", \"\", '21'!$B$28)","v":""},null,null,22,{"$f":"IF('21'!$B$32=\"\", \"\", '21'!$B$32)","v":""},{"$nulls":7},{"$f":"IF('21'!$D$12=\"\", \"\", '21'!$D$12)","v":""},{"$f":"IF(AF135=\"\", \"\", \"/\")","v":""},{"$f":"IF('21'!$F$12=\"\", \"\", '21'!$F$12)","v":""},{"$f":"IF(AJ135=\"\", \"\", \"P\")","v":""},{"$f":"IF('21'!$H$12=\"\", \"\", '21'!$H$12)","v":""},{"$f":"IF('21'!$D$16=\"\", \"\", '21'!$D$16)","v":""},{"$f":"IF(AK135=\"\", \"\", \"/\")","v":""},{"$f":"IF('21'!$F$16=\"\", \"\", '21'!$F$16)","v":""},{"$f":"IF(AO135=\"\", \"\", \"P\")","v":""},{"$f":"IF('21'!$H$16=\"\", \"\", '21'!$H$16)","v":""},{"$f":"IF('21'!$D$20=\"\", \"\", '21'!$D$20)","v":""},{"$f":"IF(AP135=\"\", \"\", \"/\")","v":""},{"$f":"IF('21'!$F$20=\"\", \"\", '21'!$F$20)","v":""},{"$f":"IF(AT135=\"\", \"\", \"P\")","v":""},{"$f":"IF('21'!$H$20=\"\", \"\", '21'!$H$20)","v":""},{"$f":"IF('21'!$D$24=\"\", \"\", '21'!$D$24)","v":""},{"$f":"IF(AU135=\"\", \"\", \"/\")","v":""},{"$f":"IF('21'!$F$24=\"\", \"\", '21'!$F$24)","v":""},{"$f":"IF(AY135=\"\", \"\", \"P\")","v":""},{"$f":"IF('21'!$H$24=\"\", \"\", '21'!$H$24)","v":""},{"$f":"IF('21'!$D$28=\"\", \"\", '21'!$D$28)","v":""},{"$f":"IF(AZ135=\"\", \"\", \"/\")","v":""},{"$f":"IF('21'!$F$28=\"\", \"\", '21'!$F$28)","v":""},{"$f":"IF(BD135=\"\", \"\", \"P\")","v":""},{"$f":"IF('21'!$H$28=\"\", \"\", '21'!$H$28)","v":""},{"$f":"IF('21'!$D$32=\"\", \"\", '21'!$D$32)","v":""},{"$f":"IF(BE135=\"\", \"\", \"/\")","v":""},{"$f":"IF('21'!$F$32=\"\", \"\", '21'!$F$32)","v":""},{"$f":"IF(BI135=\"\", \"\", \"P\")","v":""},{"$f":"IF('21'!$H$32=\"\", \"\", '21'!$H$32)","v":""}]
[null,null,3,{"$f":"IF('21'!$B$13=\"\", \"\", '21'!$B$13)","v":""},null,null,7,{"$f":"IF('21'!$B$17=\"\", \"\", '21'!$B$17)","v":""},null,null,11,{"$f":"IF('21'!$B$21=\"\", \"\", '21'!$B$21)","v":""},null,null,15,{"$f":"IF('21'!$B$25=\"\", \"\", '21'!$B$25)","v":""},null,null,19,{"$f":"IF('21'!$B$29=\"\", \"\", '21'!$B$29)","v":""},null,null,23,{"$f":"IF('21'!$B$33=\"\", \"\", '21'!$B$33)","v":""},{"$nulls":7},{"$f":"IF('21'!$D$13=\"\", \"\", '21'!$D$13)","v":""},"",{"$f":"IF('21'!$F$13=\"\", \"\", '21'!$F$13)","v":""},"",{"$f":"IF('21'!$H$13=\"\", \"\", '21'!$H$13)","v":""},{"$f":"IF('21'!$D$17=\"\", \"\", '21'!$D$17)","v":""},"",{"$f":"IF('21'!$F$17=\"\", \"\", '21'!$F$17)","v":""},"",{"$f":"IF('21'!$H$17=\"\", \"\", '21'!$H$17)","v":""},{"$f":"IF('21'!$D$21=\"\", \"\", '21'!$D$21)","v":""},"",{"$f":"IF('21'!$F$21=\"\", \"\", '21'!$F$21)","v":""},"",{"$f":"IF('21'!$H$21=\"\", \"\", '21'!$H$21)","v":""},{"$f":"IF('21'!$D$25=\"\", \"\", '21'!$D$25)","v":""},"",{"$f":"IF('21'!$F$25=\"\", \"\", '21'!$F$25)","v":""},"",{"$f":"IF('21'!$H$25=\"\", \"\", '21'!$H$25)","v":""},{"$f":"IF('21'!$D$29=\"\", \"\", '21'!$D$29)","v":""},"",{"$f":"IF('21'!$F$29=\"\", \"\", '21'!$F$29)","v":""},"",{"$f":"IF('21'!$H$29=\"\", \"\", '21'!$H$29)","v":""},{"$f":"IF('21'!$D$33=\"\", \"\", '21'!$D$33)","v":""},"",{"$f":"IF('21'!$F$33=\"\", \"\", '21'!$F$33)","v":""},"",{"$f":"IF('21'!$H$33=\"\", \"\", '21'!$H$33)","v":""}]
[null,null,4,{"$f":"IF('21'!$B$14=\"\", \"\", '21'!$B$14)","v":""},null,null,8,{"$f":"IF('21'!$B$18=\"\", \"\", '21'!$B$18)","v":""},null,null,12,{"$f":"IF('21'!$B$22=\"\", \"\", '21'!$B$22)","v":""},null,null,16,{"$f":"IF('21'!$B$26=\"\", \"\", '21'!$B$26)","v":""},null,null,20,{"$f":"IF('21'!$B$30=\"\", \"\", '21'!$B$30)","v":""},null,null,24,{"$f":"IF('21'!$B$34=\"\", \"\", '21'!$B$34)","v":""},{"$nulls":7},{"$f":"IF('21'!$D$14=\"\", \"\", '21'!$D$14)","v":""},"",{"$f":"IF('21'!$F$14=\"\", \"\", '21'!$F$14)","v":""},"",{"$f":"IF('21'!$H$14=\"\", \"\", '21'!$H$14)","v":""},{"$f":"IF('21'!$D$18=\"\", \"\", '21'!$D$18)","v":""},"",{"$f":"IF('21'!$F$18=\"\", \"\", '21'!$F$18)","v":""},"",{"$f":"IF('21'!$H$18=\"\", \"\", '21'!$H$18)","v":""},{"$f":"IF('21'!$D$22=\"\", \"\", '21'!$D$22)","v":""},"",{"$f":"IF('21'!$F$22=\"\", \"\", '21'!$F$22)","v":""},"",{"$f":"IF('21'!$H$22=\"\", \"\", '21'!$H$22)","v":""},{"$f":"IF('21'!$D$26=\"\", \"\", '21'!$D$26)","v":""},"",{"$f":"IF('21'!$F$26=\"\", \"\", '21'!$F$26)","v":""},"",{"$f":"IF('21'!$H$26=\"\", \"\", '21'!$H$26)","v":""},{"$f":"IF('21'!$D$30=\"\", \"\", '21'!$D$30)","v":""},"",{"$f":"IF('21'!$F$30=\"\", \"\", '21'!$F$30)","v":""},"",{"$f":"IF('21'!$H$30=\"\", \"\", '21'!$H$30)","v":""},{"$f":"IF('21'!$D$34=\"\", \"\", '21'!$D$34)","v":""},"",{"$f":"IF('21'!$F$34=\"\", \"\", '21'!$F$34)","v":""},"",{"$f":"IF('21'!$H$34=\"\", \"\", '21'!$H$34)","v":""}]
[{"$nulls":32},"",null,""]
[null,22,1,{"$f":"IF('22'!$B$11=\"\", \"\", '22'!$B$11)","v":""},null,null,5,{"$f":"IF('22'!$B$15=\"\", \"\", '22'!$B$15)","v":""},null,null,9,{"$f":"IF('22'!$B$19=\"\", \"\", '22'!$B$19)","v":""},null,null,13,{"$f":"IF('22'!$B$23=\"\", \"\", '22'!$B$23)","v":""},null,null,17,{"$f":"IF('22'!$B$27=\"\", \"\", '22'!$B$27)","v":""},null,null,21,{"$f":"IF('22'!$B$31=\"\", \"\", '22'!$B$31)","v":""},{"$nulls":7},{"$f":"IF('22'!$D$11=\"\", \"\", '22'!$D$11)","v":""},{"$f":"IF(AF139=\"\", \"\", \"/\")","v":""},{"$f":"IF('22'!$F$11=\"\", \"\", '22'!$F$11)","v":""},{"$f":"IF(AJ139=\"\", \"\", \"P\")","v":""},{"$f":"IF('22'!$H$11=\"\", \"\", '22'!$H$11)","v":""},{"$f":"IF('22'!$D$15=\"\", \"\", '22'!$D$15)","v":""},{"$f":"IF(AK139=\"\", \"\", \"/\")","v":""},{"$f":"IF('22'!$F$15=\"\", \"\", '22'!$F$15)","v":""},{"$f":"IF(AO139=\"\", \"\", \"P\")","v":""},{"$f":"IF('22'!$H$15=\"\", \"\", '22'!$H$15)","v":""},{"$f":"IF('22'!$D$19=\"\", \"\", '22'!$D$19)","v":""},{"$f":"IF(AP139=\"\", \"\", \"/\")","v":""},{"$f":"IF('22'!$F$19=\"\", \"\", '22'!$F$19)","v":""},{"$f":"IF(AT139=\"\", \"\", \"P\")","v":""},{"$f":"IF('22'!$H$19=\"\", \"\", '22'!$H$19)","v":""},{"$f":"IF('22'!$D$23=\"\", \"\", '22'!$D$23)","v":""},{"$f":"IF(AU139=\"\", \"\", \"/\")","v":""},{"$f":"IF('22'!$F$23=\"\", \"\", '22'!$F$23)","v":""},{"$f":"IF(AY139=\"\", \"\", \"P\")","v":""},{"$f":"IF('22'!$H$23=\"\", \"\", '22'!$H$23)","v":""},{"$f":"IF('22'!$D$27=\"\", \"\", '22'!$D$27)","v":""},{"$f":"IF(AZ139=\"\", \"\", \"/\")","v":""},{"$f":"IF('22'!$F$27=\"\", \"\", '22'!$F$27)","v":""},{"$f":"IF(BD139=\"\", \"\", \"P\")","v":""},{"$f":"IF('22'!$H$27=\"\", \"\", '22'!$H$27)","v":""},{"$f":"IF('22'!$D$31=\"\", \"\", '22'!$D$31)","v":""},{"$f":"IF(BE139=\"\", \"\", \"/\")","v":""},{"$f":"IF('22'!$F$31=\"\", \"\", '22'!$F$31)","v":""},{"$f":"IF(BI139=\"\", \"\", \"P\")","v":""},{"$f":"IF('22'!$H$31=\"\", \"\", '22'!$H$31)","v":""}]
[null,null,2,{"$f":"IF('22'!$B$12=\"\", \"\", '22'!$B$12)","v":""},null,null,6,{"$f":"IF('22'!$B$16=\"\", \"\", '22'!$B$16)","v":""},null,null,10,{"$f":"IF('22'!$B$20=\"\", \"\", '22'!$B$20)","v":""},null,null,14,{"$f":"IF('22'!$B$24=\"\", \"\", '22'!$B$24)","v":""},null,null,18,{"$f":"IF('22'!$B$28=\"\", \"\", '22'!$B$28)","v":""},null,null,22,{"$f":"IF('22'!$B$32=\"\", \"\", '22'!$B$32)","v":""},{"$nulls":7},{"$f":"IF('22'!$D$12=\"\", \"\", '22'!$D$12)","v":""},{"$f":"IF(AF140=\"\", \"\", \"/\")","v":""},{"$f":"IF('22'!$F$12=\"\", \"\", '22'!$F$12)","v":""},{"$f":"IF(AJ140=\"\", \"\", \"P\")","v":""},{"$f":"IF('22'!$H$12=\"\", \"\", '22'!$H$12)","v":""},{"$f":"IF('22'!$D$16=\"\", \"\", '22'!$D$16)","v":""},{"$f":"IF(AK140=\"\", \"\", \"/\")","v":""},{"$f":"IF('22'!$F$16=\"\", \"\", '22'!$F$16)","v":""},{"$f":"IF(AO140=\"\", \"\", \"P\")","v":""},{"$f":"IF('22'!$H$16=\"\", \"\", '22'!$H$16)","v":""},{"$f":"IF('22'!$D$20=\"\", \"\", '22'!$D$20)","v":""},{"$f":"IF(AP140=\"\", \"\", \"/\")","v":""},{"$f":"IF('22'!$F$20=\"\", \"\", '22'!$F$20)","v":""},{"$f":"IF(AT140=\"\", \"\", \"P\")","v":""},{"$f":"IF('22'!$H$20=\"\", \"\", '22'!$H$20)","v":""},{"$f":"IF('22'!$D$24=\"\", \"\", '22'!$D$24)","v":""},{"$f":"IF(AU140=\"\", \"\", \"/\")","v":""},{"$f":"IF('22'!$F$24=\"\", \"\", '22'!$F$24)","v":""},{"$f":"IF(AY140=\"\", \"\", \"P\")","v":""},{"$f":"IF('22'!$H$24=\"\", \"\", '22'!$H$24)","v":""},{"$f":"IF('22'!$D$28=\"\", \"\", '22'!$D$28)","v":""},{"$f":"IF(AZ140=\"\", \"\", \"/\")","v":""},{"$f":"IF('22'!$F$28=\"\", \"\", '22'!$F$28)","v":""},{"$f":"IF(BD140=\"\", \"\", \"P\")","v":""},{"$f":"IF('22'!$H$28=\"\", \"\", '22'!$H$28)","v":""},{"$f":"IF('22'!$D$32=\"\", \"\", '22'!$D$32)","v":""},{"$f":"IF(BE140=\"\", \"\", \"/\")","v":""},{"$f":"IF('22'!$F$32=\"\", \"\", '22'!$F$32)","v":""},{"$f":"IF(BI140=\"\", \"\", \"P\")","v":""},{"$f":"IF('22'!$H$32=\"\", \"\", '22'!$H$32)","v":""}]
[null,null,3,{"$f":"IF('22'!$B$13=\"\", \"\", '22'!$B$13)","v":""},null,null,7,{"$f":"IF('22'!$B$17=\"\", \"\", '22'!$B$17)","v":""},null,null,11,{"$f":"IF('22'!$B$21=\"\", \"\", '22'!$B$21)","v":""},null,null,15,{"$f":"IF('22'!$B$25=\"\", \"\", '22'!$B$25)","v":""},null,null,19,{"$f":"IF('22'!$B$29=\"\", \"\", '22'!$B$29)","v":""},null,null,23,{"$f":"IF('22'!$B$33=\"\", \"\", '22'!$B$33)","v":""},{"$nulls":7},{"$f":"IF('22'!$D$13=\"\", \"\", '22'!$D$13)","v":""},"",{"$f":"IF('22'!$F$13=\"\", \"\", '22'!$F$13)","v":""},"",{"$f":"IF('22'!$H$13=\"\", \"\", '22'!$H$13)","v":""},{"$f":"IF('22'!$D$17=\"\", \"\", '22'!$D$17)","v":""},"",{"$f":"IF('22'!$F$17=\"\", \"\", '22'!$F$17)","v":""},"",{"$f":"IF('22'!$H$17=\"\", \"\", '22'!$H$17)","v":""},{"$f":"IF('22'!$D$21=\"\", \"\", '22'!$D$21)","v":""},"",{"$f":"IF('22'!$F$21=\"\", \"\", '22'!$F$21)","v":""},"",{"$f":"IF('22'!$H$21=\"\", \"\", '22'!$H$21)","v":""},{"$f":"IF('22'!$D$25=\"\", \"\", '22'!$D$25)","v":""},"",{"$f":"IF('22'!$F$25=\"\", \"\", '22'!$F$25)","v":""},"",{"$f":"IF('22'!$H$25=\"\", \"\", '22'!$H$25)","v":""},{"$f":"IF('22'!$D$29=\"\", \"\", '22'!$D$29)","v":""},"",{"$f":"IF('22'!$F$29=\"\", \"\", '22'!$F$29)","v":""},"",{"$f":"IF('22'!$H$29=\"\", \"\", '22'!$H$29)","v":""},{"$f":"IF('22'!$D$33=\"\", \"\", '22'!$D$33)","v":""},"",{"$f":"IF('22'!$F$33=\"\", \"\", '22'!$F$33)","v":""},"",{"$f":"IF('22'!$H$33=\"\", \"\", '22'!$H$33)","v":""}]
[null,null,4,{"$f":"IF('22'!$B$14=\"\", \"\", '22'!$B$14)","v":""},null,null,8,{"$f":"IF('22'!$B$18=\"\", \"\", '22'!$B$18)","v":""},null,null,12,{"$f":"IF('22'!$B$22=\"\", \"\", '22'!$B$22)","v":""},null,null,16,{"$f":"IF('22'!$B$26=\"\", \"\", '22'!$B$26)","v":""},null,null,20,{"$f":"IF('22'!$B$30=\"\", \"\", '22'!$B$30)","v":""},null,null,24,{"$f":"IF('22'!$B$34=\"\", \"\", '22'!$B$34)","v":""},{"$nulls":7},{"$f":"IF('22'!$D$14=\"\", \"\", '22'!$D$14)","v":""},"",{"$f":"IF('22'!$F$14=\"\", \"\", '22'!$F$14)","v":""},"",{"$f":"IF('22'!$H$14=\"\", \"\", '22'!$H$14)","v":""},{"$f":"IF('22'!$D$18=\"\", \"\", '22'!$D$18)","v":""},"",{"$f":"IF('22'!$F$18=\"\", \"\", '22'!$F$18)","v":""},"",{"$f":"IF('22'!$H$18=\"\", \"\", '22'!$H$18)","v":""},{"$f":"IF('22'!$D$22=\"\", \"\", '22'!$D$22)","v":""},"",{"$f":"IF('22'!$F$22=\"\", \"\", '22'!$F$22)","v":""},"",{"$f":"IF('22'!$H$22=\"\", \"\", '22'!$H$22)","v":""},{"$f":"IF('22'!$D$26=\"\", \"\", '22'!$D$26)","v":""},"",{"$f":"IF('22'!$F$26=\"\", \"\", '22'!$F$26)","v":""},"",{"$f":"IF('22'!$H$26=\"\", \"\", '22'!$H$26)","v":""},{"$f":"IF('22'!$D$30=\"\", \"\", '22'!$D$30)","v":""},"",{"$f":"IF('22'!$F$30=\"\", \"\", '22'!$F$30)","v":""},"",{"$f":"IF('22'!$H$30=\"\", \"\", '22'!$H$30)","v":""},{"$f":"IF('22'!$D$34=\"\", \"\", '22'!$D$34)","v":""},"",{"$f":"IF('22'!$F$34=\"\", \"\", '22'!$F$34)","v":""},"",{"$f":"IF('22'!$H$34=\"\", \"\", '22'!$H$34)","v":""}]
[{"$nulls":32},"",null,""]
[null,23,1,{"$f":"IF('23'!$B$11=\"\", \"\", '23'!$B$11)","v":""},null,null,5,{"$f":"IF('23'!$B$15=\"\", \"\", '23'!$B$15)","v":""},null,null,9,{"$f":"IF('23'!$B$19=\"\", \"\", '23'!$B$19)","v":""},null,null,13,{"$f":"IF('23'!$B$23=\"\", \"\", '23'!$B$23)","v":""},null,null,17,{"$f":"IF('23'!$B$27=\"\", \"\", '23'!$B$27)","v":""},null,null,21,{"$f":"IF('23'!$B$31=\"\", \"\", '23'!$B$31)","v":""},{"$nulls":7},{"$f":"IF('23'!$D$11=\"\", \"\", '23'!$D$11)","v":""},{"$f":"IF(AF144=\"\", \"\", \"/\")","v":""},{"$f":"IF('23'!$F$11=\"\", \"\", '23'!$F$11)","v":""},{"$f":"IF(AJ144=\"\", \"\", \"P\")","v":""},{"$f":"IF('23'!$H$11=\"\", \"\", '23'!$H$11)","v":""},{"$f":"IF('23'!$D$15=\"\", \"\", '23'!$D$15)","v":""},{"$f":"IF(AK144=\"\", \"\", \"/\")","v":""},{"$f":"IF('23'!$F$15=\"\", \"\", '23'!$F$15)","v":""},{"$f":"IF(AO144=\"\", \"\", \"P\")","v":""},{"$f":"IF('23'!$H$15=\"\", \"\", '23'!$H$15)","v":""},{"$f":"IF('23'!$D$19=\"\", \"\", '23'!$D$19)","v":""},{"$f":"IF(AP144=\"\", \"\", \"/\")","v":""},{"$f":"IF('23'!$F$19=\"\", \"\", '23'!$F$19)","v":""},{"$f":"IF(AT144=\"\", \"\", \"P\")","v":""},{"$f":"IF('23'!$H$19=\"\", \"\", '23'!$H$19)","v":""},{"$f":"IF('23'!$D$23=\"\", \"\", '23'!$D$23)","v":""},{"$f":"IF(AU144=\"\", \"\", \"/\")","v":""},{"$f":"IF('23'!$F$23=\"\", \"\", '23'!$F$23)","v":""},{"$f":"IF(AY144=\"\", \"\", \"P\")","v":""},{"$f":"IF('23'!$H$23=\"\", \"\", '23'!$H$23)","v":""},{"$f":"IF('23'!$D$27=\"\", \"\", '23'!$D$27)","v":""},{"$f":"IF(AZ144=\"\", \"\", \"/\")","v":""},{"$f":"IF('23'!$F$27=\"\", \"\", '23'!$F$27)","v":""},{"$f":"IF(BD144=\"\", \"\", \"P\")","v":""},{"$f":"IF('23'!$H$27=\"\", \"\", '23'!$H$27)","v":""},{"$f":"IF('23'!$D$31=\"\", \"\", '23'!$D$31)","v":""},{"$f":"IF(BE144=\"\", \"\", \"/\")","v":""},{"$f":"IF('23'!$F$31=\"\", \"\", '23'!$F$31)","v":""},{"$f":"IF(BI144=\"\", \"\", \"P\")","v":""},{"$f":"IF('23'!$H$31=\"\", \"\", '23'!$H$31)","v":""}]
[null,null,2,{"$f":"IF('23'!$B$12=\"\", \"\", '23'!$B$12)","v":""},null,null,6,{"$f":"IF('23'!$B$16=\"\", \"\", '23'!$B$16)","v":""},null,null,10,{"$f":"IF('23'!$B$20=\"\", \"\", '23'!$B$20)","v":""},null,null,14,{"$f":"IF('23'!$B$24=\"\", \"\", '23'!$B$24)","v":""},null,null,18,{"$f":"IF('23'!$B$28=\"\", \"\", '23'!$B$28)","v":""},null,null,22,{"$f":"IF('23'!$B$32=\"\", \"\", '23'!$B$32)","v":""},{"$nulls":7},{"$f":"IF('23'!$D$12=\"\", \"\", '23'!$D$12)","v":""},{"$f":"IF(AF145=\"\", \"\", \"/\")","v":""},{"$f":"IF('23'!$F$12=\"\", \"\", '23'!$F$12)","v":""},{"$f":"IF(AJ145=\"\", \"\", \"P\")","v":""},{"$f":"IF('23'!$H$12=\"\", \"\", '23'!$H$12)","v":""},{"$f":"IF('23'!$D$16=\"\", \"\", '23'!$D$16)","v":""},{"$f":"IF(AK145=\"\", \"\", \"/\")","v":""},{"$f":"IF('23'!$F$16=\"\", \"\", '23'!$F$16)","v":""},{"$f":"IF(AO145=\"\", \"\", \"P\")","v":""},{"$f":"IF('23'!$H$16=\"\", \"\", '23'!$H$16)","v":""},{"$f":"IF('23'!$D$20=\"\", \"\", '23'!$D$20)","v":""},{"$f":"IF(AP145=\"\", \"\", \"/\")","v":""},{"$f":"IF('23'!$F$20=\"\", \"\", '23'!$F$20)","v":""},{"$f":"IF(AT145=\"\", \"\", \"P\")","v":""},{"$f":"IF('23'!$H$20=\"\", \"\", '23'!$H$20)","v":""},{"$f":"IF('23'!$D$24=\"\", \"\", '23'!$D$24)","v":""},{"$f":"IF(AU145=\"\", \"\", \"/\")","v":""},{"$f":"IF('23'!$F$24=\"\", \"\", '23'!$F$24)","v":""},{"$f":"IF(AY145=\"\", \"\", \"P\")","v":""},{"$f":"IF('23'!$H$24=\"\", \"\", '23'!$H$24)","v":""},{"$f":"IF('23'!$D$28=\"\", \"\", '23'!$D$28)","v":""},{"$f":"IF(AZ145=\"\", \"\", \"/\")","v":""},{"$f":"IF('23'!$F$28=\"\", \"\", '23'!$F$28)","v":""},{"$f":"IF(BD145=\"\", \"\", \"P\")","v":""},{"$f":"IF('23'!$H$28=\"\", \"\", '23'!$H$28)","v":""},{"$f":"IF('23'!$D$32=\"\", \"\", '23'!$D$32)","v":""},{"$f":"IF(BE145=\"\", \"\", \"/\")","v":""},{"$f":"IF('23'!$F$32=\"\", \"\", '23'!$F$32)","v":""},{"$f":"IF(BI145=\"\", \"\", \"P\")","v":""},{"$f":"IF('23'!$H$32=\"\", \"\", '23'!$H$32)","v":""}]
[null,null,3,{"$f":"IF('23'!$B$13=\"\", \"\", '23'!$B$13)","v":""},null,null,7,{"$f":"IF('23'!$B$17=\"\", \"\", '23'!$B$17)","v":""},null,null,11,{"$f":"IF('23'!$B$21=\"\", \"\", '23'!$B$21)","v":""},null,null,15,{"$f":"IF('23'!$B$25=\"\", \"\", '23'!$B$25)","v":""},null,null,19,{"$f":"IF('23'!$B$29=\"\", \"\", '23'!$B$29)","v":""},null,null,23,{"$f":"IF('23'!$B$33=\"\", \"\", '23'!$B$33)","v":""},{"$nulls":7},{"$f":"IF('23'!$D$13=\"\", \"\", '23'!$D$13)","v":""},"",{"$f":"IF('23'!$F$13=\"\", \"\", '23'!$F$13)","v":""},"",{"$f":"IF('23'!$H$13=\"\", \"\", '23'!$H$13)","v":""},{"$f":"IF('23'!$D$17=\"\", \"\", '23'!$D$17)","v":""},"",{"$f":"IF('23'!$F$17=\"\", \"\", '23'!$F$17)","v":""},"",{"$f":"IF('23'!$H$17=\"\", \"\", '23'!$H$17)","v":""},{"$f":"IF('23'!$D$21=\"\", \"\", '23'!$D$21)","v":""},"",{"$f":"IF('23'!$F$21=\"\", \"\", '23'!$F$21)","v":""},"",{"$f":"IF('23'!$H$21=\"\", \"\", '23'!$H$21)","v":""},{"$f":"IF('23'!$D$25=\"\", \"\", '23'!$D$25)","v":""},"",{"$f":"IF('23'!$F$25=\"\", \"\", '23'!$F$25)","v":""},"",{"$f":"IF('23'!$H$25=\"\", \"\", '23'!$H$25)","v":""},{"$f":"IF('23'!$D$29=\"\", \"\", '23'!$D$29)","v":""},"",{"$f":"IF('23'!$F$29=\"\", \"\", '23'!$F$29)","v":""},"",{"$f":"IF('23'!$H$29=\"\", \"\", '23'!$H$29)","v":""},{"$f":"IF('23'!$D$33=\"\", \"\", '23'!$D$33)","v":""},"",{"$f":"IF('23'!$F$33=\"\", \"\", '23'!$F$33)","v":""},"",{"$f":"IF('23'!$H$33=\"\", \"\", '23'!$H$33)","v":""}]
[null,null,4,{"$f":"IF('23'!$B$14=\"\", \"\", '23'!$B$14)","v":""},null,null,8,{"$f":"IF('23'!$B$18=\"\", \"\", '23'!$B$18)","v":""},null,null,12,{"$f":"IF('23'!$B$22=\"\", \"\", '23'!$B$22)","v":""},null,null,16,{"$f":"IF('23'!$B$26=\"\", \"\", '23'!$B$26)","v":""},null,null,20,{"$f":"IF('23'!$B$30=\"\", \"\", '23'!$B$30)","v":""},null,null,24,{"$f":"IF('23'!$B$34=\"\", \"\", '23'!$B$34)","v":""},{"$nulls":7},{"$f":"IF('23'!$D$14=\"\", \"\", '23'!$D$14)","v":""},"",{"$f":"IF('23'!$F$14=\"\", \"\", '23'!$F$14)","v":""},"",{"$f":"IF('23'!$H$14=\"\", \"\", '23'!$H$14)","v":""},{"$f":"IF('23'!$D$18=\"\", \"\", '23'!$D$18)","v":""},"",{"$f":"IF('23'!$F$18=\"\", \"\", '23'!$F$18)","v":""},"",{"$f":"IF('23'!$H$18=\"\", \"\", '23'!$H$18)","v":""},{"$f":"IF('23'!$D$22=\"\", \"\", '23'!$D$22)","v":""},"",{"$f":"IF('23'!$F$22=\"\", \"\", '23'!$F$22)","v":""},"",{"$f":"IF('23'!$H$22=\"\", \"\", '23'!$H$22)","v":""},{"$f":"IF('23'!$D$26=\"\", \"\", '23'!$D$26)","v":""},"",{"$f":"IF('23'!$F$26=\"\", \"\", '23'!$F$26)","v":""},"",{"$f":"IF('23'!$H$26=\"\", \"\", '23'!$H$26)","v":""},{"$f":"IF('23'!$D$30=\"\", \"\", '23'!$D$30)","v":""},"",{"$f":"IF('23'!$F$30=\"\", \"\", '23'!$F$30)","v":""},"",{"$f":"IF('23'!$H$30=\"\", \"\", '23'!$H$30)","v":""},{"$f":"IF('23'!$D$34=\"\", \"\", '23'!$D$34)","v":""},"",{"$f":"IF('23'!$F$34=\"\", \"\", '23'!$F$34)","v":""},"",{"$f":"IF('23'!$H$34=\"\", \"\", '23'!$H$34)","v":""}]
[{"$nulls":32},"",null,""]
[null,24,1,{"$f":"IF('24'!$B$11=\"\", \"\", '24'!$B$11)","v":""},null,null,5,{"$f":"IF('24'!$B$15=\"\", \"\", '24'!$B$15)","v":""},null,null,9,{"$f":"IF('24'!$B$19=\"\", \"\", '24'!$B$19)","v":""},null,null,13,{"$f":"IF('24'!$B$23=\"\", \"\", '24'!$B$23)","v":""},null,null,17,{"$f":"IF('24'!$B$27=\"\", \"\", '24'!$B$27)","v":""},null,null,21,{"$f":"IF('24'!$B$31=\"\", \"\", '24'!$B$31)","v":""},{"$nulls":7},{"$f":"IF('24'!$D$11=\"\", \"\", '24'!$D$11)","v":""},{"$f":"IF(AF149=\"\", \"\", \"/\")","v":""},{"$f":"IF('24'!$F$11=\"\", \"\", '24'!$F$11)","v":""},{"$f":"IF(AJ149=\"\", \"\", \"P\")","v":""},{"$f":"IF('24'!$H$11=\"\", \"\", '24'!$H$11)","v":""},{"$f":"IF('24'!$D$15=\"\", \"\", '24'!$D$15)","v":""},{"$f":"IF(AK149=\"\", \"\", \"/\")","v":""},{"$f":"IF('24'!$F$15=\"\", \"\", '24'!$F$15)","v":""},{"$f":"IF(AO149=\"\", \"\", \"P\")","v":""},{"$f":"IF('24'!$H$15=\"\", \"\", '24'!$H$15)","v":""},{"$f":"IF('24'!$D$19=\"\", \"\", '24'!$D$19)","v":""},{"$f":"IF(AP149=\"\", \"\", \"/\")","v":""},{"$f":"IF('24'!$F$19=\"\", \"\", '24'!$F$19)","v":""},{"$f":"IF(AT149=\"\", \"\", \"P\")","v":""},{"$f":"IF('24'!$H$19=\"\", \"\", '24'!$H$19)","v":""},{"$f":"IF('24'!$D$23=\"\", \"\", '24'!$D$23)","v":""},{"$f":"IF(AU149=\"\", \"\", \"/\")","v":""},{"$f":"IF('24'!$F$23=\"\", \"\", '24'!$F$23)","v":""},{"$f":"IF(AY149=\"\", \"\", \"P\")","v":""},{"$f":"IF('24'!$H$23=\"\", \"\", '24'!$H$23)","v":""},{"$f":"IF('24'!$D$27=\"\", \"\", '24'!$D$27)","v":""},{"$f":"IF(AZ149=\"\", \"\", \"/\")","v":""},{"$f":"IF('24'!$F$27=\"\", \"\", '24'!$F$27)","v":""},{"$f":"IF(BD149=\"\", \"\", \"P\")","v":""},{"$f":"IF('24'!$H$27=\"\", \"\", '24'!$H$27)","v":""},{"$f":"IF('24'!$D$31=\"\", \"\", '24'!$D$31)","v":""},{"$f":"IF(BE149=\"\", \"\", \"/\")","v":""},{"$f":"IF('24'!$F$31=\"\", \"\", '24'!$F$31)","v":""},{"$f":"IF(BI149=\"\", \"\", \"P\")","v":""},{"$f":"IF('24'!$H$31=\"\", \"\", '24'!$H$31)","v":""}]
[null,null,2,{"$f":"IF('24'!$B$12=\"\", \"\", '24'!$B$12)","v":""},null,null,6,{"$f":"IF('24'!$B$16=\"\", \"\", '24'!$B$16)","v":""},null,null,10,{"$f":"IF('24'!$B$20=\"\", \"\", '24'!$B$20)","v":""},null,null,14,{"$f":"IF('24'!$B$24=\"\", \"\", '24'!$B$24)","v":""},null,null,18,{"$f":"IF('24'!$B$28=\"\", \"\", '24'!$B$28)","v":""},null,null,22,{"$f":"IF('24'!$B$32=\"\", \"\", '24'!$B$32)","v":""},{"$nulls":7},{"$f":"IF('24'!$D$12=\"\", \"\", '24'!$D$12)","v":""},{"$f":"IF(AF150=\"\", \"\", \"/\")","v":""},{"$f":"IF('24'!$F$12=\"\", \"\", '24'!$F$12)","v":""},{"$f":"IF(AJ150=\"\", \"\", \"P\")","v":""},{"$f":"IF('24'!$H$12=\"\", \"\", '24'!$H$12)","v":""},{"$f":"IF('24'!$D$16=\"\", \"\", '24'!$D$16)","v":""},{"$f":"IF(AK150=\"\", \"\", \"/\")","v":""},{"$f":"IF('24'!$F$16=\"\", \"\", '24'!$F$16)","v":""},{"$f":"IF(AO150=\"\", \"\", \"P\")","v":""},{"$f":"IF('24'!$H$16=\"\", \"\", '24'!$H$16)","v":""},{"$f":"IF('24'!$D$20=\"\", \"\", '24'!$D$20)","v":""},{"$f":"IF(AP150=\"\", \"\", \"/\")","v":""},{"$f":"IF('24'!$F$20=\"\", \"\", '24'!$F$20)","v":""},{"$f":"IF(AT150=\"\", \"\", \"P\")","v":""},{"$f":"IF('24'!$H$20=\"\", \"\", '24'!$H$20)","v":""},{"$f":"IF('24'!$D$24=\"\", \"\", '24'!$D$24)","v":""},{"$f":"IF(AU150=\"\", \"\", \"/\")","v":""},{"$f":"IF('24'!$F$24=\"\", \"\", '24'!$F$24)","v":""},{"$f":"IF(AY150=\"\", \"\", \"P\")","v":""},{"$f":"IF('24'!$H$24=\"\", \"\", '24'!$H$24)","v":""},{"$f":"IF('24'!$D$28=\"\", \"\", '24'!$D$28)","v":""},{"$f":"IF(AZ150=\"\", \"\", \"/\")","v":""},{"$f":"IF('24'!$F$28=\"\", \"\", '24'!$F$28)","v":""},{"$f":"IF(BD150=\"\", \"\", \"P\")","v":""},{"$f":"IF('24'!$H$28=\"\", \"\", '24'!$H$28)","v":""},{"$f":"IF('24'!$D$32=\"\", \"\", '24'!$D$32)","v":""},{"$f":"IF(BE150=\"\", \"\", \"/\")","v":""},{"$f":"IF('24'!$F$32=\"\", \"\", '24'!$F$32)","v":""},{"$f":"IF(BI150=\"\", \"\", \"P\")","v":""},{"$f":"IF('24'!$H$32=\"\", \"\", '24'!$H$32)","v":""}]
[null,null,3,{"$f":"IF('24'!$B$13=\"\", \"\", '24'!$B$13)","v":""},null,null,7,{"$f":"IF('24'!$B$17=\"\", \"\", '24'!$B$17)","v":""},null,null,11,{"$f":"IF('24'!$B$21=\"\", \"\", '24'!$B$21)","v":""},null,null,15,{"$f":"IF('24'!$B$25=\"\", \"\", '24'!$B$25)","v":""},null,null,19,{"$f":"IF('24'!$B$29=\"\", \"\", '24'!$B$29)","v":""},null,null,23,{"$f":"IF('24'!$B$33=\"\", \"\", '24'!$B$33)","v":""},{"$nulls":7},{"$f":"IF('24'!$D$13=\"\", \"\", '24'!$D$13)","v":""},"",{"$f":"IF('24'!$F$13=\"\", \"\", '24'!$F$13)","v":""},"",{"$f":"IF('24'!$H$13=\"\", \"\", '24'!$H$13)","v":""},{"$f":"IF('24'!$D$17=\"\", \"\", '24'!$D$17)","v":""},"",{"$f":"IF('24'!$F$17=\"\", \"\", '24'!$F$17)","v":""},"",{"$f":"IF('24'!$H$17=\"\", \"\", '24'!$H$17)","v":""},{"$f":"IF('24'!$D$21=\"\", \"\", '24'!$D$21)","v":""},"",{"$f":"IF('24'!$F$21=\"\", \"\", '24'!$F$21)","v":""},"",{"$f":"IF('24'!$H$21=\"\", \"\", '24'!$H$21)","v":""},{"$f":"IF('24'!$D$25=\"\", \"\", '24'!$D$25)","v":""},"",{"$f":"IF('24'!$F$25=\"\", \"\", '24'!$F$25)","v":""},"",{"$f":"IF('24'!$H$25=\"\", \"\", '24'!$H$25)","v":""},{"$f":"IF('24'!$D$29=\"\", \"\", '24'!$D$29)","v":""},"",{"$f":"IF('24'!$F$29=\"\", \"\", '24'!$F$29)","v":""},"",{"$f":"IF('24'!$H$29=\"\", \"\", '24'!$H$29)","v":""},{"$f":"IF('24'!$D$33=\"\", \"\", '24'!$D$33)","v":""},"",{"$f":"IF('24'!$F$33=\"\", \"\", '24'!$F$33)","v":""},"",{"$f":"IF('24'!$H$33=\"\", \"\", '24'!$H$33)","v":""}]
[null,null,4,{"$f":"IF('24'!$B$14=\"\", \"\", '24'!$B$14)","v":""},null,null,8,{"$f":"IF('24'!$B$18=\"\", \"\", '24'!$B$18)","v":""},null,null,12,{"$f":"IF('24'!$B$22=\"\", \"\", '24'!$B$22)","v":""},null,null,16,{"$f":"IF('24'!$B$26=\"\", \"\", '24'!$B$26)","v":""},null,null,20,{"$f":"IF('24'!$B$30=\"\", \"\", '24'!$B$30)","v":""},null,null,24,{"$f":"IF('24'!$B$34=\"\", \"\", '24'!$B$34)","v":""},{"$nulls":7},{"$f":"IF('24'!$D$14=\"\", \"\", '24'!$D$14)","v":""},"",{"$f":"IF('24'!$F$14=\"\", \"\", '24'!$F$14)","v":""},"",{"$f":"IF('24'!$H$14=\"\", \"\", '24'!$H$14)","v":""},{"$f":"IF('24'!$D$18=\"\", \"\", '24'!$D$18)","v":""},"",{"$f":"IF('24'!$F$18=\"\", \"\", '24'!$F$18)","v":""},"",{"$f":"IF('24'!$H$18=\"\", \"\", '24'!$H$18)","v":""},{"$f":"IF('24'!$D$22=\"\", \"\", '24'!$D$22)","v":""},"",{"$f":"IF('24'!$F$22=\"\", \"\", '24'!$F$22)","v":""},"",{"$f":"IF('24'!$H$22=\"\", \"\", '24'!$H$22)","v":""},{"$f":"IF('24'!$D$26=\"\", \"\", '24'!$D$26)","v":""},"",{"$f":"IF('24'!$F$26=\"\", \"\", '24'!$F$26)","v":""},"",{"$f":"IF('24'!$H$26=\"\", \"\", '24'!$H$26)","v":""},{"$f":"IF('24'!$D$30=\"\", \"\", '24'!$D$30)","v":""},"",{"$f":"IF('24'!$F$30=\"\", \"\", '24'!$F$30)","v":""},"",{"$f":"IF('24'!$H$30=\"\", \"\", '24'!$H$30)","v":""},{"$f":"IF('24'!$D$34=\"\", \"\", '24'!$D$34)","v":""},"",{"$f":"IF('24'!$F$34=\"\", \"\", '24'!$F$34)","v":""},"",{"$f":"IF('24'!$H$34=\"\", \"\", '24'!$H$34)","v":""}]
[{"$nulls":32},"",null,""]
[{"$f":"info!$B$2&\"        \"&info!$B$3&\", \"&info!$B$4","v":"Jesse Hutton        November, 2014"},25,1,{"$f":"IF('25'!$B$11=\"\", \"\", '25'!$B$11)","v":""},null,null,5,{"$f":"IF('25'!$B$15=\"\", \"\", '25'!$B$15)","v":""},null,null,9,{"$f":"IF('25'!$B$19=\"\", \"\", '25'!$B$19)","v":""},null,null,13,{"$f":"IF('25'!$B$23=\"\", \"\", '25'!$B$23)","v":""},null,null,17,{"$f":"IF('25'!$B$27=\"\", \"\", '25'!$B$27)","v":""},null,null,21,{"$f":"IF('25'!$B$31=\"\", \"\", '25'!$B$31)","v":""},{"$nulls":7},{"$f":"IF('25'!$D$11=\"\", \"\", '25'!$D$11)","v":""},{"$f":"IF(AF154=\"\", \"\", \"/\")","v":""},{"$f":"IF('25'!$F$11=\"\", \"\", '25'!$F$11)","v":""},{"$f":"IF(AJ154=\"\", \"\", \"P\")","v":""},{"$f":"IF('25'!$H$11=\"\", \"\", '25'!$H$11)","v":""},{"$f":"IF('25'!$D$15=\"\", \"\", '25'!$D$15)","v":""},{"$f":"IF(AK154=\"\", \"\", \"/\")","v":""},{"$f":"IF('25'!$F$15=\"\", \"\", '25'!$F$15)","v":""},{"$f":"IF(AO154=\"\", \"\", \"P\")","v":""},{"$f":"IF('25'!$H$15=\"\", \"\", '25'!$H$15)","v":""},{"$f":"IF('25'!$D$19=\"\", \"\", '25'!$D$19)","v":""},{"$f":"IF(AP154=\"\", \"\", \"/\")","v":""},{"$f":"IF('25'!$F$19=\"\", \"\", '25'!$F$19)","v":""},{"$f":"IF(AT154=\"\", \"\", \"P\")","v":""},{"$f":"IF('25'!$H$19=\"\", \"\", '25'!$H$19)","v":""},{"$f":"IF('25'!$D$23=\"\", \"\", '25'!$D$23)","v":""},{"$f":"IF(AU154=\"\", \"\", \"/\")","v":""},{"$f":"IF('25'!$F$23=\"\", \"\", '25'!$F$23)","v":""},{"$f":"IF(AY154=\"\", \"\", \"P\")","v":""},{"$f":"IF('25'!$H$23=\"\", \"\", '25'!$H$23)","v":""},{"$f":"IF('25'!$D$27=\"\", \"\", '25'!$D$27)","v":""},{"$f":"IF(AZ154=\"\", \"\", \"/\")","v":""},{"$f":"IF('25'!$F$27=\"\", \"\", '25'!$F$27)","v":""},{"$f":"IF(BD154=\"\", \"\", \"P\")","v":""},{"$f":"IF('25'!$H$27=\"\", \"\", '25'!$H$27)","v":""},{"$f":"IF('25'!$D$31=\"\", \"\", '25'!$D$31)","v":""},{"$f":"IF(BE154=\"\", \"\", \"/\")","v":""},{"$f":"IF('25'!$F$31=\"\", \"\", '25'!$F$31)","v":""},{"$f":"IF(BI154=\"\", \"\", \"P\")","v":""},{"$f":"IF('25'!$H$31=\"\", \"\", '25'!$H$31)","v":""}]
[null,null,2,{"$f":"IF('25'!$B$12=\"\", \"\", '25'!$B$12)","v":""},null,null,6,{"$f":"IF('25'!$B$16=\"\", \"\", '25'!$B$16)","v":""},null,null,10,{"$f":"IF('25'!$B$20=\"\", \"\", '25'!$B$20)","v":""},null,null,14,{"$f":"IF('25'!$B$24=\"\", \"\", '25'!$B$24)","v":""},null,null,18,{"$f":"IF('25'!$B$28=\"\", \"\", '25'!$B$28)","v":""},null,null,22,{"$f":"IF('25'!$B$32=\"\", \"\", '25'!$B$32)","v":""},{"$nulls":7},{"$f":"IF('25'!$D$12=\"\", \"\", '25'!$D$12)","v":""},{"$f":"IF(AF155=\"\", \"\", \"/\")","v":""},{"$f":"IF('25'!$F$12=\"\", \"\", '25'!$F$12)","v":""},{"$f":"IF(AJ155=\"\", \"\", \"P\")","v":""},{"$f":"IF('25'!$H$12=\"\", \"\", '25'!$H$12)","v":""},{"$f":"IF('25'!$D$16=\"\", \"\", '25'!$D$16)","v":""},{"$f":"IF(AK155=\"\", \"\", \"/\")","v":""},{"$f":"IF('25'!$F$16=\"\", \"\", '25'!$F$16)","v":""},{"$f":"IF(AO155=\"\", \"\", \"P\")","v":""},{"$f":"IF('25'!$H$16=\"\", \"\", '25'!$H$16)","v":""},{"$f":"IF('25'!$D$20=\"\", \"\", '25'!$D$20)","v":""},{"$f":"IF(AP155=\"\", \"\", \"/\")","v":""},{"$f":"IF('25'!$F$20=\"\", \"\", '25'!$F$20)","v":""},{"$f":"IF(AT155=\"\", \"\", \"P\")","v":""},{"$f":"IF('25'!$H$20=\"\", \"\", '25'!$H$20)","v":""},{"$f":"IF('25'!$D$24=\"\", \"\", '25'!$D$24)","v":""},{"$f":"IF(AU155=\"\", \"\", \"/\")","v":""},{"$f":"IF('25'!$F$24=\"\", \"\", '25'!$F$24)","v":""},{"$f":"IF(AY155=\"\", \"\", \"P\")","v":""},{"$f":"IF('25'!$H$24=\"\", \"\", '25'!$H$24)","v":""},{"$f":"IF('25'!$D$28=\"\", \"\", '25'!$D$28)","v":""},{"$f":"IF(AZ155=\"\", \"\", \"/\")","v":""},{"$f":"IF('25'!$F$28=\"\", \"\", '25'!$F$28)","v":""},{"$f":"IF(BD155=\"\", \"\", \"P\")","v":""},{"$f":"IF('25'!$H$28=\"\", \"\", '25'!$H$28)","v":""},{"$f":"IF('25'!$D$32=\"\", \"\", '25'!$D$32)","v":""},{"$f":"IF(BE155=\"\", \"\", \"/\")","v":""},{"$f":"IF('25'!$F$32=\"\", \"\", '25'!$F$32)","v":""},{"$f":"IF(BI155=\"\", \"\", \"P\")","v":""},{"$f":"IF('25'!$H$32=\"\", \"\", '25'!$H$32)","v":""}]
[null,null,3,{"$f":"IF('25'!$B$13=\"\", \"\", '25'!$B$13)","v":""},null,null,7,{"$f":"IF('25'!$B$17=\"\", \"\", '25'!$B$17)","v":""},null,null,11,{"$f":"IF('25'!$B$21=\"\", \"\", '25'!$B$21)","v":""},null,null,15,{"$f":"IF('25'!$B$25=\"\", \"\", '25'!$B$25)","v":""},null,null,19,{"$f":"IF('25'!$B$29=\"\", \"\", '25'!$B$29)","v":""},null,null,23,{"$f":"IF('25'!$B$33=\"\", \"\", '25'!$B$33)","v":""},{"$nulls":7},{"$f":"IF('25'!$D$13=\"\", \"\", '25'!$D$13)","v":""},"",{"$f":"IF('25'!$F$13=\"\", \"\", '25'!$F$13)","v":""},"",{"$f":"IF('25'!$H$13=\"\", \"\", '25'!$H$13)","v":""},{"$f":"IF('25'!$D$17=\"\", \"\", '25'!$D$17)","v":""},"",{"$f":"IF('25'!$F$17=\"\", \"\", '25'!$F$17)","v":""},"",{"$f":"IF('25'!$H$17=\"\", \"\", '25'!$H$17)","v":""},{"$f":"IF('25'!$D$21=\"\", \"\", '25'!$D$21)","v":""},"",{"$f":"IF('25'!$F$21=\"\", \"\", '25'!$F$21)","v":""},"",{"$f":"IF('25'!$H$21=\"\", \"\", '25'!$H$21)","v":""},{"$f":"IF('25'!$D$25=\"\", \"\", '25'!$D$25)","v":""},"",{"$f":"IF('25'!$F$25=\"\", \"\", '25'!$F$25)","v":""},"",{"$f":"IF('25'!$H$25=\"\", \"\", '25'!$H$25)","v":""},{"$f":"IF('25'!$D$29=\"\", \"\", '25'!$D$29)","v":""},"",{"$f":"IF('25'!$F$29=\"\", \"\", '25'!$F$29)","v":""},"",{"$f":"IF('25'!$H$29=\"\", \"\", '25'!$H$29)","v":""},{"$f":"IF('25'!$D$33=\"\", \"\", '25'!$D$33)","v":""},"",{"$f":"IF('25'!$F$33=\"\", \"\", '25'!$F$33)","v":""},"",{"$f":"IF('25'!$H$33=\"\", \"\", '25'!$H$33)","v":""}]
[null,null,4,{"$f":"IF('25'!$B$14=\"\", \"\", '25'!$B$14)","v":""},null,null,8,{"$f":"IF('25'!$B$18=\"\", \"\", '25'!$B$18)","v":""},null,null,12,{"$f":"IF('25'!$B$22=\"\", \"\", '25'!$B$22)","v":""},null,null,16,{"$f":"IF('25'!$B$26=\"\", \"\", '25'!$B$26)","v":""},null,null,20,{"$f":"IF('25'!$B$30=\"\", \"\", '25'!$B$30)","v":""},null,null,24,{"$f":"IF('25'!$B$34=\"\", \"\", '25'!$B$34)","v":""},{"$nulls":7},{"$f":"IF('25'!$D$14=\"\", \"\", '25'!$D$14)","v":""},"",{"$f":"IF('25'!$F$14=\"\", \"\", '25'!$F$14)","v":""},"",{"$f":"IF('25'!$H$14=\"\", \"\", '25'!$H$14)","v":""},{"$f":"IF('25'!$D$18=\"\", \"\", '25'!$D$18)","v":""},"",{"$f":"IF('25'!$F$18=\"\", \"\", '25'!$F$18)","v":""},"",{"$f":"IF('25'!$H$18=\"\", \"\", '25'!$H$18)","v":""},{"$f":"IF('25'!$D$22=\"\", \"\", '25'!$D$22)","v":""},"",{"$f":"IF('25'!$F$22=\"\", \"\", '25'!$F$22)","v":""},"",{"$f":"IF('25'!$H$22=\"\", \"\", '25'!$H$22)","v":""},{"$f":"IF('25'!$D$26=\"\", \"\", '25'!$D$26)","v":""},"",{"$f":"IF('25'!$F$26=\"\", \"\", '25'!$F$26)","v":""},"",{"$f":"IF('25'!$H$26=\"\", \"\", '25'!$H$26)","v":""},{"$f":"IF('25'!$D$30=\"\", \"\", '25'!$D$30)","v":""},"",{"$f":"IF('25'!$F$30=\"\", \"\", '25'!$F$30)","v":""},"",{"$f":"IF('25'!$H$30=\"\", \"\", '25'!$H$30)","v":""},{"$f":"IF('25'!$D$34=\"\", \"\", '25'!$D$34)","v":""},"",{"$f":"IF('25'!$F$34=\"\", \"\", '25'!$F$34)","v":""},"",{"$f":"IF('25'!$H$34=\"\", \"\", '25'!$H$34)","v":""}]
[{"$nulls":32},"",null,""]
[null,26,1,{"$f":"IF('26'!$B$11=\"\", \"\", '26'!$B$11)","v":""},null,null,5,{"$f":"IF('26'!$B$15=\"\", \"\", '26'!$B$15)","v":""},null,null,9,{"$f":"IF('26'!$B$19=\"\", \"\", '26'!$B$19)","v":""},null,null,13,{"$f":"IF('26'!$B$23=\"\", \"\", '26'!$B$23)","v":""},null,null,17,{"$f":"IF('26'!$B$27=\"\", \"\", '26'!$B$27)","v":""},null,null,21,{"$f":"IF('26'!$B$31=\"\", \"\", '26'!$B$31)","v":""},{"$nulls":7},{"$f":"IF('26'!$D$11=\"\", \"\", '26'!$D$11)","v":""},{"$f":"IF(AF159=\"\", \"\", \"/\")","v":""},{"$f":"IF('26'!$F$11=\"\", \"\", '26'!$F$11)","v":""},{"$f":"IF(AJ159=\"\", \"\", \"P\")","v":""},{"$f":"IF('26'!$H$11=\"\", \"\", '26'!$H$11)","v":""},{"$f":"IF('26'!$D$15=\"\", \"\", '26'!$D$15)","v":""},{"$f":"IF(AK159=\"\", \"\", \"/\")","v":""},{"$f":"IF('26'!$F$15=\"\", \"\", '26'!$F$15)","v":""},{"$f":"IF(AO159=\"\", \"\", \"P\")","v":""},{"$f":"IF('26'!$H$15=\"\", \"\", '26'!$H$15)","v":""},{"$f":"IF('26'!$D$19=\"\", \"\", '26'!$D$19)","v":""},{"$f":"IF(AP159=\"\", \"\", \"/\")","v":""},{"$f":"IF('26'!$F$19=\"\", \"\", '26'!$F$19)","v":""},{"$f":"IF(AT159=\"\", \"\", \"P\")","v":""},{"$f":"IF('26'!$H$19=\"\", \"\", '26'!$H$19)","v":""},{"$f":"IF('26'!$D$23=\"\", \"\", '26'!$D$23)","v":""},{"$f":"IF(AU159=\"\", \"\", \"/\")","v":""},{"$f":"IF('26'!$F$23=\"\", \"\", '26'!$F$23)","v":""},{"$f":"IF(AY159=\"\", \"\", \"P\")","v":""},{"$f":"IF('26'!$H$23=\"\", \"\", '26'!$H$23)","v":""},{"$f":"IF('26'!$D$27=\"\", \"\", '26'!$D$27)","v":""},{"$f":"IF(AZ159=\"\", \"\", \"/\")","v":""},{"$f":"IF('26'!$F$27=\"\", \"\", '26'!$F$27)","v":""},{"$f":"IF(BD159=\"\", \"\", \"P\")","v":""},{"$f":"IF('26'!$H$27=\"\", \"\", '26'!$H$27)","v":""},{"$f":"IF('26'!$D$31=\"\", \"\", '26'!$D$31)","v":""},{"$f":"IF(BE159=\"\", \"\", \"/\")","v":""},{"$f":"IF('26'!$F$31=\"\", \"\", '26'!$F$31)","v":""},{"$f":"IF(BI159=\"\", \"\", \"P\")","v":""},{"$f":"IF('26'!$H$31=\"\", \"\", '26'!$H$31)","v":""}]
[null,null,2,{"$f":"IF('26'!$B$12=\"\", \"\", '26'!$B$12)","v":""},null,null,6,{"$f":"IF('26'!$B$16=\"\", \"\", '26'!$B$16)","v":""},null,null,10,{"$f":"IF('26'!$B$20=\"\", \"\", '26'!$B$20)","v":""},null,null,14,{"$f":"IF('26'!$B$24=\"\", \"\", '26'!$B$24)","v":""},null,null,18,{"$f":"IF('26'!$B$28=\"\", \"\", '26'!$B$28)","v":""},null,null,22,{"$f":"IF('26'!$B$32=\"\", \"\", '26'!$B$32)","v":""},{"$nulls":7},{"$f":"IF('26'!$D$12=\"\", \"\", '26'!$D$12)","v":""},{"$f":"IF(AF160=\"\", \"\", \"/\")","v":""},{"$f":"IF('26'!$F$12=\"\", \"\", '26'!$F$12)","v":""},{"$f":"IF(AJ160=\"\", \"\", \"P\")","v":""},{"$f":"IF('26'!$H$12=\"\", \"\", '26'!$H$12)","v":""},{"$f":"IF('26'!$D$16=\"\", \"\", '26'!$D$16)","v":""},{"$f":"IF(AK160=\"\", \"\", \"/\")","v":""},{"$f":"IF('26'!$F$16=\"\", \"\", '26'!$F$16)","v":""},{"$f":"IF(AO160=\"\", \"\", \"P\")","v":""},{"$f":"IF('26'!$H$16=\"\", \"\", '26'!$H$16)","v":""},{"$f":"IF('26'!$D$20=\"\", \"\", '26'!$D$20)","v":""},{"$f":"IF(AP160=\"\", \"\", \"/\")","v":""},{"$f":"IF('26'!$F$20=\"\", \"\", '26'!$F$20)","v":""},{"$f":"IF(AT160=\"\", \"\", \"P\")","v":""},{"$f":"IF('26'!$H$20=\"\", \"\", '26'!$H$20)","v":""},{"$f":"IF('26'!$D$24=\"\", \"\", '26'!$D$24)","v":""},{"$f":"IF(AU160=\"\", \"\", \"/\")","v":""},{"$f":"IF('26'!$F$24=\"\", \"\", '26'!$F$24)","v":""},{"$f":"IF(AY160=\"\", \"\", \"P\")","v":""},{"$f":"IF('26'!$H$24=\"\", \"\", '26'!$H$24)","v":""},{"$f":"IF('26'!$D$28=\"\", \"\", '26'!$D$28)","v":""},{"$f":"IF(AZ160=\"\", \"\", \"/\")","v":""},{"$f":"IF('26'!$F$28=\"\", \"\", '26'!$F$28)","v":""},{"$f":"IF(BD160=\"\", \"\", \"P\")","v":""},{"$f":"IF('26'!$H$28=\"\", \"\", '26'!$H$28)","v":""},{"$f":"IF('26'!$D$32=\"\", \"\", '26'!$D$32)","v":""},{"$f":"IF(BE160=\"\", \"\", \"/\")","v":""},{"$f":"IF('26'!$F$32=\"\", \"\", '26'!$F$32)","v":""},{"$f":"IF(BI160=\"\", \"\", \"P\")","v":""},{"$f":"IF('26'!$H$32=\"\", \"\", '26'!$H$32)","v":""}]
[null,null,3,{"$f":"IF('26'!$B$13=\"\", \"\", '26'!$B$13)","v":""},null,null,7,{"$f":"IF('26'!$B$17=\"\", \"\", '26'!$B$17)","v":""},null,null,11,{"$f":"IF('26'!$B$21=\"\", \"\", '26'!$B$21)","v":""},null,null,15,{"$f":"IF('26'!$B$25=\"\", \"\", '26'!$B$25)","v":""},null,null,19,{"$f":"IF('26'!$B$29=\"\", \"\", '26'!$B$29)","v":""},null,null,23,{"$f":"IF('26'!$B$33=\"\", \"\", '26'!$B$33)","v":""},{"$nulls":7},{"$f":"IF('26'!$D$13=\"\", \"\", '26'!$D$13)","v":""},"",{"$f":"IF('26'!$F$13=\"\", \"\", '26'!$F$13)","v":""},"",{"$f":"IF('26'!$H$13=\"\", \"\", '26'!$H$13)","v":""},{"$f":"IF('26'!$D$17=\"\", \"\", '26'!$D$17)","v":""},"",{"$f":"IF('26'!$F$17=\"\", \"\", '26'!$F$17)","v":""},"",{"$f":"IF('26'!$H$17=\"\", \"\", '26'!$H$17)","v":""},{"$f":"IF('26'!$D$21=\"\", \"\", '26'!$D$21)","v":""},"",{"$f":"IF('26'!$F$21=\"\", \"\", '26'!$F$21)","v":""},"",{"$f":"IF('26'!$H$21=\"\", \"\", '26'!$H$21)","v":""},{"$f":"IF('26'!$D$25=\"\", \"\", '26'!$D$25)","v":""},"",{"$f":"IF('26'!$F$25=\"\", \"\", '26'!$F$25)","v":""},"",{"$f":"IF('26'!$H$25=\"\", \"\", '26'!$H$25)","v":""},{"$f":"IF('26'!$D$29=\"\", \"\", '26'!$D$29)","v":""},"",{"$f":"IF('26'!$F$29=\"\", \"\", '26'!$F$29)","v":""},"",{"$f":"IF('26'!$H$29=\"\", \"\", '26'!$H$29)","v":""},{"$f":"IF('26'!$D$33=\"\", \"\", '26'!$D$33)","v":""},"",{"$f":"IF('26'!$F$33=\"\", \"\", '26'!$F$33)","v":""},"",{"$f":"IF('26'!$H$33=\"\", \"\", '26'!$H$33)","v":""}]
[null,null,4,{"$f":"IF('26'!$B$14=\"\", \"\", '26'!$B$14)","v":""},null,null,8,{"$f":"IF('26'!$B$18=\"\", \"\", '26'!$B$18)","v":""},null,null,12,{"$f":"IF('26'!$B$22=\"\", \"\", '26'!$B$22)","v":""},null,null,16,{"$f":"IF('26'!$B$26=\"\", \"\", '26'!$B$26)","v":""},null,null,20,{"$f":"IF('26'!$B$30=\"\", \"\", '26'!$B$30)","v":""},null,null,24,{"$f":"IF('26'!$B$34=\"\", \"\", '26'!$B$34)","v":""},{"$nulls":7},{"$f":"IF('26'!$D$14=\"\", \"\", '26'!$D$14)","v":""},"",{"$f":"IF('26'!$F$14=\"\", \"\", '26'!$F$14)","v":""},"",{"$f":"IF('26'!$H$14=\"\", \"\", '26'!$H$14)","v":""},{"$f":"IF('26'!$D$18=\"\", \"\", '26'!$D$18)","v":""},"",{"$f":"IF('26'!$F$18=\"\", \"\", '26'!$F$18)","v":""},"",{"$f":"IF('26'!$H$18=\"\", \"\", '26'!$H$18)","v":""},{"$f":"IF('26'!$D$22=\"\", \"\", '26'!$D$22)","v":""},"",{"$f":"IF('26'!$F$22=\"\", \"\", '26'!$F$22)","v":""},"",{"$f":"IF('26'!$H$22=\"\", \"\", '26'!$H$22)","v":""},{"$f":"IF('26'!$D$26=\"\", \"\", '26'!$D$26)","v":""},"",{"$f":"IF('26'!$F$26=\"\", \"\", '26'!$F$26)","v":""},"",{"$f":"IF('26'!$H$26=\"\", \"\", '26'!$H$26)","v":""},{"$f":"IF('26'!$D$30=\"\", \"\", '26'!$D$30)","v":""},"",{"$f":"IF('26'!$F$30=\"\", \"\", '26'!$F$30)","v":""},"",{"$f":"IF('26'!$H$30=\"\", \"\", '26'!$H$30)","v":""},{"$f":"IF('26'!$D$34=\"\", \"\", '26'!$D$34)","v":""},"",{"$f":"IF('26'!$F$34=\"\", \"\", '26'!$F$34)","v":""},"",{"$f":"IF('26'!$H$34=\"\", \"\", '26'!$H$34)","v":""}]
[{"$nulls":32},{"$f":"IF(AF163=\"\", \"\", \"/\")","v":""},null,{"$f":"IF(AJ163=\"\", \"\", \"P\")","v":""}]
[null,27,1,{"$f":"IF('27'!$B$11=\"\", \"\", '27'!$B$11)","v":""},null,null,5,{"$f":"IF('27'!$B$15=\"\", \"\", '27'!$B$15)","v":""},null,null,9,{"$f":"IF('27'!$B$19=\"\", \"\", '27'!$B$19)","v":""},null,null,13,{"$f":"IF('27'!$B$23=\"\", \"\", '27'!$B$23)","v":""},null,null,17,{"$f":"IF('27'!$B$27=\"\", \"\", '27'!$B$27)","v":""},null,null,21,{"$f":"IF('27'!$B$31=\"\", \"\", '27'!$B$31)","v":""},{"$nulls":7},{"$f":"IF('27'!$D$11=\"\", \"\", '27'!$D$11)","v":""},{"$f":"IF(AF164=\"\", \"\", \"/\")","v":""},{"$f":"IF('27'!$F$11=\"\", \"\", '27'!$F$11)","v":""},{"$f":"IF(AJ164=\"\", \"\", \"P\")","v":""},{"$f":"IF('27'!$H$11=\"\", \"\", '27'!$H$11)","v":""},{"$f":"IF('27'!$D$15=\"\", \"\", '27'!$D$15)","v":""},{"$f":"IF(AK164=\"\", \"\", \"/\")","v":""},{"$f":"IF('27'!$F$15=\"\", \"\", '27'!$F$15)","v":""},{"$f":"IF(AO164=\"\", \"\", \"P\")","v":""},{"$f":"IF('27'!$H$15=\"\", \"\", '27'!$H$15)","v":""},{"$f":"IF('27'!$D$19=\"\", \"\", '27'!$D$19)","v":""},{"$f":"IF(AP164=\"\", \"\", \"/\")","v":""},{"$f":"IF('27'!$F$19=\"\", \"\", '27'!$F$19)","v":""},{"$f":"IF(AT164=\"\", \"\", \"P\")","v":""},{"$f":"IF('27'!$H$19=\"\", \"\", '27'!$H$19)","v":""},{"$f":"IF('27'!$D$23=\"\", \"\", '27'!$D$23)","v":""},{"$f":"IF(AU164=\"\", \"\", \"/\")","v":""},{"$f":"IF('27'!$F$23=\"\", \"\", '27'!$F$23)","v":""},{"$f":"IF(AY164=\"\", \"\", \"P\")","v":""},{"$f":"IF('27'!$H$23=\"\", \"\", '27'!$H$23)","v":""},{"$f":"IF('27'!$D$27=\"\", \"\", '27'!$D$27)","v":""},{"$f":"IF(AZ164=\"\", \"\", \"/\")","v":""},{"$f":"IF('27'!$F$27=\"\", \"\", '27'!$F$27)","v":""},{"$f":"IF(BD164=\"\", \"\", \"P\")","v":""},{"$f":"IF('27'!$H$27=\"\", \"\", '27'!$H$27)","v":""},{"$f":"IF('27'!$D$31=\"\", \"\", '27'!$D$31)","v":""},{"$f":"IF(BE164=\"\", \"\", \"/\")","v":""},{"$f":"IF('27'!$F$31=\"\", \"\", '27'!$F$31)","v":""},{"$f":"IF(BI164=\"\", \"\", \"P\")","v":""},{"$f":"IF('27'!$H$31=\"\", \"\", '27'!$H$31)","v":""}]
[null,null,2,{"$f":"IF('27'!$B$12=\"\", \"\", '27'!$B$12)","v":""},null,null,6,{"$f":"IF('27'!$B$16=\"\", \"\", '27'!$B$16)","v":""},null,null,10,{"$f":"IF('27'!$B$20=\"\", \"\", '27'!$B$20)","v":""},null,null,14,{"$f":"IF('27'!$B$24=\"\", \"\", '27'!$B$24)","v":""},null,null,18,{"$f":"IF('27'!$B$28=\"\", \"\", '27'!$B$28)","v":""},null,null,22,{"$f":"IF('27'!$B$32=\"\", \"\", '27'!$B$32)","v":""},{"$nulls":7},{"$f":"IF('27'!$D$12=\"\", \"\", '27'!$D$12)","v":""},{"$f":"IF(AF165=\"\", \"\", \"/\")","v":""},{"$f":"IF('27'!$F$12=\"\", \"\", '27'!$F$12)","v":""},{"$f":"IF(AJ165=\"\", \"\", \"P\")","v":""},{"$f":"IF('27'!$H$12=\"\", \"\", '27'!$H$12)","v":""},{"$f":"IF('27'!$D$16=\"\", \"\", '27'!$D$16)","v":""},{"$f":"IF(AK165=\"\", \"\", \"/\")","v":""},{"$f":"IF('27'!$F$16=\"\", \"\", '27'!$F$16)","v":""},{"$f":"IF(AO165=\"\", \"\", \"P\")","v":""},{"$f":"IF('27'!$H$16=\"\", \"\", '27'!$H$16)","v":""},{"$f":"IF('27'!$D$20=\"\", \"\", '27'!$D$20)","v":""},{"$f":"IF(AP165=\"\", \"\", \"/\")","v":""},{"$f":"IF('27'!$F$20=\"\", \"\", '27'!$F$20)","v":""},{"$f":"IF(AT165=\"\", \"\", \"P\")","v":""},{"$f":"IF('27'!$H$20=\"\", \"\", '27'!$H$20)","v":""},{"$f":"IF('27'!$D$24=\"\", \"\", '27'!$D$24)","v":""},{"$f":"IF(AU165=\"\", \"\", \"/\")","v":""},{"$f":"IF('27'!$F$24=\"\", \"\", '27'!$F$24)","v":""},{"$f":"IF(AY165=\"\", \"\", \"P\")","v":""},{"$f":"IF('27'!$H$24=\"\", \"\", '27'!$H$24)","v":""},{"$f":"IF('27'!$D$28=\"\", \"\", '27'!$D$28)","v":""},{"$f":"IF(AZ165=\"\", \"\", \"/\")","v":""},{"$f":"IF('27'!$F$28=\"\", \"\", '27'!$F$28)","v":""},{"$f":"IF(BD165=\"\", \"\", \"P\")","v":""},{"$f":"IF('27'!$H$28=\"\", \"\", '27'!$H$28)","v":""},{"$f":"IF('27'!$D$32=\"\", \"\", '27'!$D$32)","v":""},{"$f":"IF(BE165=\"\", \"\", \"/\")","v":""},{"$f":"IF('27'!$F$32=\"\", \"\", '27'!$F$32)","v":""},{"$f":"IF(BI165=\"\", \"\", \"P\")","v":""},{"$f":"IF('27'!$H$32=\"\", \"\", '27'!$H$32)","v":""}]
[null,null,3,{"$f":"IF('27'!$B$13=\"\", \"\", '27'!$B$13)","v":""},null,null,7,{"$f":"IF('27'!$B$17=\"\", \"\", '27'!$B$17)","v":""},null,null,11,{"$f":"IF('27'!$B$21=\"\", \"\", '27'!$B$21)","v":""},null,null,15,{"$f":"IF('27'!$B$25=\"\", \"\", '27'!$B$25)","v":""},null,null,19,{"$f":"IF('27'!$B$29=\"\", \"\", '27'!$B$29)","v":""},null,null,23,{"$f":"IF('27'!$B$33=\"\", \"\", '27'!$B$33)","v":""},{"$nulls":7},{"$f":"IF('27'!$D$13=\"\", \"\", '27'!$D$13)","v":""},"",{"$f":"IF('27'!$F$13=\"\", \"\", '27'!$F$13)","v":""},"",{"$f":"IF('27'!$H$13=\"\", \"\", '27'!$H$13)","v":""},{"$f":"IF('27'!$D$17=\"\", \"\", '27'!$D$17)","v":""},"",{"$f":"IF('27'!$F$17=\"\", \"\", '27'!$F$17)","v":""},"",{"$f":"IF('27'!$H$17=\"\", \"\", '27'!$H$17)","v":""},{"$f":"IF('27'!$D$21=\"\", \"\", '27'!$D$21)","v":""},"",{"$f":"IF('27'!$F$21=\"\", \"\", '27'!$F$21)","v":""},"",{"$f":"IF('27'!$H$21=\"\", \"\", '27'!$H$21)","v":""},{"$f":"IF('27'!$D$25=\"\", \"\", '27'!$D$25)","v":""},"",{"$f":"IF('27'!$F$25=\"\", \"\", '27'!$F$25)","v":""},"",{"$f":"IF('27'!$H$25=\"\", \"\", '27'!$H$25)","v":""},{"$f":"IF('27'!$D$29=\"\", \"\", '27'!$D$29)","v":""},"",{"$f":"IF('27'!$F$29=\"\", \"\", '27'!$F$29)","v":""},"",{"$f":"IF('27'!$H$29=\"\", \"\", '27'!$H$29)","v":""},{"$f":"IF('27'!$D$33=\"\", \"\", '27'!$D$33)","v":""},"",{"$f":"IF('27'!$F$33=\"\", \"\", '27'!$F$33)","v":""},"",{"$f":"IF('27'!$H$33=\"\", \"\", '27'!$H$33)","v":""}]
[null,null,4,{"$f":"IF('27'!$B$14=\"\", \"\", '27'!$B$14)","v":""},null,null,8,{"$f":"IF('27'!$B$18=\"\", \"\", '27'!$B$18)","v":""},null,null,12,{"$f":"IF('27'!$B$22=\"\", \"\", '27'!$B$22)","v":""},null,null,16,{"$f":"IF('27'!$B$26=\"\", \"\", '27'!$B$26)","v":""},null,null,20,{"$f":"IF('27'!$B$30=\"\", \"\", '27'!$B$30)","v":""},null,null,24,{"$f":"IF('27'!$B$34=\"\", \"\", '27'!$B$34)","v":""},{"$nulls":7},{"$f":"IF('27'!$D$14=\"\", \"\", '27'!$D$14)","v":""},"",{"$f":"IF('27'!$F$14=\"\", \"\", '27'!$F$14)","v":""},"",{"$f":"IF('27'!$H$14=\"\", \"\", '27'!$H$14)","v":""},{"$f":"IF('27'!$D$18=\"\", \"\", '27'!$D$18)","v":""},"",{"$f":"IF('27'!$F$18=\"\", \"\", '27'!$F$18)","v":""},"",{"$f":"IF('27'!$H$18=\"\", \"\", '27'!$H$18)","v":""},{"$f":"IF('27'!$D$22=\"\", \"\", '27'!$D$22)","v":""},"",{"$f":"IF('27'!$F$22=\"\", \"\", '27'!$F$22)","v":""},"",{"$f":"IF('27'!$H$22=\"\", \"\", '27'!$H$22)","v":""},{"$f":"IF('27'!$D$26=\"\", \"\", '27'!$D$26)","v":""},"",{"$f":"IF('27'!$F$26=\"\", \"\", '27'!$F$26)","v":""},"",{"$f":"IF('27'!$H$26=\"\", \"\", '27'!$H$26)","v":""},{"$f":"IF('27'!$D$30=\"\", \"\", '27'!$D$30)","v":""},"",{"$f":"IF('27'!$F$30=\"\", \"\", '27'!$F$30)","v":""},"",{"$f":"IF('27'!$H$30=\"\", \"\", '27'!$H$30)","v":""},{"$f":"IF('27'!$D$34=\"\", \"\", '27'!$D$34)","v":""},"",{"$f":"IF('27'!$F$34=\"\", \"\", '27'!$F$34)","v":""},"",{"$f":"IF('27'!$H$34=\"\", \"\", '27'!$H$34)","v":""}]
[{"$nulls":32},"",null,""]
[null,28,1,{"$f":"IF('28'!$B$11=\"\", \"\", '28'!$B$11)","v":""},null,null,5,{"$f":"IF('28'!$B$15=\"\", \"\", '28'!$B$15)","v":""},null,null,9,{"$f":"IF('28'!$B$19=\"\", \"\", '28'!$B$19)","v":""},null,null,13,{"$f":"IF('28'!$B$23=\"\", \"\", '28'!$B$23)","v":""},null,null,17,{"$f":"IF('28'!$B$27=\"\", \"\", '28'!$B$27)","v":""},null,null,21,{"$f":"IF('28'!$B$31=\"\", \"\", '28'!$B$31)","v":""},{"$nulls":7},{"$f":"IF('28'!$D$11=\"\", \"\", '28'!$D$11)","v":""},{"$f":"IF(AF169=\"\", \"\", \"/\")","v":""},{"$f":"IF('28'!$F$11=\"\", \"\", '28'!$F$11)","v":""},{"$f":"IF(AJ169=\"\", \"\", \"P\")","v":""},{"$f":"IF('28'!$H$11=\"\", \"\", '28'!$H$11)","v":""},{"$f":"IF('28'!$D$15=\"\", \"\", '28'!$D$15)","v":""},{"$f":"IF(AK169=\"\", \"\", \"/\")","v":""},{"$f":"IF('28'!$F$15=\"\", \"\", '28'!$F$15)","v":""},{"$f":"IF(AO169=\"\", \"\", \"P\")","v":""},{"$f":"IF('28'!$H$15=\"\", \"\", '28'!$H$15)","v":""},{"$f":"IF('28'!$D$19=\"\", \"\", '28'!$D$19)","v":""},{"$f":"IF(AP169=\"\", \"\", \"/\")","v":""},{"$f":"IF('28'!$F$19=\"\", \"\", '28'!$F$19)","v":""},{"$f":"IF(AT169=\"\", \"\", \"P\")","v":""},{"$f":"IF('28'!$H$19=\"\", \"\", '28'!$H$19)","v":""},{"$f":"IF('28'!$D$23=\"\", \"\", '28'!$D$23)","v":""},{"$f":"IF(AU169=\"\", \"\", \"/\")","v":""},{"$f":"IF('28'!$F$23=\"\", \"\", '28'!$F$23)","v":""},{"$f":"IF(AY169=\"\", \"\", \"P\")","v":""},{"$f":"IF('28'!$H$23=\"\", \"\", '28'!$H$23)","v":""},{"$f":"IF('28'!$D$27=\"\", \"\", '28'!$D$27)","v":""},{"$f":"IF(AZ169=\"\", \"\", \"/\")","v":""},{"$f":"IF('28'!$F$27=\"\", \"\", '28'!$F$27)","v":""},{"$f":"IF(BD169=\"\", \"\", \"P\")","v":""},{"$f":"IF('28'!$H$27=\"\", \"\", '28'!$H$27)","v":""},{"$f":"IF('28'!$D$31=\"\", \"\", '28'!$D$31)","v":""},{"$f":"IF(BE169=\"\", \"\", \"/\")","v":""},{"$f":"IF('28'!$F$31=\"\", \"\", '28'!$F$31)","v":""},{"$f":"IF(BI169=\"\", \"\", \"P\")","v":""},{"$f":"IF('28'!$H$31=\"\", \"\", '28'!$H$31)","v":""}]
[null,null,2,{"$f":"IF('28'!$B$12=\"\", \"\", '28'!$B$12)","v":""},null,null,6,{"$f":"IF('28'!$B$16=\"\", \"\", '28'!$B$16)","v":""},null,null,10,{"$f":"IF('28'!$B$20=\"\", \"\", '28'!$B$20)","v":""},null,null,14,{"$f":"IF('28'!$B$24=\"\", \"\", '28'!$B$24)","v":""},null,null,18,{"$f":"IF('28'!$B$28=\"\", \"\", '28'!$B$28)","v":""},null,null,22,{"$f":"IF('28'!$B$32=\"\", \"\", '28'!$B$32)","v":""},{"$nulls":7},{"$f":"IF('28'!$D$12=\"\", \"\", '28'!$D$12)","v":""},{"$f":"IF(AF170=\"\", \"\", \"/\")","v":""},{"$f":"IF('28'!$F$12=\"\", \"\", '28'!$F$12)","v":""},{"$f":"IF(AJ170=\"\", \"\", \"P\")","v":""},{"$f":"IF('28'!$H$12=\"\", \"\", '28'!$H$12)","v":""},{"$f":"IF('28'!$D$16=\"\", \"\", '28'!$D$16)","v":""},{"$f":"IF(AK170=\"\", \"\", \"/\")","v":""},{"$f":"IF('28'!$F$16=\"\", \"\", '28'!$F$16)","v":""},{"$f":"IF(AO170=\"\", \"\", \"P\")","v":""},{"$f":"IF('28'!$H$16=\"\", \"\", '28'!$H$16)","v":""},{"$f":"IF('28'!$D$20=\"\", \"\", '28'!$D$20)","v":""},{"$f":"IF(AP170=\"\", \"\", \"/\")","v":""},{"$f":"IF('28'!$F$20=\"\", \"\", '28'!$F$20)","v":""},{"$f":"IF(AT170=\"\", \"\", \"P\")","v":""},{"$f":"IF('28'!$H$20=\"\", \"\", '28'!$H$20)","v":""},{"$f":"IF('28'!$D$24=\"\", \"\", '28'!$D$24)","v":""},{"$f":"IF(AU170=\"\", \"\", \"/\")","v":""},{"$f":"IF('28'!$F$24=\"\", \"\", '28'!$F$24)","v":""},{"$f":"IF(AY170=\"\", \"\", \"P\")","v":""},{"$f":"IF('28'!$H$24=\"\", \"\", '28'!$H$24)","v":""},{"$f":"IF('28'!$D$28=\"\", \"\", '28'!$D$28)","v":""},{"$f":"IF(AZ170=\"\", \"\", \"/\")","v":""},{"$f":"IF('28'!$F$28=\"\", \"\", '28'!$F$28)","v":""},{"$f":"IF(BD170=\"\", \"\", \"P\")","v":""},{"$f":"IF('28'!$H$28=\"\", \"\", '28'!$H$28)","v":""},{"$f":"IF('28'!$D$32=\"\", \"\", '28'!$D$32)","v":""},{"$f":"IF(BE170=\"\", \"\", \"/\")","v":""},{"$f":"IF('28'!$F$32=\"\", \"\", '28'!$F$32)","v":""},{"$f":"IF(BI170=\"\", \"\", \"P\")","v":""},{"$f":"IF('28'!$H$32=\"\", \"\", '28'!$H$32)","v":""}]
[null,null,3,{"$f":"IF('28'!$B$13=\"\", \"\", '28'!$B$13)","v":""},null,null,7,{"$f":"IF('28'!$B$17=\"\", \"\", '28'!$B$17)","v":""},null,null,11,{"$f":"IF('28'!$B$21=\"\", \"\", '28'!$B$21)","v":""},null,null,15,{"$f":"IF('28'!$B$25=\"\", \"\", '28'!$B$25)","v":""},null,null,19,{"$f":"IF('28'!$B$29=\"\", \"\", '28'!$B$29)","v":""},null,null,23,{"$f":"IF('28'!$B$33=\"\", \"\", '28'!$B$33)","v":""},{"$nulls":7},{"$f":"IF('28'!$D$13=\"\", \"\", '28'!$D$13)","v":""},"",{"$f":"IF('28'!$F$13=\"\", \"\", '28'!$F$13)","v":""},"",{"$f":"IF('28'!$H$13=\"\", \"\", '28'!$H$13)","v":""},{"$f":"IF('28'!$D$17=\"\", \"\", '28'!$D$17)","v":""},"",{"$f":"IF('28'!$F$17=\"\", \"\", '28'!$F$17)","v":""},"",{"$f":"IF('28'!$H$17=\"\", \"\", '28'!$H$17)","v":""},{"$f":"IF('28'!$D$21=\"\", \"\", '28'!$D$21)","v":""},"",{"$f":"IF('28'!$F$21=\"\", \"\", '28'!$F$21)","v":""},"",{"$f":"IF('28'!$H$21=\"\", \"\", '28'!$H$21)","v":""},{"$f":"IF('28'!$D$25=\"\", \"\", '28'!$D$25)","v":""},"",{"$f":"IF('28'!$F$25=\"\", \"\", '28'!$F$25)","v":""},"",{"$f":"IF('28'!$H$25=\"\", \"\", '28'!$H$25)","v":""},{"$f":"IF('28'!$D$29=\"\", \"\", '28'!$D$29)","v":""},"",{"$f":"IF('28'!$F$29=\"\", \"\", '28'!$F$29)","v":""},"",{"$f":"IF('28'!$H$29=\"\", \"\", '28'!$H$29)","v":""},{"$f":"IF('28'!$D$33=\"\", \"\", '28'!$D$33)","v":""},"",{"$f":"IF('28'!$F$33=\"\", \"\", '28'!$F$33)","v":""},"",{"$f":"IF('28'!$H$33=\"\", \"\", '28'!$H$33)","v":""}]
[null,null,4,{"$f":"IF('28'!$B$14=\"\", \"\", '28'!$B$14)","v":""},null,null,8,{"$f":"IF('28'!$B$18=\"\", \"\", '28'!$B$18)","v":""},null,null,12,{"$f":"IF('28'!$B$22=\"\", \"\", '28'!$B$22)","v":""},null,null,16,{"$f":"IF('28'!$B$26=\"\", \"\", '28'!$B$26)","v":""},null,null,20,{"$f":"IF('28'!$B$30=\"\", \"\", '28'!$B$30)","v":""},null,null,24,{"$f":"IF('28'!$B$34=\"\", \"\", '28'!$B$34)","v":""},{"$nulls":7},{"$f":"IF('28'!$D$14=\"\", \"\", '28'!$D$14)","v":""},"",{"$f":"IF('28'!$F$14=\"\", \"\", '28'!$F$14)","v":""},"",{"$f":"IF('28'!$H$14=\"\", \"\", '28'!$H$14)","v":""},{"$f":"IF('28'!$D$18=\"\", \"\", '28'!$D$18)","v":""},"",{"$f":"IF('28'!$F$18=\"\", \"\", '28'!$F$18)","v":""},"",{"$f":"IF('28'!$H$18=\"\", \"\", '28'!$H$18)","v":""},{"$f":"IF('28'!$D$22=\"\", \"\", '28'!$D$22)","v":""},"",{"$f":"IF('28'!$F$22=\"\", \"\", '28'!$F$22)","v":""},"",{"$f":"IF('28'!$H$22=\"\", \"\", '28'!$H$22)","v":""},{"$f":"IF('28'!$D$26=\"\", \"\", '28'!$D$26)","v":""},"",{"$f":"IF('28'!$F$26=\"\", \"\", '28'!$F$26)","v":""},"",{"$f":"IF('28'!$H$26=\"\", \"\", '28'!$H$26)","v":""},{"$f":"IF('28'!$D$30=\"\", \"\", '28'!$D$30)","v":""},"",{"$f":"IF('28'!$F$30=\"\", \"\", '28'!$F$30)","v":""},"",{"$f":"IF('28'!$H$30=\"\", \"\", '28'!$H$30)","v":""},{"$f":"IF('28'!$D$34=\"\", \"\", '28'!$D$34)","v":""},"",{"$f":"IF('28'!$F$34=\"\", \"\", '28'!$F$34)","v":""},"",{"$f":"IF('28'!$H$34=\"\", \"\", '28'!$H$34)","v":""}]
[{"$nulls":32},"",null,""]
[null,29,1,{"$f":"IF('29'!$B$11=\"\", \"\", '29'!$B$11)","v":""},null,null,5,{"$f":"IF('29'!$B$15=\"\", \"\", '29'!$B$15)","v":""},null,null,9,{"$f":"IF('29'!$B$19=\"\", \"\", '29'!$B$19)","v":""},null,null,13,{"$f":"IF('29'!$B$23=\"\", \"\", '29'!$B$23)","v":""},null,null,17,{"$f":"IF('29'!$B$27=\"\", \"\", '29'!$B$27)","v":""},null,null,21,{"$f":"IF('29'!$B$31=\"\", \"\", '29'!$B$31)","v":""},{"$nulls":7},{"$f":"IF('29'!$D$11=\"\", \"\", '29'!$D$11)","v":""},{"$f":"IF(AF174=\"\", \"\", \"/\")","v":""},{"$f":"IF('29'!$F$11=\"\", \"\", '29'!$F$11)","v":""},{"$f":"IF(AJ174=\"\", \"\", \"P\")","v":""},{"$f":"IF('29'!$H$11=\"\", \"\", '29'!$H$11)","v":""},{"$f":"IF('29'!$D$15=\"\", \"\", '29'!$D$15)","v":""},{"$f":"IF(AK174=\"\", \"\", \"/\")","v":""},{"$f":"IF('29'!$F$15=\"\", \"\", '29'!$F$15)","v":""},{"$f":"IF(AO174=\"\", \"\", \"P\")","v":""},{"$f":"IF('29'!$H$15=\"\", \"\", '29'!$H$15)","v":""},{"$f":"IF('29'!$D$19=\"\", \"\", '29'!$D$19)","v":""},{"$f":"IF(AP174=\"\", \"\", \"/\")","v":""},{"$f":"IF('29'!$F$19=\"\", \"\", '29'!$F$19)","v":""},{"$f":"IF(AT174=\"\", \"\", \"P\")","v":""},{"$f":"IF('29'!$H$19=\"\", \"\", '29'!$H$19)","v":""},{"$f":"IF('29'!$D$23=\"\", \"\", '29'!$D$23)","v":""},{"$f":"IF(AU174=\"\", \"\", \"/\")","v":""},{"$f":"IF('29'!$F$23=\"\", \"\", '29'!$F$23)","v":""},{"$f":"IF(AY174=\"\", \"\", \"P\")","v":""},{"$f":"IF('29'!$H$23=\"\", \"\", '29'!$H$23)","v":""},{"$f":"IF('29'!$D$27=\"\", \"\", '29'!$D$27)","v":""},{"$f":"IF(AZ174=\"\", \"\", \"/\")","v":""},{"$f":"IF('29'!$F$27=\"\", \"\", '29'!$F$27)","v":""},{"$f":"IF(BD174=\"\", \"\", \"P\")","v":""},{"$f":"IF('29'!$H$27=\"\", \"\", '29'!$H$27)","v":""},{"$f":"IF('29'!$D$31=\"\", \"\", '29'!$D$31)","v":""},{"$f":"IF(BE174=\"\", \"\", \"/\")","v":""},{"$f":"IF('29'!$F$31=\"\", \"\", '29'!$F$31)","v":""},{"$f":"IF(BI174=\"\", \"\", \"P\")","v":""},{"$f":"IF('29'!$H$31=\"\", \"\", '29'!$H$31)","v":""}]
[null,null,2,{"$f":"IF('29'!$B$12=\"\", \"\", '29'!$B$12)","v":""},null,null,6,{"$f":"IF('29'!$B$16=\"\", \"\", '29'!$B$16)","v":""},null,null,10,{"$f":"IF('29'!$B$20=\"\", \"\", '29'!$B$20)","v":""},null,null,14,{"$f":"IF('29'!$B$24=\"\", \"\", '29'!$B$24)","v":""},null,null,18,{"$f":"IF('29'!$B$28=\"\", \"\", '29'!$B$28)","v":""},null,null,22,{"$f":"IF('29'!$B$32=\"\", \"\", '29'!$B$32)","v":""},{"$nulls":7},{"$f":"IF('29'!$D$12=\"\", \"\", '29'!$D$12)","v":""},{"$f":"IF(AF175=\"\", \"\", \"/\")","v":""},{"$f":"IF('29'!$F$12=\"\", \"\", '29'!$F$12)","v":""},{"$f":"IF(AJ175=\"\", \"\", \"P\")","v":""},{"$f":"IF('29'!$H$12=\"\", \"\", '29'!$H$12)","v":""},{"$f":"IF('29'!$D$16=\"\", \"\", '29'!$D$16)","v":""},{"$f":"IF(AK175=\"\", \"\", \"/\")","v":""},{"$f":"IF('29'!$F$16=\"\", \"\", '29'!$F$16)","v":""},{"$f":"IF(AO175=\"\", \"\", \"P\")","v":""},{"$f":"IF('29'!$H$16=\"\", \"\", '29'!$H$16)","v":""},{"$f":"IF('29'!$D$20=\"\", \"\", '29'!$D$20)","v":""},{"$f":"IF(AP175=\"\", \"\", \"/\")","v":""},{"$f":"IF('29'!$F$20=\"\", \"\", '29'!$F$20)","v":""},{"$f":"IF(AT175=\"\", \"\", \"P\")","v":""},{"$f":"IF('29'!$H$20=\"\", \"\", '29'!$H$20)","v":""},{"$f":"IF('29'!$D$24=\"\", \"\", '29'!$D$24)","v":""},{"$f":"IF(AU175=\"\", \"\", \"/\")","v":""},{"$f":"IF('29'!$F$24=\"\", \"\", '29'!$F$24)","v":""},{"$f":"IF(AY175=\"\", \"\", \"P\")","v":""},{"$f":"IF('29'!$H$24=\"\", \"\", '29'!$H$24)","v":""},{"$f":"IF('29'!$D$28=\"\", \"\", '29'!$D$28)","v":""},{"$f":"IF(AZ175=\"\", \"\", \"/\")","v":""},{"$f":"IF('29'!$F$28=\"\", \"\", '29'!$F$28)","v":""},{"$f":"IF(BD175=\"\", \"\", \"P\")","v":""},{"$f":"IF('29'!$H$28=\"\", \"\", '29'!$H$28)","v":""},{"$f":"IF('29'!$D$32=\"\", \"\", '29'!$D$32)","v":""},{"$f":"IF(BE175=\"\", \"\", \"/\")","v":""},{"$f":"IF('29'!$F$32=\"\", \"\", '29'!$F$32)","v":""},{"$f":"IF(BI175=\"\", \"\", \"P\")","v":""},{"$f":"IF('29'!$H$32=\"\", \"\", '29'!$H$32)","v":""}]
[null,null,3,{"$f":"IF('29'!$B$13=\"\", \"\", '29'!$B$13)","v":""},null,null,7,{"$f":"IF('29'!$B$17=\"\", \"\", '29'!$B$17)","v":""},null,null,11,{"$f":"IF('29'!$B$21=\"\", \"\", '29'!$B$21)","v":""},null,null,15,{"$f":"IF('29'!$B$25=\"\", \"\", '29'!$B$25)","v":""},null,null,19,{"$f":"IF('29'!$B$29=\"\", \"\", '29'!$B$29)","v":""},null,null,23,{"$f":"IF('29'!$B$33=\"\", \"\", '29'!$B$33)","v":""},{"$nulls":7},{"$f":"IF('29'!$D$13=\"\", \"\", '29'!$D$13)","v":""},"",{"$f":"IF('29'!$F$13=\"\", \"\", '29'!$F$13)","v":""},"",{"$f":"IF('29'!$H$13=\"\", \"\", '29'!$H$13)","v":""},{"$f":"IF('29'!$D$17=\"\", \"\", '29'!$D$17)","v":""},"",{"$f":"IF('29'!$F$17=\"\", \"\", '29'!$F$17)","v":""},"",{"$f":"IF('29'!$H$17=\"\", \"\", '29'!$H$17)","v":""},{"$f":"IF('29'!$D$21=\"\", \"\", '29'!$D$21)","v":""},"",{"$f":"IF('29'!$F$21=\"\", \"\", '29'!$F$21)","v":""},"",{"$f":"IF('29'!$H$21=\"\", \"\", '29'!$H$21)","v":""},{"$f":"IF('29'!$D$25=\"\", \"\", '29'!$D$25)","v":""},"",{"$f":"IF('29'!$F$25=\"\", \"\", '29'!$F$25)","v":""},"",{"$f":"IF('29'!$H$25=\"\", \"\", '29'!$H$25)","v":""},{"$f":"IF('29'!$D$29=\"\", \"\", '29'!$D$29)","v":""},"",{"$f":"IF('29'!$F$29=\"\", \"\", '29'!$F$29)","v":""},"",{"$f":"IF('29'!$H$29=\"\", \"\", '29'!$H$29)","v":""},{"$f":"IF('29'!$D$33=\"\", \"\", '29'!$D$33)","v":""},"",{"$f":"IF('29'!$F$33=\"\", \"\", '29'!$F$33)","v":""},"",{"$f":"IF('29'!$H$33=\"\", \"\", '29'!$H$33)","v":""}]
[null,null,4,{"$f":"IF('29'!$B$14=\"\", \"\", '29'!$B$14)","v":""},null,null,8,{"$f":"IF('29'!$B$18=\"\", \"\", '29'!$B$18)","v":""},null,null,12,{"$f":"IF('29'!$B$22=\"\", \"\", '29'!$B$22)","v":""},null,null,16,{"$f":"IF('29'!$B$26=\"\", \"\", '29'!$B$26)","v":""},null,null,20,{"$f":"IF('29'!$B$30=\"\", \"\", '29'!$B$30)","v":""},null,null,24,{"$f":"IF('29'!$B$34=\"\", \"\", '29'!$B$34)","v":""},{"$nulls":7},{"$f":"IF('29'!$D$14=\"\", \"\", '29'!$D$14)","v":""},"",{"$f":"IF('29'!$F$14=\"\", \"\", '29'!$F$14)","v":""},"",{"$f":"IF('29'!$H$14=\"\", \"\", '29'!$H$14)","v":""},{"$f":"IF('29'!$D$18=\"\", \"\", '29'!$D$18)","v":""},"",{"$f":"IF('29'!$F$18=\"\", \"\", '29'!$F$18)","v":""},"",{"$f":"IF('29'!$H$18=\"\", \"\", '29'!$H$18)","v":""},{"$f":"IF('29'!$D$22=\"\", \"\", '29'!$D$22)","v":""},"",{"$f":"IF('29'!$F$22=\"\", \"\", '29'!$F$22)","v":""},"",{"$f":"IF('29'!$H$22=\"\", \"\", '29'!$H$22)","v":""},{"$f":"IF('29'!$D$26=\"\", \"\", '29'!$D$26)","v":""},"",{"$f":"IF('29'!$F$26=\"\", \"\", '29'!$F$26)","v":""},"",{"$f":"IF('29'!$H$26=\"\", \"\", '29'!$H$26)","v":""},{"$f":"IF('29'!$D$30=\"\", \"\", '29'!$D$30)","v":""},"",{"$f":"IF('29'!$F$30=\"\", \"\", '29'!$F$30)","v":""},"",{"$f":"IF('29'!$H$30=\"\", \"\", '29'!$H$30)","v":""},{"$f":"IF('29'!$D$34=\"\", \"\", '29'!$D$34)","v":""},"",{"$f":"IF('29'!$F$34=\"\", \"\", '29'!$F$34)","v":""},"",{"$f":"IF('29'!$H$34=\"\", \"\", '29'!$H$34)","v":""}]
[{"$nulls":32},"",null,""]
[null,30,1,{"$f":"IF('30'!$B$11=\"\", \"\", '30'!$B$11)","v":""},null,null,5,{"$f":"IF('30'!$B$15=\"\", \"\", '30'!$B$15)","v":""},null,null,9,{"$f":"IF('30'!$B$19=\"\", \"\", '30'!$B$19)","v":""},null,null,13,{"$f":"IF('30'!$B$23=\"\", \"\", '30'!$B$23)","v":""},null,null,17,{"$f":"IF('30'!$B$27=\"\", \"\", '30'!$B$27)","v":""},null,null,21,{"$f":"IF('30'!$B$31=\"\", \"\", '30'!$B$31)","v":""},{"$nulls":7},{"$f":"IF('30'!$D$11=\"\", \"\", '30'!$D$11)","v":""},{"$f":"IF(AF179=\"\", \"\", \"/\")","v":""},{"$f":"IF('30'!$F$11=\"\", \"\", '30'!$F$11)","v":""},{"$f":"IF(AJ179=\"\", \"\", \"P\")","v":""},{"$f":"IF('30'!$H$11=\"\", \"\", '30'!$H$11)","v":""},{"$f":"IF('30'!$D$15=\"\", \"\", '30'!$D$15)","v":""},{"$f":"IF(AK179=\"\", \"\", \"/\")","v":""},{"$f":"IF('30'!$F$15=\"\", \"\", '30'!$F$15)","v":""},{"$f":"IF(AO179=\"\", \"\", \"P\")","v":""},{"$f":"IF('30'!$H$15=\"\", \"\", '30'!$H$15)","v":""},{"$f":"IF('30'!$D$19=\"\", \"\", '30'!$D$19)","v":""},{"$f":"IF(AP179=\"\", \"\", \"/\")","v":""},{"$f":"IF('30'!$F$19=\"\", \"\", '30'!$F$19)","v":""},{"$f":"IF(AT179=\"\", \"\", \"P\")","v":""},{"$f":"IF('30'!$H$19=\"\", \"\", '30'!$H$19)","v":""},{"$f":"IF('30'!$D$23=\"\", \"\", '30'!$D$23)","v":""},{"$f":"IF(AU179=\"\", \"\", \"/\")","v":""},{"$f":"IF('30'!$F$23=\"\", \"\", '30'!$F$23)","v":""},{"$f":"IF(AY179=\"\", \"\", \"P\")","v":""},{"$f":"IF('30'!$H$23=\"\", \"\", '30'!$H$23)","v":""},{"$f":"IF('30'!$D$27=\"\", \"\", '30'!$D$27)","v":""},{"$f":"IF(AZ179=\"\", \"\", \"/\")","v":""},{"$f":"IF('30'!$F$27=\"\", \"\", '30'!$F$27)","v":""},{"$f":"IF(BD179=\"\", \"\", \"P\")","v":""},{"$f":"IF('30'!$H$27=\"\", \"\", '30'!$H$27)","v":""},{"$f":"IF('30'!$D$31=\"\", \"\", '30'!$D$31)","v":""},{"$f":"IF(BE179=\"\", \"\", \"/\")","v":""},{"$f":"IF('30'!$F$31=\"\", \"\", '30'!$F$31)","v":""},{"$f":"IF(BI179=\"\", \"\", \"P\")","v":""},{"$f":"IF('30'!$H$31=\"\", \"\", '30'!$H$31)","v":""}]
[null,null,2,{"$f":"IF('30'!$B$12=\"\", \"\", '30'!$B$12)","v":""},null,null,6,{"$f":"IF('30'!$B$16=\"\", \"\", '30'!$B$16)","v":""},null,null,10,{"$f":"IF('30'!$B$20=\"\", \"\", '30'!$B$20)","v":""},null,null,14,{"$f":"IF('30'!$B$24=\"\", \"\", '30'!$B$24)","v":""},null,null,18,{"$f":"IF('30'!$B$28=\"\", \"\", '30'!$B$28)","v":""},null,null,22,{"$f":"IF('30'!$B$32=\"\", \"\", '30'!$B$32)","v":""},{"$nulls":7},{"$f":"IF('30'!$D$12=\"\", \"\", '30'!$D$12)","v":""},{"$f":"IF(AF180=\"\", \"\", \"/\")","v":""},{"$f":"IF('30'!$F$12=\"\", \"\", '30'!$F$12)","v":""},{"$f":"IF(AJ180=\"\", \"\", \"P\")","v":""},{"$f":"IF('30'!$H$12=\"\", \"\", '30'!$H$12)","v":""},{"$f":"IF('30'!$D$16=\"\", \"\", '30'!$D$16)","v":""},{"$f":"IF(AK180=\"\", \"\", \"/\")","v":""},{"$f":"IF('30'!$F$16=\"\", \"\", '30'!$F$16)","v":""},{"$f":"IF(AO180=\"\", \"\", \"P\")","v":""},{"$f":"IF('30'!$H$16=\"\", \"\", '30'!$H$16)","v":""},{"$f":"IF('30'!$D$20=\"\", \"\", '30'!$D$20)","v":""},{"$f":"IF(AP180=\"\", \"\", \"/\")","v":""},{"$f":"IF('30'!$F$20=\"\", \"\", '30'!$F$20)","v":""},{"$f":"IF(AT180=\"\", \"\", \"P\")","v":""},{"$f":"IF('30'!$H$20=\"\", \"\", '30'!$H$20)","v":""},{"$f":"IF('30'!$D$24=\"\", \"\", '30'!$D$24)","v":""},{"$f":"IF(AU180=\"\", \"\", \"/\")","v":""},{"$f":"IF('30'!$F$24=\"\", \"\", '30'!$F$24)","v":""},{"$f":"IF(AY180=\"\", \"\", \"P\")","v":""},{"$f":"IF('30'!$H$24=\"\", \"\", '30'!$H$24)","v":""},{"$f":"IF('30'!$D$28=\"\", \"\", '30'!$D$28)","v":""},{"$f":"IF(AZ180=\"\", \"\", \"/\")","v":""},{"$f":"IF('30'!$F$28=\"\", \"\", '30'!$F$28)","v":""},{"$f":"IF(BD180=\"\", \"\", \"P\")","v":""},{"$f":"IF('30'!$H$28=\"\", \"\", '30'!$H$28)","v":""},{"$f":"IF('30'!$D$32=\"\", \"\", '30'!$D$32)","v":""},{"$f":"IF(BE180=\"\", \"\", \"/\")","v":""},{"$f":"IF('30'!$F$32=\"\", \"\", '30'!$F$32)","v":""},{"$f":"IF(BI180=\"\", \"\", \"P\")","v":""},{"$f":"IF('30'!$H$32=\"\", \"\", '30'!$H$32)","v":""}]
[null,null,3,{"$f":"IF('30'!$B$13=\"\", \"\", '30'!$B$13)","v":""},null,null,7,{"$f":"IF('30'!$B$17=\"\", \"\", '30'!$B$17)","v":""},null,null,11,{"$f":"IF('30'!$B$21=\"\", \"\", '30'!$B$21)","v":""},null,null,15,{"$f":"IF('30'!$B$25=\"\", \"\", '30'!$B$25)","v":""},null,null,19,{"$f":"IF('30'!$B$29=\"\", \"\", '30'!$B$29)","v":""},null,null,23,{"$f":"IF('30'!$B$33=\"\", \"\", '30'!$B$33)","v":""},{"$nulls":7},{"$f":"IF('30'!$D$13=\"\", \"\", '30'!$D$13)","v":""},"",{"$f":"IF('30'!$F$13=\"\", \"\", '30'!$F$13)","v":""},"",{"$f":"IF('30'!$H$13=\"\", \"\", '30'!$H$13)","v":""},{"$f":"IF('30'!$D$17=\"\", \"\", '30'!$D$17)","v":""},"",{"$f":"IF('30'!$F$17=\"\", \"\", '30'!$F$17)","v":""},"",{"$f":"IF('30'!$H$17=\"\", \"\", '30'!$H$17)","v":""},{"$f":"IF('30'!$D$21=\"\", \"\", '30'!$D$21)","v":""},"",{"$f":"IF('30'!$F$21=\"\", \"\", '30'!$F$21)","v":""},"",{"$f":"IF('30'!$H$21=\"\", \"\", '30'!$H$21)","v":""},{"$f":"IF('30'!$D$25=\"\", \"\", '30'!$D$25)","v":""},"",{"$f":"IF('30'!$F$25=\"\", \"\", '30'!$F$25)","v":""},"",{"$f":"IF('30'!$H$25=\"\", \"\", '30'!$H$25)","v":""},{"$f":"IF('30'!$D$29=\"\", \"\", '30'!$D$29)","v":""},"",{"$f":"IF('30'!$F$29=\"\", \"\", '30'!$F$29)","v":""},"",{"$f":"IF('30'!$H$29=\"\", \"\", '30'!$H$29)","v":""},{"$f":"IF('30'!$D$33=\"\", \"\", '30'!$D$33)","v":""},"",{"$f":"IF('30'!$F$33=\"\", \"\", '30'!$F$33)","v":""},"",{"$f":"IF('30'!$H$33=\"\", \"\", '30'!$H$33)","v":""}]
[null,null,4,{"$f":"IF('30'!$B$14=\"\", \"\", '30'!$B$14)","v":""},null,null,8,{"$f":"IF('30'!$B$18=\"\", \"\", '30'!$B$18)","v":""},null,null,12,{"$f":"IF('30'!$B$22=\"\", \"\", '30'!$B$22)","v":""},null,null,16,{"$f":"IF('30'!$B$26=\"\", \"\", '30'!$B$26)","v":""},null,null,20,{"$f":"IF('30'!$B$30=\"\", \"\", '30'!$B$30)","v":""},null,null,24,{"$f":"IF('30'!$B$34=\"\", \"\", '30'!$B$34)","v":""},{"$nulls":7},{"$f":"IF('30'!$D$14=\"\", \"\", '30'!$D$14)","v":""},"",{"$f":"IF('30'!$F$14=\"\", \"\", '30'!$F$14)","v":""},"",{"$f":"IF('30'!$H$14=\"\", \"\", '30'!$H$14)","v":""},{"$f":"IF('30'!$D$18=\"\", \"\", '30'!$D$18)","v":""},"",{"$f":"IF('30'!$F$18=\"\", \"\", '30'!$F$18)","v":""},"",{"$f":"IF('30'!$H$18=\"\", \"\", '30'!$H$18)","v":""},{"$f":"IF('30'!$D$22=\"\", \"\", '30'!$D$22)","v":""},"",{"$f":"IF('30'!$F$22=\"\", \"\", '30'!$F$22)","v":""},"",{"$f":"IF('30'!$H$22=\"\", \"\", '30'!$H$22)","v":""},{"$f":"IF('30'!$D$26=\"\", \"\", '30'!$D$26)","v":""},"",{"$f":"IF('30'!$F$26=\"\", \"\", '30'!$F$26)","v":""},"",{"$f":"IF('30'!$H$26=\"\", \"\", '30'!$H$26)","v":""},{"$f":"IF('30'!$D$30=\"\", \"\", '30'!$D$30)","v":""},"",{"$f":"IF('30'!$F$30=\"\", \"\", '30'!$F$30)","v":""},"",{"$f":"IF('30'!$H$30=\"\", \"\", '30'!$H$30)","v":""},{"$f":"IF('30'!$D$34=\"\", \"\", '30'!$D$34)","v":""},"",{"$f":"IF('30'!$F$34=\"\", \"\", '30'!$F$34)","v":""},"",{"$f":"IF('30'!$H$34=\"\", \"\", '30'!$H$34)","v":""}]
[{"$nulls":32},"",null,""]
[null,31,1,{"$f":"IF('31'!$B$11=\"\", \"\", '31'!$B$11)","v":""},null,null,5,{"$f":"IF('31'!$B$15=\"\", \"\", '31'!$B$15)","v":""},null,null,9,{"$f":"IF('31'!$B$19=\"\", \"\", '31'!$B$19)","v":""},null,null,13,{"$f":"IF('31'!$B$23=\"\", \"\", '31'!$B$23)","v":""},null,null,17,{"$f":"IF('31'!$B$27=\"\", \"\", '31'!$B$27)","v":""},null,null,21,{"$f":"IF('31'!$B$31=\"\", \"\", '31'!$B$31)","v":""},{"$nulls":7},{"$f":"IF('31'!$D$11=\"\", \"\", '31'!$D$11)","v":""},{"$f":"IF(AF184=\"\", \"\", \"/\")","v":""},{"$f":"IF('31'!$F$11=\"\", \"\", '31'!$F$11)","v":""},{"$f":"IF(AJ184=\"\", \"\", \"P\")","v":""},{"$f":"IF('31'!$H$11=\"\", \"\", '31'!$H$11)","v":""},{"$f":"IF('31'!$D$15=\"\", \"\", '31'!$D$15)","v":""},{"$f":"IF(AK184=\"\", \"\", \"/\")","v":""},{"$f":"IF('31'!$F$15=\"\", \"\", '31'!$F$15)","v":""},{"$f":"IF(AO184=\"\", \"\", \"P\")","v":""},{"$f":"IF('31'!$H$15=\"\", \"\", '31'!$H$15)","v":""},{"$f":"IF('31'!$D$19=\"\", \"\", '31'!$D$19)","v":""},{"$f":"IF(AP184=\"\", \"\", \"/\")","v":""},{"$f":"IF('31'!$F$19=\"\", \"\", '31'!$F$19)","v":""},{"$f":"IF(AT184=\"\", \"\", \"P\")","v":""},{"$f":"IF('31'!$H$19=\"\", \"\", '31'!$H$19)","v":""},{"$f":"IF('31'!$D$23=\"\", \"\", '31'!$D$23)","v":""},{"$f":"IF(AU184=\"\", \"\", \"/\")","v":""},{"$f":"IF('31'!$F$23=\"\", \"\", '31'!$F$23)","v":""},{"$f":"IF(AY184=\"\", \"\", \"P\")","v":""},{"$f":"IF('31'!$H$23=\"\", \"\", '31'!$H$23)","v":""},{"$f":"IF('31'!$D$27=\"\", \"\", '31'!$D$27)","v":""},{"$f":"IF(AZ184=\"\", \"\", \"/\")","v":""},{"$f":"IF('31'!$F$27=\"\", \"\", '31'!$F$27)","v":""},{"$f":"IF(BD184=\"\", \"\", \"P\")","v":""},{"$f":"IF('31'!$H$27=\"\", \"\", '31'!$H$27)","v":""},{"$f":"IF('31'!$D$31=\"\", \"\", '31'!$D$31)","v":""},{"$f":"IF(BE184=\"\", \"\", \"/\")","v":""},{"$f":"IF('31'!$F$31=\"\", \"\", '31'!$F$31)","v":""},{"$f":"IF(BI184=\"\", \"\", \"P\")","v":""},{"$f":"IF('31'!$H$31=\"\", \"\", '31'!$H$31)","v":""}]
[null,null,2,{"$f":"IF('31'!$B$12=\"\", \"\", '31'!$B$12)","v":""},null,null,6,{"$f":"IF('31'!$B$16=\"\", \"\", '31'!$B$16)","v":""},null,null,10,{"$f":"IF('31'!$B$20=\"\", \"\", '31'!$B$20)","v":""},null,null,14,{"$f":"IF('31'!$B$24=\"\", \"\", '31'!$B$24)","v":""},null,null,18,{"$f":"IF('31'!$B$28=\"\", \"\", '31'!$B$28)","v":""},null,null,22,{"$f":"IF('31'!$B$32=\"\", \"\", '31'!$B$32)","v":""},{"$nulls":7},{"$f":"IF('31'!$D$12=\"\", \"\", '31'!$D$12)","v":""},{"$f":"IF(AF185=\"\", \"\", \"/\")","v":""},{"$f":"IF('31'!$F$12=\"\", \"\", '31'!$F$12)","v":""},{"$f":"IF(AJ185=\"\", \"\", \"P\")","v":""},{"$f":"IF('31'!$H$12=\"\", \"\", '31'!$H$12)","v":""},{"$f":"IF('31'!$D$16=\"\", \"\", '31'!$D$16)","v":""},{"$f":"IF(AK185=\"\", \"\", \"/\")","v":""},{"$f":"IF('31'!$F$16=\"\", \"\", '31'!$F$16)","v":""},{"$f":"IF(AO185=\"\", \"\", \"P\")","v":""},{"$f":"IF('31'!$H$16=\"\", \"\", '31'!$H$16)","v":""},{"$f":"IF('31'!$D$20=\"\", \"\", '31'!$D$20)","v":""},{"$f":"IF(AP185=\"\", \"\", \"/\")","v":""},{"$f":"IF('31'!$F$20=\"\", \"\", '31'!$F$20)","v":""},{"$f":"IF(AT185=\"\", \"\", \"P\")","v":""},{"$f":"IF('31'!$H$20=\"\", \"\", '31'!$H$20)","v":""},{"$f":"IF('31'!$D$24=\"\", \"\", '31'!$D$24)","v":""},{"$f":"IF(AU185=\"\", \"\", \"/\")","v":""},{"$f":"IF('31'!$F$24=\"\", \"\", '31'!$F$24)","v":""},{"$f":"IF(AY185=\"\", \"\", \"P\")","v":""},{"$f":"IF('31'!$H$24=\"\", \"\", '31'!$H$24)","v":""},{"$f":"IF('31'!$D$28=\"\", \"\", '31'!$D$28)","v":""},{"$f":"IF(AZ185=\"\", \"\", \"/\")","v":""},{"$f":"IF('31'!$F$28=\"\", \"\", '31'!$F$28)","v":""},{"$f":"IF(BD185=\"\", \"\", \"P\")","v":""},{"$f":"IF('31'!$H$28=\"\", \"\", '31'!$H$28)","v":""},{"$f":"IF('31'!$D$32=\"\", \"\", '31'!$D$32)","v":""},{"$f":"IF(BE185=\"\", \"\", \"/\")","v":""},{"$f":"IF('31'!$F$32=\"\", \"\", '31'!$F$32)","v":""},{"$f":"IF(BI185=\"\", \"\", \"P\")","v":""},{"$f":"IF('31'!$H$32=\"\", \"\", '31'!$H$32)","v":""}]
[null,null,3,{"$f":"IF('31'!$B$13=\"\", \"\", '31'!$B$13)","v":""},null,null,7,{"$f":"IF('31'!$B$17=\"\", \"\", '31'!$B$17)","v":""},null,null,11,{"$f":"IF('31'!$B$21=\"\", \"\", '31'!$B$21)","v":""},null,null,15,{"$f":"IF('31'!$B$25=\"\", \"\", '31'!$B$25)","v":""},null,null,19,{"$f":"IF('31'!$B$29=\"\", \"\", '31'!$B$29)","v":""},null,null,23,{"$f":"IF('31'!$B$33=\"\", \"\", '31'!$B$33)","v":""},{"$nulls":7},{"$f":"IF('31'!$D$13=\"\", \"\", '31'!$D$13)","v":""},"",{"$f":"IF('31'!$F$13=\"\", \"\", '31'!$F$13)","v":""},"",{"$f":"IF('31'!$H$13=\"\", \"\", '31'!$H$13)","v":""},{"$f":"IF('31'!$D$17=\"\", \"\", '31'!$D$17)","v":""},"",{"$f":"IF('31'!$F$17=\"\", \"\", '31'!$F$17)","v":""},"",{"$f":"IF('31'!$H$17=\"\", \"\", '31'!$H$17)","v":""},{"$f":"IF('31'!$D$21=\"\", \"\", '31'!$D$21)","v":""},"",{"$f":"IF('31'!$F$21=\"\", \"\", '31'!$F$21)","v":""},"",{"$f":"IF('31'!$H$21=\"\", \"\", '31'!$H$21)","v":""},{"$f":"IF('31'!$D$25=\"\", \"\", '31'!$D$25)","v":""},"",{"$f":"IF('31'!$F$25=\"\", \"\", '31'!$F$25)","v":""},"",{"$f":"IF('31'!$H$25=\"\", \"\", '31'!$H$25)","v":""},{"$f":"IF('31'!$D$29=\"\", \"\", '31'!$D$29)","v":""},"",{"$f":"IF('31'!$F$29=\"\", \"\", '31'!$F$29)","v":""},"",{"$f":"IF('31'!$H$29=\"\", \"\", '31'!$H$29)","v":""},{"$f":"IF('31'!$D$33=\"\", \"\", '31'!$D$33)","v":""},"",{"$f":"IF('31'!$F$33=\"\", \"\", '31'!$F$33)","v":""},"",{"$f":"IF('31'!$H$33=\"\", \"\", '31'!$H$33)","v":""}]
[null,null,4,{"$f":"IF('31'!$B$14=\"\", \"\", '31'!$B$14)","v":""},null,null,8,{"$f":"IF('31'!$B$18=\"\", \"\", '31'!$B$18)","v":""},null,null,12,{"$f":"IF('31'!$B$22=\"\", \"\", '31'!$B$22)","v":""},null,null,16,{"$f":"IF('31'!$B$26=\"\", \"\", '31'!$B$26)","v":""},null,null,20,{"$f":"IF('31'!$B$30=\"\", \"\", '31'!$B$30)","v":""},null,null,24,{"$f":"IF('31'!$B$34=\"\", \"\", '31'!$B$34)","v":""},{"$nulls":7},{"$f":"IF('31'!$D$14=\"\", \"\", '31'!$D$14)","v":""},"",{"$f":"IF('31'!$F$14=\"\", \"\", '31'!$F$14)","v":""},"",{"$f":"IF('31'!$H$14=\"\", \"\", '31'!$H$14)","v":""},{"$f":"IF('31'!$D$18=\"\", \"\", '31'!$D$18)","v":""},"",{"$f":"IF('31'!$F$18=\"\", \"\", '31'!$F$18)","v":""},"",{"$f":"IF('31'!$H$18=\"\", \"\", '31'!$H$18)","v":""},{"$f":"IF('31'!$D$22=\"\", \"\", '31'!$D$22)","v":""},"",{"$f":"IF('31'!$F$22=\"\", \"\", '31'!$F$22)","v":""},"",{"$f":"IF('31'!$H$22=\"\", \"\", '31'!$H$22)","v":""},{"$f":"IF('31'!$D$26=\"\", \"\", '31'!$D$26)","v":""},"",{"$f":"IF('31'!$F$26=\"\", \"\", '31'!$F$26)","v":""},"",{"$f":"IF('31'!$H$26=\"\", \"\", '31'!$H$26)","v":""},{"$f":"IF('31'!$D$30=\"\", \"\", '31'!$D$30)","v":""},"",{"$f":"IF('31'!$F$30=\"\", \"\", '31'!$F$30)","v":""},"",{"$f":"IF('31'!$H$30=\"\", \"\", '31'!$H$30)","v":""},{"$f":"IF('31'!$D$34=\"\", \"\", '31'!$D$34)","v":""},"",{"$f":"IF('31'!$F$34=\"\", \"\", '31'!$F$34)","v":""},"",{"$f":"IF('31'!$H$34=\"\", \"\", '31'!$H$34)","v":""}]
[{"$nulls":32},""]
[]
[]
[]
[]
[null,"HR",1,{"$f":"C193+1","v":2},{"$f":"D193+1","v":3},4,5,6,7,8,9,10,11,12,13,14,15,16,17,18,19,20,21,22,23,24,{"$nulls":39},"#","total","AVG"]
["Sugar *** Day of the Month *** Sugar",1,{"$f":"IF('1'!$B$11=\"\", \"\", '1'!$B$11)","v":""},{"$f":"IF('1'!$B$12=\"\", \"\", '1'!$B$12)","v":""},{"$f":"IF('1'!$B$13=\"\", \"\", '1'!$B$13)","v":""},{"$f":"IF('1'!$B$14=\"\", \"\", '1'!$B$14)","v":""},{"$f":"IF('1'!$B$15=\"\", \"\", '1'!$B$15)","v":""},{"$f":"IF('1'!$B$16=\"\", \"\", '1'!$B$16)","v":""},{"$f":"IF('1'!$B$17=\"\", \"\", '1'!$B$17)","v":""},{"$f":"IF('1'!$B$18=\"\", \"\", '1'!$B$18)","v":""},{"$f":"IF('1'!$B$19=\"\", \"\", '1'!$B$19)","v":200},{"$f":"IF('1'!$B$20=\"\", \"\", '1'!$B$20)","v":""},{"$f":"IF('1'!$B$21=\"\", \"\", '1'!$B$21)","v":""},{"$f":"IF('1'!$B$22=\"\", \"\", '1'!$B$22)","v":""},{"$f":"IF('1'!$B$23=\"\", \"\", '1'!$B$23)","v":""},{"$f":"IF('1'!$B$24=\"\", \"\", '1'!$B$24)","v":256},{"$f":"IF('1'!$B$25=\"\", \"\", '1'!$B$25)","v":""},{"$f":"IF('1'!$B$26=\"\", \"\", '1'!$B$26)","v":""},{"$f":"IF('1'!$B$27=\"\", \"\", '1'!$B$27)","v":""},{"$f":"IF('1'!$B$28=\"\", \"\", '1'!$B$28)","v":""},{"$f":"IF('1'!$B$29=\"\", \"\", '1'!$B$29)","v":""},{"$f":"IF('1'!$B$30=\"\", \"\", '1'!$B$30)","v":""},{"$f":"IF('1'!$B$31=\"\", \"\", '1'!$B$31)","v":""},{"$f":"IF('1'!$B$32=\"\", \"\", '1'!$B$32)","v":""},{"$f":"IF('1'!$B$33=\"\", \"\", '1'!$B$33)","v":""},{"$f":"IF('1'!$B$34=\"\", \"\", '1'!$B$34)","v":""},{"$f":"COUNTIF(C194:Z194, \">0\")","v":2},{"$f":"IFERROR((SUM(C194:Z194))/AA194, \"\")","v":228},{"$nulls":37},{"$f":"IF(COUNTIF($C194:$Z194, \">0\")=0, \"\", COUNTIF($C194:$Z194, \">0\"))","v":2},{"$f":"IF(SUM(C194:Z194)=0, \"\",SUM(C194:Z194))","v":456},{"$f":"IF(BN194=\"\", \"\", BO194/BN194)","v":228}]
[null,{"$f":"B194+1","v":2},{"$f":"IF('2'!$B$11=\"\", \"\", '2'!$B$11)","v":""},{"$f":"IF('2'!$B$12=\"\", \"\", '2'!$B$12)","v":""},{"$f":"IF('2'!$B$13=\"\", \"\", '2'!$B$13)","v":""},{"$f":"IF('2'!$B$14=\"\", \"\", '2'!$B$14)","v":""},{"$f":"IF('2'!$B$15=\"\", \"\", '2'!$B$15)","v":""},{"$f":"IF('2'!$B$16=\"\", \"\", '2'!$B$16)","v":""},{"$f":"IF('2'!$B$17=\"\", \"\", '2'!$B$17)","v":""},{"$f":"IF('2'!$B$18=\"\", \"\", '2'!$B$18)","v":""},{"$f":"IF('2'!$B$19=\"\", \"\", '2'!$B$19)","v":220},{"$f":"IF('2'!$B$20=\"\", \"\", '2'!$B$20)","v":""},{"$f":"IF('2'!$B$21=\"\", \"\", '2'!$B$21)","v":""},{"$f":"IF('2'!$B$22=\"\", \"\", '2'!$B$22)","v":""},{"$f":"IF('2'!$B$23=\"\", \"\", '2'!$B$23)","v":""},{"$f":"IF('2'!$B$24=\"\", \"\", '2'!$B$24)","v":""},{"$f":"IF('2'!$B$25=\"\", \"\", '2'!$B$25)","v":""},{"$f":"IF('2'!$B$26=\"\", \"\", '2'!$B$26)","v":""},{"$f":"IF('2'!$B$27=\"\", \"\", '2'!$B$27)","v":""},{"$f":"IF('2'!$B$28=\"\", \"\", '2'!$B$28)","v":""},{"$f":"IF('2'!$B$29=\"\", \"\", '2'!$B$29)","v":""},{"$f":"IF('2'!$B$30=\"\", \"\", '2'!$B$30)","v":""},{"$f":"IF('2'!$B$31=\"\", \"\", '2'!$B$31)","v":""},{"$f":"IF('2'!$B$32=\"\", \"\", '2'!$B$32)","v":275},{"$f":"IF('2'!$B$33=\"\", \"\", '2'!$B$33)","v":""},{"$f":"IF('2'!$B$34=\"\", \"\", '2'!$B$34)","v":""},2,{"v":247.5,"d":"248"},{"$nulls":37},{"$f":"IF(COUNTIF($C195:$Z195, \">0\")=0, \"\", COUNTIF($C195:$Z195, \">0\"))","v":2},{"$f":"IF(SUM(C195:Z195)=0, \"\",SUM(C195:Z195))","v":495},{"$f":"IF(BN195=\"\", \"\", BO195/BN195)","v":{"v":247.5,"d":"248"}}]
[null,{"$f":"B195+1","v":3},{"$f":"IF('3'!$B$11=\"\", \"\", '3'!$B$11)","v":""},{"$f":"IF('3'!$B$12=\"\", \"\", '3'!$B$12)","v":""},{"$f":"IF('3'!$B$13=\"\", \"\", '3'!$B$13)","v":""},{"$f":"IF('3'!$B$14=\"\", \"\", '3'!$B$14)","v":""},{"$f":"IF('3'!$B$15=\"\", \"\", '3'!$B$15)","v":""},{"$f":"IF('3'!$B$16=\"\", \"\", '3'!$B$16)","v":""},{"$f":"IF('3'!$B$17=\"\", \"\", '3'!$B$17)","v":""},{"$f":"IF('3'!$B$18=\"\", \"\", '3'!$B$18)","v":188},{"$f":"IF('3'!$B$19=\"\", \"\", '3'!$B$19)","v":""},{"$f":"IF('3'!$B$20=\"\", \"\", '3'!$B$20)","v":""},{"$f":"IF('3'!$B$21=\"\", \"\", '3'!$B$21)","v":""},{"$f":"IF('3'!$B$22=\"\", \"\", '3'!$B$22)","v":""},{"$f":"IF('3'!$B$23=\"\", \"\", '3'!$B$23)","v":""},{"$f":"IF('3'!$B$24=\"\", \"\", '3'!$B$24)","v":""},{"$f":"IF('3'!$B$25=\"\", \"\", '3'!$B$25)","v":""},{"$f":"IF('3'!$B$26=\"\", \"\", '3'!$B$26)","v":""},{"$f":"IF('3'!$B$27=\"\", \"\", '3'!$B$27)","v":""},{"$f":"IF('3'!$B$28=\"\", \"\", '3'!$B$28)","v":""},{"$f":"IF('3'!$B$29=\"\", \"\", '3'!$B$29)","v":184},{"$f":"IF('3'!$B$30=\"\", \"\", '3'!$B$30)","v":""},{"$f":"IF('3'!$B$31=\"\", \"\", '3'!$B$31)","v":""},{"$f":"IF('3'!$B$32=\"\", \"\", '3'!$B$32)","v":215},{"$f":"IF('3'!$B$33=\"\", \"\", '3'!$B$33)","v":""},{"$f":"IF('3'!$B$34=\"\", \"\", '3'!$B$34)","v":""},3,{"v":195.66666666666666,"d":"196"},{"$nulls":37},3,587,{"v":195.66666666666666,"d":"196"}]
[null,4,{"$f":"IF('4'!$B$11=\"\", \"\", '4'!$B$11)","v":""},{"$f":"IF('4'!$B$12=\"\", \"\", '4'!$B$12)","v":""},{"$f":"IF('4'!$B$13=\"\", \"\", '4'!$B$13)","v":""},{"$f":"IF('4'!$B$14=\"\", \"\", '4'!$B$14)","v":""},{"$f":"IF('4'!$B$15=\"\", \"\", '4'!$B$15)","v":""},{"$f":"IF('4'!$B$16=\"\", \"\", '4'!$B$16)","v":202},{"$f":"IF('4'!$B$17=\"\", \"\", '4'!$B$17)","v":""},{"$f":"IF('4'!$B$18=\"\", \"\", '4'!$B$18)","v":""},{"$f":"IF('4'!$B$19=\"\", \"\", '4'!$B$19)","v":""},{"$f":"IF('4'!$B$20=\"\", \"\", '4'!$B$20)","v":""},{"$f":"IF('4'!$B$21=\"\", \"\", '4'!$B$21)","v":""},{"$f":"IF('4'!$B$22=\"\", \"\", '4'!$B$22)","v":""},{"$f":"IF('4'!$B$23=\"\", \"\", '4'!$B$23)","v":""},{"$f":"IF('4'!$B$24=\"\", \"\", '4'!$B$24)","v":""},{"$f":"IF('4'!$B$25=\"\", \"\", '4'!$B$25)","v":""},{"$f":"IF('4'!$B$26=\"\", \"\", '4'!$B$26)","v":""},{"$f":"IF('4'!$B$27=\"\", \"\", '4'!$B$27)","v":""},{"$f":"IF('4'!$B$28=\"\", \"\", '4'!$B$28)","v":""},{"$f":"IF('4'!$B$29=\"\", \"\", '4'!$B$29)","v":""},{"$f":"IF('4'!$B$30=\"\", \"\", '4'!$B$30)","v":""},{"$f":"IF('4'!$B$31=\"\", \"\", '4'!$B$31)","v":""},{"$f":"IF('4'!$B$32=\"\", \"\", '4'!$B$32)","v":207},{"$f":"IF('4'!$B$33=\"\", \"\", '4'!$B$33)","v":""},{"$f":"IF('4'!$B$34=\"\", \"\", '4'!$B$34)","v":""},2,{"v":204.5,"d":"205"},{"$nulls":37},2,409,{"v":204.5,"d":"205"}]
[null,5,{"$f":"IF('5'!$B$11=\"\", \"\", '5'!$B$11)","v":""},{"$f":"IF('5'!$B$12=\"\", \"\", '5'!$B$12)","v":""},{"$f":"IF('5'!$B$13=\"\", \"\", '5'!$B$13)","v":""},{"$f":"IF('5'!$B$14=\"\", \"\", '5'!$B$14)","v":""},{"$f":"IF('5'!$B$15=\"\", \"\", '5'!$B$15)","v":""},{"$f":"IF('5'!$B$16=\"\", \"\", '5'!$B$16)","v":""},{"$f":"IF('5'!$B$17=\"\", \"\", '5'!$B$17)","v":""},{"$f":"IF('5'!$B$18=\"\", \"\", '5'!$B$18)","v":""},{"$f":"IF('5'!$B$19=\"\", \"\", '5'!$B$19)","v":153},{"$f":"IF('5'!$B$20=\"\", \"\", '5'!$B$20)","v":""},{"$f":"IF('5'!$B$21=\"\", \"\", '5'!$B$21)","v":""},{"$f":"IF('5'!$B$22=\"\", \"\", '5'!$B$22)","v":""},{"$f":"IF('5'!$B$23=\"\", \"\", '5'!$B$23)","v":""},{"$f":"IF('5'!$B$24=\"\", \"\", '5'!$B$24)","v":""},{"$f":"IF('5'!$B$25=\"\", \"\", '5'!$B$25)","v":""},{"$f":"IF('5'!$B$26=\"\", \"\", '5'!$B$26)","v":""},{"$f":"IF('5'!$B$27=\"\", \"\", '5'!$B$27)","v":""},{"$f":"IF('5'!$B$28=\"\", \"\", '5'!$B$28)","v":""},{"$f":"IF('5'!$B$29=\"\", \"\", '5'!$B$29)","v":""},{"$f":"IF('5'!$B$30=\"\", \"\", '5'!$B$30)","v":""},{"$f":"IF('5'!$B$31=\"\", \"\", '5'!$B$31)","v":""},{"$f":"IF('5'!$B$32=\"\", \"\", '5'!$B$32)","v":""},{"$f":"IF('5'!$B$33=\"\", \"\", '5'!$B$33)","v":""},{"$f":"IF('5'!$B$34=\"\", \"\", '5'!$B$34)","v":""},1,153,{"$nulls":37},1,153,153]
[null,6,{"$f":"IF('6'!$B$11=\"\", \"\", '6'!$B$11)","v":""},{"$f":"IF('6'!$B$12=\"\", \"\", '6'!$B$12)","v":""},{"$f":"IF('6'!$B$13=\"\", \"\", '6'!$B$13)","v":""},{"$f":"IF('6'!$B$14=\"\", \"\", '6'!$B$14)","v":""},{"$f":"IF('6'!$B$15=\"\", \"\", '6'!$B$15)","v":""},{"$f":"IF('6'!$B$16=\"\", \"\", '6'!$B$16)","v":""},{"$f":"IF('6'!$B$17=\"\", \"\", '6'!$B$17)","v":""},{"$f":"IF('6'!$B$18=\"\", \"\", '6'!$B$18)","v":""},{"$f":"IF('6'!$B$19=\"\", \"\", '6'!$B$19)","v":268},{"$f":"IF('6'!$B$20=\"\", \"\", '6'!$B$20)","v":""},{"$f":"IF('6'!$B$21=\"\", \"\", '6'!$B$21)","v":""},{"$f":"IF('6'!$B$22=\"\", \"\", '6'!$B$22)","v":""},{"$f":"IF('6'!$B$23=\"\", \"\", '6'!$B$23)","v":""},{"$f":"IF('6'!$B$24=\"\", \"\", '6'!$B$24)","v":""},{"$f":"IF('6'!$B$25=\"\", \"\", '6'!$B$25)","v":""},{"$f":"IF('6'!$B$26=\"\", \"\", '6'!$B$26)","v":""},{"$f":"IF('6'!$B$27=\"\", \"\", '6'!$B$27)","v":138},{"$f":"IF('6'!$B$28=\"\", \"\", '6'!$B$28)","v":""},{"$f":"IF('6'!$B$29=\"\", \"\", '6'!$B$29)","v":""},{"$f":"IF('6'!$B$30=\"\", \"\", '6'!$B$30)","v":""},{"$f":"IF('6'!$B$31=\"\", \"\", '6'!$B$31)","v":""},{"$f":"IF('6'!$B$32=\"\", \"\", '6'!$B$32)","v":""},{"$f":"IF('6'!$B$33=\"\", \"\", '6'!$B$33)","v":""},{"$f":"IF('6'!$B$34=\"\", \"\", '6'!$B$34)","v":""},2,203,{"$nulls":37},2,406,203]
[null,7,{"$f":"IF('7'!$B$11=\"\", \"\", '7'!$B$11)","v":""},{"$f":"IF('7'!$B$12=\"\", \"\", '7'!$B$12)","v":""},{"$f":"IF('7'!$B$13=\"\", \"\", '7'!$B$13)","v":""},{"$f":"IF('7'!$B$14=\"\", \"\", '7'!$B$14)","v":""},{"$f":"IF('7'!$B$15=\"\", \"\", '7'!$B$15)","v":""},{"$f":"IF('7'!$B$16=\"\", \"\", '7'!$B$16)","v":""},{"$f":"IF('7'!$B$17=\"\", \"\", '7'!$B$17)","v":""},{"$f":"IF('7'!$B$18=\"\", \"\", '7'!$B$18)","v":""},{"$f":"IF('7'!$B$19=\"\", \"\", '7'!$B$19)","v":""},{"$f":"IF('7'!$B$20=\"\", \"\", '7'!$B$20)","v":""},{"$f":"IF('7'!$B$21=\"\", \"\", '7'!$B$21)","v":""},{"$f":"IF('7'!$B$22=\"\", \"\", '7'!$B$22)","v":""},{"$f":"IF('7'!$B$23=\"\", \"\", '7'!$B$23)","v":""},{"$f":"IF('7'!$B$24=\"\", \"\", '7'!$B$24)","v":""},{"$f":"IF('7'!$B$25=\"\", \"\", '7'!$B$25)","v":""},{"$f":"IF('7'!$B$26=\"\", \"\", '7'!$B$26)","v":""},{"$f":"IF('7'!$B$27=\"\", \"\", '7'!$B$27)","v":""},{"$f":"IF('7'!$B$28=\"\", \"\", '7'!$B$28)","v":""},{"$f":"IF('7'!$B$29=\"\", \"\", '7'!$B$29)","v":""},{"$f":"IF('7'!$B$30=\"\", \"\", '7'!$B$30)","v":145},{"$f":"IF('7'!$B$31=\"\", \"\", '7'!$B$31)","v":""},{"$f":"IF('7'!$B$32=\"\", \"\", '7'!$B$32)","v":""},{"$f":"IF('7'!$B$33=\"\", \"\", '7'!$B$33)","v":201},{"$f":"IF('7'!$B$34=\"\", \"\", '7'!$B$34)","v":""},2,173,{"$nulls":37},2,346,173]
[null,8,{"$f":"IF('8'!$B$11=\"\", \"\", '8'!$B$11)","v":""},{"$f":"IF('8'!$B$12=\"\", \"\", '8'!$B$12)","v":""},{"$f":"IF('8'!$B$13=\"\", \"\", '8'!$B$13)","v":""},{"$f":"IF('8'!$B$14=\"\", \"\", '8'!$B$14)","v":""},{"$f":"IF('8'!$B$15=\"\", \"\", '8'!$B$15)","v":""},{"$f":"IF('8'!$B$16=\"\", \"\", '8'!$B$16)","v":""},{"$f":"IF('8'!$B$17=\"\", \"\", '8'!$B$17)","v":""},{"$f":"IF('8'!$B$18=\"\", \"\", '8'!$B$18)","v":""},{"$f":"IF('8'!$B$19=\"\", \"\", '8'!$B$19)","v":""},{"$f":"IF('8'!$B$20=\"\", \"\", '8'!$B$20)","v":163},{"$f":"IF('8'!$B$21=\"\", \"\", '8'!$B$21)","v":""},{"$f":"IF('8'!$B$22=\"\", \"\", '8'!$B$22)","v":""},{"$f":"IF('8'!$B$23=\"\", \"\", '8'!$B$23)","v":""},{"$f":"IF('8'!$B$24=\"\", \"\", '8'!$B$24)","v":""},{"$f":"IF('8'!$B$25=\"\", \"\", '8'!$B$25)","v":""},{"$f":"IF('8'!$B$26=\"\", \"\", '8'!$B$26)","v":""},{"$f":"IF('8'!$B$27=\"\", \"\", '8'!$B$27)","v":""},{"$f":"IF('8'!$B$28=\"\", \"\", '8'!$B$28)","v":""},{"$f":"IF('8'!$B$29=\"\", \"\", '8'!$B$29)","v":""},{"$f":"IF('8'!$B$30=\"\", \"\", '8'!$B$30)","v":""},{"$f":"IF('8'!$B$31=\"\", \"\", '8'!$B$31)","v":""},{"$f":"IF('8'!$B$32=\"\", \"\", '8'!$B$32)","v":""},{"$f":"IF('8'!$B$33=\"\", \"\", '8'!$B$33)","v":""},{"$f":"IF('8'!$B$34=\"\", \"\", '8'!$B$34)","v":""},1,163,{"$nulls":37},1,163,163]
[null,9,{"$f":"IF('9'!$B$11=\"\", \"\", '9'!$B$11)","v":""},{"$f":"IF('9'!$B$12=\"\", \"\", '9'!$B$12)","v":""},{"$f":"IF('9'!$B$13=\"\", \"\", '9'!$B$13)","v":""},{"$f":"IF('9'!$B$14=\"\", \"\", '9'!$B$14)","v":""},{"$f":"IF('9'!$B$15=\"\", \"\", '9'!$B$15)","v":""},{"$f":"IF('9'!$B$16=\"\", \"\", '9'!$B$16)","v":""},{"$f":"IF('9'!$B$17=\"\", \"\", '9'!$B$17)","v":""},{"$f":"IF('9'!$B$18=\"\", \"\", '9'!$B$18)","v":""},{"$f":"IF('9'!$B$19=\"\", \"\", '9'!$B$19)","v":""},{"$f":"IF('9'!$B$20=\"\", \"\", '9'!$B$20)","v":""},{"$f":"IF('9'!$B$21=\"\", \"\", '9'!$B$21)","v":""},{"$f":"IF('9'!$B$22=\"\", \"\", '9'!$B$22)","v":""},{"$f":"IF('9'!$B$23=\"\", \"\", '9'!$B$23)","v":""},{"$f":"IF('9'!$B$24=\"\", \"\", '9'!$B$24)","v":""},{"$f":"IF('9'!$B$25=\"\", \"\", '9'!$B$25)","v":""},{"$f":"IF('9'!$B$26=\"\", \"\", '9'!$B$26)","v":""},{"$f":"IF('9'!$B$27=\"\", \"\", '9'!$B$27)","v":""},{"$f":"IF('9'!$B$28=\"\", \"\", '9'!$B$28)","v":""},{"$f":"IF('9'!$B$29=\"\", \"\", '9'!$B$29)","v":""},{"$f":"IF('9'!$B$30=\"\", \"\", '9'!$B$30)","v":""},{"$f":"IF('9'!$B$31=\"\", \"\", '9'!$B$31)","v":""},{"$f":"IF('9'!$B$32=\"\", \"\", '9'!$B$32)","v":""},{"$f":"IF('9'!$B$33=\"\", \"\", '9'!$B$33)","v":""},{"$f":"IF('9'!$B$34=\"\", \"\", '9'!$B$34)","v":""},0,"",{"$nulls":37},"","",""]
[null,10,{"$f":"IF('10'!$B$11=\"\", \"\", '10'!$B$11)","v":""},{"$f":"IF('10'!$B$12=\"\", \"\", '10'!$B$12)","v":""},{"$f":"IF('10'!$B$13=\"\", \"\", '10'!$B$13)","v":""},{"$f":"IF('10'!$B$14=\"\", \"\", '10'!$B$14)","v":""},{"$f":"IF('10'!$B$15=\"\", \"\", '10'!$B$15)","v":""},{"$f":"IF('10'!$B$16=\"\", \"\", '10'!$B$16)","v":""},{"$f":"IF('10'!$B$17=\"\", \"\", '10'!$B$17)","v":""},{"$f":"IF('10'!$B$18=\"\", \"\", '10'!$B$18)","v":""},{"$f":"IF('10'!$B$19=\"\", \"\", '10'!$B$19)","v":""},{"$f":"IF('10'!$B$20=\"\", \"\", '10'!$B$20)","v":""},{"$f":"IF('10'!$B$21=\"\", \"\", '10'!$B$21)","v":""},{"$f":"IF('10'!$B$22=\"\", \"\", '10'!$B$22)","v":""},{"$f":"IF('10'!$B$23=\"\", \"\", '10'!$B$23)","v":""},{"$f":"IF('10'!$B$24=\"\", \"\", '10'!$B$24)","v":""},{"$f":"IF('10'!$B$25=\"\", \"\", '10'!$B$25)","v":""},{"$f":"IF('10'!$B$26=\"\", \"\", '10'!$B$26)","v":""},{"$f":"IF('10'!$B$27=\"\", \"\", '10'!$B$27)","v":""},{"$f":"IF('10'!$B$28=\"\", \"\", '10'!$B$28)","v":""},{"$f":"IF('10'!$B$29=\"\", \"\", '10'!$B$29)","v":""},{"$f":"IF('10'!$B$30=\"\", \"\", '10'!$B$30)","v":""},{"$f":"IF('10'!$B$31=\"\", \"\", '10'!$B$31)","v":""},{"$f":"IF('10'!$B$32=\"\", \"\", '10'!$B$32)","v":""},{"$f":"IF('10'!$B$33=\"\", \"\", '10'!$B$33)","v":""},{"$f":"IF('10'!$B$34=\"\", \"\", '10'!$B$34)","v":""},0,"",{"$nulls":37},"","",""]
[null,11,{"$f":"IF('11'!$B$11=\"\", \"\", '11'!$B$11)","v":""},{"$f":"IF('11'!$B$12=\"\", \"\", '11'!$B$12)","v":""},{"$f":"IF('11'!$B$13=\"\", \"\", '11'!$B$13)","v":""},{"$f":"IF('11'!$B$14=\"\", \"\", '11'!$B$14)","v":""},{"$f":"IF('11'!$B$15=\"\", \"\", '11'!$B$15)","v":""},{"$f":"IF('11'!$B$16=\"\", \"\", '11'!$B$16)","v":""},{"$f":"IF('11'!$B$17=\"\", \"\", '11'!$B$17)","v":""},{"$f":"IF('11'!$B$18=\"\", \"\", '11'!$B$18)","v":""},{"$f":"IF('11'!$B$19=\"\", \"\", '11'!$B$19)","v":""},{"$f":"IF('11'!$B$20=\"\", \"\", '11'!$B$20)","v":""},{"$f":"IF('11'!$B$21=\"\", \"\", '11'!$B$21)","v":""},{"$f":"IF('11'!$B$22=\"\", \"\", '11'!$B$22)","v":""},{"$f":"IF('11'!$B$23=\"\", \"\", '11'!$B$23)","v":""},{"$f":"IF('11'!$B$24=\"\", \"\", '11'!$B$24)","v":""},{"$f":"IF('11'!$B$25=\"\", \"\", '11'!$B$25)","v":""},{"$f":"IF('11'!$B$26=\"\", \"\", '11'!$B$26)","v":""},{"$f":"IF('11'!$B$27=\"\", \"\", '11'!$B$27)","v":""},{"$f":"IF('11'!$B$28=\"\", \"\", '11'!$B$28)","v":""},{"$f":"IF('11'!$B$29=\"\", \"\", '11'!$B$29)","v":""},{"$f":"IF('11'!$B$30=\"\", \"\", '11'!$B$30)","v":""},{"$f":"IF('11'!$B$31=\"\", \"\", '11'!$B$31)","v":""},{"$f":"IF('11'!$B$32=\"\", \"\", '11'!$B$32)","v":""},{"$f":"IF('11'!$B$33=\"\", \"\", '11'!$B$33)","v":""},{"$f":"IF('11'!$B$34=\"\", \"\", '11'!$B$34)","v":""},0,"",{"$nulls":37},"","",""]
[null,12,{"$f":"IF('12'!$B$11=\"\", \"\", '12'!$B$11)","v":""},{"$f":"IF('12'!$B$12=\"\", \"\", '12'!$B$12)","v":""},{"$f":"IF('12'!$B$13=\"\", \"\", '12'!$B$13)","v":""},{"$f":"IF('12'!$B$14=\"\", \"\", '12'!$B$14)","v":""},{"$f":"IF('12'!$B$15=\"\", \"\", '12'!$B$15)","v":""},{"$f":"IF('12'!$B$16=\"\", \"\", '12'!$B$16)","v":""},{"$f":"IF('12'!$B$17=\"\", \"\", '12'!$B$17)","v":""},{"$f":"IF('12'!$B$18=\"\", \"\", '12'!$B$18)","v":""},{"$f":"IF('12'!$B$19=\"\", \"\", '12'!$B$19)","v":""},{"$f":"IF('12'!$B$20=\"\", \"\", '12'!$B$20)","v":""},{"$f":"IF('12'!$B$21=\"\", \"\", '12'!$B$21)","v":""},{"$f":"IF('12'!$B$22=\"\", \"\", '12'!$B$22)","v":""},{"$f":"IF('12'!$B$23=\"\", \"\", '12'!$B$23)","v":""},{"$f":"IF('12'!$B$24=\"\", \"\", '12'!$B$24)","v":""},{"$f":"IF('12'!$B$25=\"\", \"\", '12'!$B$25)","v":""},{"$f":"IF('12'!$B$26=\"\", \"\", '12'!$B$26)","v":""},{"$f":"IF('12'!$B$27=\"\", \"\", '12'!$B$27)","v":""},{"$f":"IF('12'!$B$28=\"\", \"\", '12'!$B$28)","v":""},{"$f":"IF('12'!$B$29=\"\", \"\", '12'!$B$29)","v":""},{"$f":"IF('12'!$B$30=\"\", \"\", '12'!$B$30)","v":""},{"$f":"IF('12'!$B$31=\"\", \"\", '12'!$B$31)","v":""},{"$f":"IF('12'!$B$32=\"\", \"\", '12'!$B$32)","v":""},{"$f":"IF('12'!$B$33=\"\", \"\", '12'!$B$33)","v":""},{"$f":"IF('12'!$B$34=\"\", \"\", '12'!$B$34)","v":""},0,"",{"$nulls":37},"","",""]
[null,13,{"$f":"IF('13'!$B$11=\"\", \"\", '13'!$B$11)","v":""},{"$f":"IF('13'!$B$12=\"\", \"\", '13'!$B$12)","v":""},{"$f":"IF('13'!$B$13=\"\", \"\", '13'!$B$13)","v":""},{"$f":"IF('13'!$B$14=\"\", \"\", '13'!$B$14)","v":""},{"$f":"IF('13'!$B$15=\"\", \"\", '13'!$B$15)","v":""},{"$f":"IF('13'!$B$16=\"\", \"\", '13'!$B$16)","v":""},{"$f":"IF('13'!$B$17=\"\", \"\", '13'!$B$17)","v":""},{"$f":"IF('13'!$B$18=\"\", \"\", '13'!$B$18)","v":""},{"$f":"IF('13'!$B$19=\"\", \"\", '13'!$B$19)","v":""},{"$f":"IF('13'!$B$20=\"\", \"\", '13'!$B$20)","v":""},{"$f":"IF('13'!$B$21=\"\", \"\", '13'!$B$21)","v":""},{"$f":"IF('13'!$B$22=\"\", \"\", '13'!$B$22)","v":""},{"$f":"IF('13'!$B$23=\"\", \"\", '13'!$B$23)","v":""},{"$f":"IF('13'!$B$24=\"\", \"\", '13'!$B$24)","v":""},{"$f":"IF('13'!$B$25=\"\", \"\", '13'!$B$25)","v":""},{"$f":"IF('13'!$B$26=\"\", \"\", '13'!$B$26)","v":""},{"$f":"IF('13'!$B$27=\"\", \"\", '13'!$B$27)","v":""},{"$f":"IF('13'!$B$28=\"\", \"\", '13'!$B$28)","v":""},{"$f":"IF('13'!$B$29=\"\", \"\", '13'!$B$29)","v":""},{"$f":"IF('13'!$B$30=\"\", \"\", '13'!$B$30)","v":""},{"$f":"IF('13'!$B$31=\"\", \"\", '13'!$B$31)","v":""},{"$f":"IF('13'!$B$32=\"\", \"\", '13'!$B$32)","v":""},{"$f":"IF('13'!$B$33=\"\", \"\", '13'!$B$33)","v":""},{"$f":"IF('13'!$B$34=\"\", \"\", '13'!$B$34)","v":""},0,"",{"$nulls":37},"","",""]
[null,14,{"$f":"IF('14'!$B$11=\"\", \"\", '14'!$B$11)","v":""},{"$f":"IF('14'!$B$12=\"\", \"\", '14'!$B$12)","v":""},{"$f":"IF('14'!$B$13=\"\", \"\", '14'!$B$13)","v":""},{"$f":"IF('14'!$B$14=\"\", \"\", '14'!$B$14)","v":""},{"$f":"IF('14'!$B$15=\"\", \"\", '14'!$B$15)","v":""},{"$f":"IF('14'!$B$16=\"\", \"\", '14'!$B$16)","v":""},{"$f":"IF('14'!$B$17=\"\", \"\", '14'!$B$17)","v":""},{"$f":"IF('14'!$B$18=\"\", \"\", '14'!$B$18)","v":""},{"$f":"IF('14'!$B$19=\"\", \"\", '14'!$B$19)","v":""},{"$f":"IF('14'!$B$20=\"\", \"\", '14'!$B$20)","v":""},{"$f":"IF('14'!$B$21=\"\", \"\", '14'!$B$21)","v":""},{"$f":"IF('14'!$B$22=\"\", \"\", '14'!$B$22)","v":""},{"$f":"IF('14'!$B$23=\"\", \"\", '14'!$B$23)","v":""},{"$f":"IF('14'!$B$24=\"\", \"\", '14'!$B$24)","v":""},{"$f":"IF('14'!$B$25=\"\", \"\", '14'!$B$25)","v":""},{"$f":"IF('14'!$B$26=\"\", \"\", '14'!$B$26)","v":""},{"$f":"IF('14'!$B$27=\"\", \"\", '14'!$B$27)","v":""},{"$f":"IF('14'!$B$28=\"\", \"\", '14'!$B$28)","v":""},{"$f":"IF('14'!$B$29=\"\", \"\", '14'!$B$29)","v":""},{"$f":"IF('14'!$B$30=\"\", \"\", '14'!$B$30)","v":""},{"$f":"IF('14'!$B$31=\"\", \"\", '14'!$B$31)","v":""},{"$f":"IF('14'!$B$32=\"\", \"\", '14'!$B$32)","v":""},{"$f":"IF('14'!$B$33=\"\", \"\", '14'!$B$33)","v":""},{"$f":"IF('14'!$B$34=\"\", \"\", '14'!$B$34)","v":""},0,"",{"$nulls":37},"","",""]
[null,15,{"$f":"IF('15'!$B$11=\"\", \"\", '15'!$B$11)","v":""},{"$f":"IF('15'!$B$12=\"\", \"\", '15'!$B$12)","v":""},{"$f":"IF('15'!$B$13=\"\", \"\", '15'!$B$13)","v":""},{"$f":"IF('15'!$B$14=\"\", \"\", '15'!$B$14)","v":""},{"$f":"IF('15'!$B$15=\"\", \"\", '15'!$B$15)","v":""},{"$f":"IF('15'!$B$16=\"\", \"\", '15'!$B$16)","v":""},{"$f":"IF('15'!$B$17=\"\", \"\", '15'!$B$17)","v":""},{"$f":"IF('15'!$B$18=\"\", \"\", '15'!$B$18)","v":""},{"$f":"IF('15'!$B$19=\"\", \"\", '15'!$B$19)","v":""},{"$f":"IF('15'!$B$20=\"\", \"\", '15'!$B$20)","v":""},{"$f":"IF('15'!$B$21=\"\", \"\", '15'!$B$21)","v":""},{"$f":"IF('15'!$B$22=\"\", \"\", '15'!$B$22)","v":""},{"$f":"IF('15'!$B$23=\"\", \"\", '15'!$B$23)","v":""},{"$f":"IF('15'!$B$24=\"\", \"\", '15'!$B$24)","v":""},{"$f":"IF('15'!$B$25=\"\", \"\", '15'!$B$25)","v":""},{"$f":"IF('15'!$B$26=\"\", \"\", '15'!$B$26)","v":""},{"$f":"IF('15'!$B$27=\"\", \"\", '15'!$B$27)","v":""},{"$f":"IF('15'!$B$28=\"\", \"\", '15'!$B$28)","v":""},{"$f":"IF('15'!$B$29=\"\", \"\", '15'!$B$29)","v":""},{"$f":"IF('15'!$B$30=\"\", \"\", '15'!$B$30)","v":""},{"$f":"IF('15'!$B$31=\"\", \"\", '15'!$B$31)","v":""},{"$f":"IF('15'!$B$32=\"\", \"\", '15'!$B$32)","v":""},{"$f":"IF('15'!$B$33=\"\", \"\", '15'!$B$33)","v":""},{"$f":"IF('15'!$B$34=\"\", \"\", '15'!$B$34)","v":""},0,"",{"$nulls":37},"","",""]
[null,16,{"$f":"IF('16'!$B$11=\"\", \"\", '16'!$B$11)","v":""},{"$f":"IF('16'!$B$12=\"\", \"\", '16'!$B$12)","v":""},{"$f":"IF('16'!$B$13=\"\", \"\", '16'!$B$13)","v":""},{"$f":"IF('16'!$B$14=\"\", \"\", '16'!$B$14)","v":""},{"$f":"IF('16'!$B$15=\"\", \"\", '16'!$B$15)","v":""},{"$f":"IF('16'!$B$16=\"\", \"\", '16'!$B$16)","v":""},{"$f":"IF('16'!$B$17=\"\", \"\", '16'!$B$17)","v":""},{"$f":"IF('16'!$B$18=\"\", \"\", '16'!$B$18)","v":""},{"$f":"IF('16'!$B$19=\"\", \"\", '16'!$B$19)","v":""},{"$f":"IF('16'!$B$20=\"\", \"\", '16'!$B$20)","v":""},{"$f":"IF('16'!$B$21=\"\", \"\", '16'!$B$21)","v":""},{"$f":"IF('16'!$B$22=\"\", \"\", '16'!$B$22)","v":""},{"$f":"IF('16'!$B$23=\"\", \"\", '16'!$B$23)","v":""},{"$f":"IF('16'!$B$24=\"\", \"\", '16'!$B$24)","v":""},{"$f":"IF('16'!$B$25=\"\", \"\", '16'!$B$25)","v":""},{"$f":"IF('16'!$B$26=\"\", \"\", '16'!$B$26)","v":""},{"$f":"IF('16'!$B$27=\"\", \"\", '16'!$B$27)","v":""},{"$f":"IF('16'!$B$28=\"\", \"\", '16'!$B$28)","v":""},{"$f":"IF('16'!$B$29=\"\", \"\", '16'!$B$29)","v":""},{"$f":"IF('16'!$B$30=\"\", \"\", '16'!$B$30)","v":""},{"$f":"IF('16'!$B$31=\"\", \"\", '16'!$B$31)","v":""},{"$f":"IF('16'!$B$32=\"\", \"\", '16'!$B$32)","v":""},{"$f":"IF('16'!$B$33=\"\", \"\", '16'!$B$33)","v":""},{"$f":"IF('16'!$B$34=\"\", \"\", '16'!$B$34)","v":""},0,"",{"$nulls":37},"","",""]
[null,17,{"$f":"IF('17'!$B$11=\"\", \"\", '17'!$B$11)","v":""},{"$f":"IF('17'!$B$12=\"\", \"\", '17'!$B$12)","v":""},{"$f":"IF('17'!$B$13=\"\", \"\", '17'!$B$13)","v":""},{"$f":"IF('17'!$B$14=\"\", \"\", '17'!$B$14)","v":""},{"$f":"IF('17'!$B$15=\"\", \"\", '17'!$B$15)","v":""},{"$f":"IF('17'!$B$16=\"\", \"\", '17'!$B$16)","v":""},{"$f":"IF('17'!$B$17=\"\", \"\", '17'!$B$17)","v":""},{"$f":"IF('17'!$B$18=\"\", \"\", '17'!$B$18)","v":""},{"$f":"IF('17'!$B$19=\"\", \"\", '17'!$B$19)","v":""},{"$f":"IF('17'!$B$20=\"\", \"\", '17'!$B$20)","v":""},{"$f":"IF('17'!$B$21=\"\", \"\", '17'!$B$21)","v":""},{"$f":"IF('17'!$B$22=\"\", \"\", '17'!$B$22)","v":""},{"$f":"IF('17'!$B$23=\"\", \"\", '17'!$B$23)","v":""},{"$f":"IF('17'!$B$24=\"\", \"\", '17'!$B$24)","v":""},{"$f":"IF('17'!$B$25=\"\", \"\", '17'!$B$25)","v":""},{"$f":"IF('17'!$B$26=\"\", \"\", '17'!$B$26)","v":""},{"$f":"IF('17'!$B$27=\"\", \"\", '17'!$B$27)","v":""},{"$f":"IF('17'!$B$28=\"\", \"\", '17'!$B$28)","v":""},{"$f":"IF('17'!$B$29=\"\", \"\", '17'!$B$29)","v":""},{"$f":"IF('17'!$B$30=\"\", \"\", '17'!$B$30)","v":""},{"$f":"IF('17'!$B$31=\"\", \"\", '17'!$B$31)","v":""},{"$f":"IF('17'!$B$32=\"\", \"\", '17'!$B$32)","v":""},{"$f":"IF('17'!$B$33=\"\", \"\", '17'!$B$33)","v":""},{"$f":"IF('17'!$B$34=\"\", \"\", '17'!$B$34)","v":""},0,"",{"$nulls":37},"","",""]
[null,18,{"$f":"IF('18'!$B$11=\"\", \"\", '18'!$B$11)","v":""},{"$f":"IF('18'!$B$12=\"\", \"\", '18'!$B$12)","v":""},{"$f":"IF('18'!$B$13=\"\", \"\", '18'!$B$13)","v":""},{"$f":"IF('18'!$B$14=\"\", \"\", '18'!$B$14)","v":""},{"$f":"IF('18'!$B$15=\"\", \"\", '18'!$B$15)","v":""},{"$f":"IF('18'!$B$16=\"\", \"\", '18'!$B$16)","v":""},{"$f":"IF('18'!$B$17=\"\", \"\", '18'!$B$17)","v":""},{"$f":"IF('18'!$B$18=\"\", \"\", '18'!$B$18)","v":""},{"$f":"IF('18'!$B$19=\"\", \"\", '18'!$B$19)","v":""},{"$f":"IF('18'!$B$20=\"\", \"\", '18'!$B$20)","v":""},{"$f":"IF('18'!$B$21=\"\", \"\", '18'!$B$21)","v":""},{"$f":"IF('18'!$B$22=\"\", \"\", '18'!$B$22)","v":""},{"$f":"IF('18'!$B$23=\"\", \"\", '18'!$B$23)","v":""},{"$f":"IF('18'!$B$24=\"\", \"\", '18'!$B$24)","v":""},{"$f":"IF('18'!$B$25=\"\", \"\", '18'!$B$25)","v":""},{"$f":"IF('18'!$B$26=\"\", \"\", '18'!$B$26)","v":""},{"$f":"IF('18'!$B$27=\"\", \"\", '18'!$B$27)","v":""},{"$f":"IF('18'!$B$28=\"\", \"\", '18'!$B$28)","v":""},{"$f":"IF('18'!$B$29=\"\", \"\", '18'!$B$29)","v":""},{"$f":"IF('18'!$B$30=\"\", \"\", '18'!$B$30)","v":""},{"$f":"IF('18'!$B$31=\"\", \"\", '18'!$B$31)","v":""},{"$f":"IF('18'!$B$32=\"\", \"\", '18'!$B$32)","v":""},{"$f":"IF('18'!$B$33=\"\", \"\", '18'!$B$33)","v":""},{"$f":"IF('18'!$B$34=\"\", \"\", '18'!$B$34)","v":""},0,"",{"$nulls":37},"","",""]
[null,19,{"$f":"IF('19'!$B$11=\"\", \"\", '19'!$B$11)","v":""},{"$f":"IF('19'!$B$12=\"\", \"\", '19'!$B$12)","v":""},{"$f":"IF('19'!$B$13=\"\", \"\", '19'!$B$13)","v":""},{"$f":"IF('19'!$B$14=\"\", \"\", '19'!$B$14)","v":""},{"$f":"IF('19'!$B$15=\"\", \"\", '19'!$B$15)","v":""},{"$f":"IF('19'!$B$16=\"\", \"\", '19'!$B$16)","v":""},{"$f":"IF('19'!$B$17=\"\", \"\", '19'!$B$17)","v":""},{"$f":"IF('19'!$B$18=\"\", \"\", '19'!$B$18)","v":""},{"$f":"IF('19'!$B$19=\"\", \"\", '19'!$B$19)","v":""},{"$f":"IF('19'!$B$20=\"\", \"\", '19'!$B$20)","v":""},{"$f":"IF('19'!$B$21=\"\", \"\", '19'!$B$21)","v":""},{"$f":"IF('19'!$B$22=\"\", \"\", '19'!$B$22)","v":""},{"$f":"IF('19'!$B$23=\"\", \"\", '19'!$B$23)","v":""},{"$f":"IF('19'!$B$24=\"\", \"\", '19'!$B$24)","v":""},{"$f":"IF('19'!$B$25=\"\", \"\", '19'!$B$25)","v":""},{"$f":"IF('19'!$B$26=\"\", \"\", '19'!$B$26)","v":""},{"$f":"IF('19'!$B$27=\"\", \"\", '19'!$B$27)","v":""},{"$f":"IF('19'!$B$28=\"\", \"\", '19'!$B$28)","v":""},{"$f":"IF('19'!$B$29=\"\", \"\", '19'!$B$29)","v":""},{"$f":"IF('19'!$B$30=\"\", \"\", '19'!$B$30)","v":""},{"$f":"IF('19'!$B$31=\"\", \"\", '19'!$B$31)","v":""},{"$f":"IF('19'!$B$32=\"\", \"\", '19'!$B$32)","v":""},{"$f":"IF('19'!$B$33=\"\", \"\", '19'!$B$33)","v":""},{"$f":"IF('19'!$B$34=\"\", \"\", '19'!$B$34)","v":""},0,"",{"$nulls":37},"","",""]
[null,20,{"$f":"IF('20'!$B$11=\"\", \"\", '20'!$B$11)","v":""},{"$f":"IF('20'!$B$12=\"\", \"\", '20'!$B$12)","v":""},{"$f":"IF('20'!$B$13=\"\", \"\", '20'!$B$13)","v":""},{"$f":"IF('20'!$B$14=\"\", \"\", '20'!$B$14)","v":""},{"$f":"IF('20'!$B$15=\"\", \"\", '20'!$B$15)","v":""},{"$f":"IF('20'!$B$16=\"\", \"\", '20'!$B$16)","v":""},{"$f":"IF('20'!$B$17=\"\", \"\", '20'!$B$17)","v":""},{"$f":"IF('20'!$B$18=\"\", \"\", '20'!$B$18)","v":""},{"$f":"IF('20'!$B$19=\"\", \"\", '20'!$B$19)","v":""},{"$f":"IF('20'!$B$20=\"\", \"\", '20'!$B$20)","v":""},{"$f":"IF('20'!$B$21=\"\", \"\", '20'!$B$21)","v":""},{"$f":"IF('20'!$B$22=\"\", \"\", '20'!$B$22)","v":""},{"$f":"IF('20'!$B$23=\"\", \"\", '20'!$B$23)","v":""},{"$f":"IF('20'!$B$24=\"\", \"\", '20'!$B$24)","v":""},{"$f":"IF('20'!$B$25=\"\", \"\", '20'!$B$25)","v":""},{"$f":"IF('20'!$B$26=\"\", \"\", '20'!$B$26)","v":""},{"$f":"IF('20'!$B$27=\"\", \"\", '20'!$B$27)","v":""},{"$f":"IF('20'!$B$28=\"\", \"\", '20'!$B$28)","v":""},{"$f":"IF('20'!$B$29=\"\", \"\", '20'!$B$29)","v":""},{"$f":"IF('20'!$B$30=\"\", \"\", '20'!$B$30)","v":""},{"$f":"IF('20'!$B$31=\"\", \"\", '20'!$B$31)","v":""},{"$f":"IF('20'!$B$32=\"\", \"\", '20'!$B$32)","v":""},{"$f":"IF('20'!$B$33=\"\", \"\", '20'!$B$33)","v":""},{"$f":"IF('20'!$B$34=\"\", \"\", '20'!$B$34)","v":""},0,"",{"$nulls":37},"","",""]
[null,21,{"$f":"IF('21'!$B$11=\"\", \"\", '21'!$B$11)","v":""},{"$f":"IF('21'!$B$12=\"\", \"\", '21'!$B$12)","v":""},{"$f":"IF('21'!$B$13=\"\", \"\", '21'!$B$13)","v":""},{"$f":"IF('21'!$B$14=\"\", \"\", '21'!$B$14)","v":""},{"$f":"IF('21'!$B$15=\"\", \"\", '21'!$B$15)","v":""},{"$f":"IF('21'!$B$16=\"\", \"\", '21'!$B$16)","v":""},{"$f":"IF('21'!$B$17=\"\", \"\", '21'!$B$17)","v":""},{"$f":"IF('21'!$B$18=\"\", \"\", '21'!$B$18)","v":""},{"$f":"IF('21'!$B$19=\"\", \"\", '21'!$B$19)","v":""},{"$f":"IF('21'!$B$20=\"\", \"\", '21'!$B$20)","v":""},{"$f":"IF('21'!$B$21=\"\", \"\", '21'!$B$21)","v":""},{"$f":"IF('21'!$B$22=\"\", \"\", '21'!$B$22)","v":""},{"$f":"IF('21'!$B$23=\"\", \"\", '21'!$B$23)","v":""},{"$f":"IF('21'!$B$24=\"\", \"\", '21'!$B$24)","v":""},{"$f":"IF('21'!$B$25=\"\", \"\", '21'!$B$25)","v":""},{"$f":"IF('21'!$B$26=\"\", \"\", '21'!$B$26)","v":""},{"$f":"IF('21'!$B$27=\"\", \"\", '21'!$B$27)","v":""},{"$f":"IF('21'!$B$28=\"\", \"\", '21'!$B$28)","v":""},{"$f":"IF('21'!$B$29=\"\", \"\", '21'!$B$29)","v":""},{"$f":"IF('21'!$B$30=\"\", \"\", '21'!$B$30)","v":""},{"$f":"IF('21'!$B$31=\"\", \"\", '21'!$B$31)","v":""},{"$f":"IF('21'!$B$32=\"\", \"\", '21'!$B$32)","v":""},{"$f":"IF('21'!$B$33=\"\", \"\", '21'!$B$33)","v":""},{"$f":"IF('21'!$B$34=\"\", \"\", '21'!$B$34)","v":""},0,"",{"$nulls":37},"","",""]
[null,22,{"$f":"IF('22'!$B$11=\"\", \"\", '22'!$B$11)","v":""},{"$f":"IF('22'!$B$12=\"\", \"\", '22'!$B$12)","v":""},{"$f":"IF('22'!$B$13=\"\", \"\", '22'!$B$13)","v":""},{"$f":"IF('22'!$B$14=\"\", \"\", '22'!$B$14)","v":""},{"$f":"IF('22'!$B$15=\"\", \"\", '22'!$B$15)","v":""},{"$f":"IF('22'!$B$16=\"\", \"\", '22'!$B$16)","v":""},{"$f":"IF('22'!$B$17=\"\", \"\", '22'!$B$17)","v":""},{"$f":"IF('22'!$B$18=\"\", \"\", '22'!$B$18)","v":""},{"$f":"IF('22'!$B$19=\"\", \"\", '22'!$B$19)","v":""},{"$f":"IF('22'!$B$20=\"\", \"\", '22'!$B$20)","v":""},{"$f":"IF('22'!$B$21=\"\", \"\", '22'!$B$21)","v":""},{"$f":"IF('22'!$B$22=\"\", \"\", '22'!$B$22)","v":""},{"$f":"IF('22'!$B$23=\"\", \"\", '22'!$B$23)","v":""},{"$f":"IF('22'!$B$24=\"\", \"\", '22'!$B$24)","v":""},{"$f":"IF('22'!$B$25=\"\", \"\", '22'!$B$25)","v":""},{"$f":"IF('22'!$B$26=\"\", \"\", '22'!$B$26)","v":""},{"$f":"IF('22'!$B$27=\"\", \"\", '22'!$B$27)","v":""},{"$f":"IF('22'!$B$28=\"\", \"\", '22'!$B$28)","v":""},{"$f":"IF('22'!$B$29=\"\", \"\", '22'!$B$29)","v":""},{"$f":"IF('22'!$B$30=\"\", \"\", '22'!$B$30)","v":""},{"$f":"IF('22'!$B$31=\"\", \"\", '22'!$B$31)","v":""},{"$f":"IF('22'!$B$32=\"\", \"\", '22'!$B$32)","v":""},{"$f":"IF('22'!$B$33=\"\", \"\", '22'!$B$33)","v":""},{"$f":"IF('22'!$B$34=\"\", \"\", '22'!$B$34)","v":""},0,"",{"$nulls":37},"","",""]
[null,23,{"$f":"IF('23'!$B$11=\"\", \"\", '23'!$B$11)","v":""},{"$f":"IF('23'!$B$12=\"\", \"\", '23'!$B$12)","v":""},{"$f":"IF('23'!$B$13=\"\", \"\", '23'!$B$13)","v":""},{"$f":"IF('23'!$B$14=\"\", \"\", '23'!$B$14)","v":""},{"$f":"IF('23'!$B$15=\"\", \"\", '23'!$B$15)","v":""},{"$f":"IF('23'!$B$16=\"\", \"\", '23'!$B$16)","v":""},{"$f":"IF('23'!$B$17=\"\", \"\", '23'!$B$17)","v":""},{"$f":"IF('23'!$B$18=\"\", \"\", '23'!$B$18)","v":""},{"$f":"IF('23'!$B$19=\"\", \"\", '23'!$B$19)","v":""},{"$f":"IF('23'!$B$20=\"\", \"\", '23'!$B$20)","v":""},{"$f":"IF('23'!$B$21=\"\", \"\", '23'!$B$21)","v":""},{"$f":"IF('23'!$B$22=\"\", \"\", '23'!$B$22)","v":""},{"$f":"IF('23'!$B$23=\"\", \"\", '23'!$B$23)","v":""},{"$f":"IF('23'!$B$24=\"\", \"\", '23'!$B$24)","v":""},{"$f":"IF('23'!$B$25=\"\", \"\", '23'!$B$25)","v":""},{"$f":"IF('23'!$B$26=\"\", \"\", '23'!$B$26)","v":""},{"$f":"IF('23'!$B$27=\"\", \"\", '23'!$B$27)","v":""},{"$f":"IF('23'!$B$28=\"\", \"\", '23'!$B$28)","v":""},{"$f":"IF('23'!$B$29=\"\", \"\", '23'!$B$29)","v":""},{"$f":"IF('23'!$B$30=\"\", \"\", '23'!$B$30)","v":""},{"$f":"IF('23'!$B$31=\"\", \"\", '23'!$B$31)","v":""},{"$f":"IF('23'!$B$32=\"\", \"\", '23'!$B$32)","v":""},{"$f":"IF('23'!$B$33=\"\", \"\", '23'!$B$33)","v":""},{"$f":"IF('23'!$B$34=\"\", \"\", '23'!$B$34)","v":""},0,"",{"$nulls":37},"","",""]
[null,24,{"$f":"IF('24'!$B$11=\"\", \"\", '24'!$B$11)","v":""},{"$f":"IF('24'!$B$12=\"\", \"\", '24'!$B$12)","v":""},{"$f":"IF('24'!$B$13=\"\", \"\", '24'!$B$13)","v":""},{"$f":"IF('24'!$B$14=\"\", \"\", '24'!$B$14)","v":""},{"$f":"IF('24'!$B$15=\"\", \"\", '24'!$B$15)","v":""},{"$f":"IF('24'!$B$16=\"\", \"\", '24'!$B$16)","v":""},{"$f":"IF('24'!$B$17=\"\", \"\", '24'!$B$17)","v":""},{"$f":"IF('24'!$B$18=\"\", \"\", '24'!$B$18)","v":""},{"$f":"IF('24'!$B$19=\"\", \"\", '24'!$B$19)","v":""},{"$f":"IF('24'!$B$20=\"\", \"\", '24'!$B$20)","v":""},{"$f":"IF('24'!$B$21=\"\", \"\", '24'!$B$21)","v":""},{"$f":"IF('24'!$B$22=\"\", \"\", '24'!$B$22)","v":""},{"$f":"IF('24'!$B$23=\"\", \"\", '24'!$B$23)","v":""},{"$f":"IF('24'!$B$24=\"\", \"\", '24'!$B$24)","v":""},{"$f":"IF('24'!$B$25=\"\", \"\", '24'!$B$25)","v":""},{"$f":"IF('24'!$B$26=\"\", \"\", '24'!$B$26)","v":""},{"$f":"IF('24'!$B$27=\"\", \"\", '24'!$B$27)","v":""},{"$f":"IF('24'!$B$28=\"\", \"\", '24'!$B$28)","v":""},{"$f":"IF('24'!$B$29=\"\", \"\", '24'!$B$29)","v":""},{"$f":"IF('24'!$B$30=\"\", \"\", '24'!$B$30)","v":""},{"$f":"IF('24'!$B$31=\"\", \"\", '24'!$B$31)","v":""},{"$f":"IF('24'!$B$32=\"\", \"\", '24'!$B$32)","v":""},{"$f":"IF('24'!$B$33=\"\", \"\", '24'!$B$33)","v":""},{"$f":"IF('24'!$B$34=\"\", \"\", '24'!$B$34)","v":""},0,"",{"$nulls":37},"","",""]
[null,{"$f":"B217+1","v":25},{"$f":"IF('25'!$B$11=\"\", \"\", '25'!$B$11)","v":""},{"$f":"IF('25'!$B$12=\"\", \"\", '25'!$B$12)","v":""},{"$f":"IF('25'!$B$13=\"\", \"\", '25'!$B$13)","v":""},{"$f":"IF('25'!$B$14=\"\", \"\", '25'!$B$14)","v":""},{"$f":"IF('25'!$B$15=\"\", \"\", '25'!$B$15)","v":""},{"$f":"IF('25'!$B$16=\"\", \"\", '25'!$B$16)","v":""},{"$f":"IF('25'!$B$17=\"\", \"\", '25'!$B$17)","v":""},{"$f":"IF('25'!$B$18=\"\", \"\", '25'!$B$18)","v":""},{"$f":"IF('25'!$B$19=\"\", \"\", '25'!$B$19)","v":""},{"$f":"IF('25'!$B$20=\"\", \"\", '25'!$B$20)","v":""},{"$f":"IF('25'!$B$21=\"\", \"\", '25'!$B$21)","v":""},{"$f":"IF('25'!$B$22=\"\", \"\", '25'!$B$22)","v":""},{"$f":"IF('25'!$B$23=\"\", \"\", '25'!$B$23)","v":""},{"$f":"IF('25'!$B$24=\"\", \"\", '25'!$B$24)","v":""},{"$f":"IF('25'!$B$25=\"\", \"\", '25'!$B$25)","v":""},{"$f":"IF('25'!$B$26=\"\", \"\", '25'!$B$26)","v":""},{"$f":"IF('25'!$B$27=\"\", \"\", '25'!$B$27)","v":""},{"$f":"IF('25'!$B$28=\"\", \"\", '25'!$B$28)","v":""},{"$f":"IF('25'!$B$29=\"\", \"\", '25'!$B$29)","v":""},{"$f":"IF('25'!$B$30=\"\", \"\", '25'!$B$30)","v":""},{"$f":"IF('25'!$B$31=\"\", \"\", '25'!$B$31)","v":""},{"$f":"IF('25'!$B$32=\"\", \"\", '25'!$B$32)","v":""},{"$f":"IF('25'!$B$33=\"\", \"\", '25'!$B$33)","v":""},{"$f":"IF('25'!$B$34=\"\", \"\", '25'!$B$34)","v":""},0,"",{"$nulls":37},"","",""]
[null,26,{"$f":"IF('26'!$B$11=\"\", \"\", '26'!$B$11)","v":""},{"$f":"IF('26'!$B$12=\"\", \"\", '26'!$B$12)","v":""},{"$f":"IF('26'!$B$13=\"\", \"\", '26'!$B$13)","v":""},{"$f":"IF('26'!$B$14=\"\", \"\", '26'!$B$14)","v":""},{"$f":"IF('26'!$B$15=\"\", \"\", '26'!$B$15)","v":""},{"$f":"IF('26'!$B$16=\"\", \"\", '26'!$B$16)","v":""},{"$f":"IF('26'!$B$17=\"\", \"\", '26'!$B$17)","v":""},{"$f":"IF('26'!$B$18=\"\", \"\", '26'!$B$18)","v":""},{"$f":"IF('26'!$B$19=\"\", \"\", '26'!$B$19)","v":""},{"$f":"IF('26'!$B$20=\"\", \"\", '26'!$B$20)","v":""},{"$f":"IF('26'!$B$21=\"\", \"\", '26'!$B$21)","v":""},{"$f":"IF('26'!$B$22=\"\", \"\", '26'!$B$22)","v":""},{"$f":"IF('26'!$B$23=\"\", \"\", '26'!$B$23)","v":""},{"$f":"IF('26'!$B$24=\"\", \"\", '26'!$B$24)","v":""},{"$f":"IF('26'!$B$25=\"\", \"\", '26'!$B$25)","v":""},{"$f":"IF('26'!$B$26=\"\", \"\", '26'!$B$26)","v":""},{"$f":"IF('26'!$B$27=\"\", \"\", '26'!$B$27)","v":""},{"$f":"IF('26'!$B$28=\"\", \"\", '26'!$B$28)","v":""},{"$f":"IF('26'!$B$29=\"\", \"\", '26'!$B$29)","v":""},{"$f":"IF('26'!$B$30=\"\", \"\", '26'!$B$30)","v":""},{"$f":"IF('26'!$B$31=\"\", \"\", '26'!$B$31)","v":""},{"$f":"IF('26'!$B$32=\"\", \"\", '26'!$B$32)","v":""},{"$f":"IF('26'!$B$33=\"\", \"\", '26'!$B$33)","v":""},{"$f":"IF('26'!$B$34=\"\", \"\", '26'!$B$34)","v":""},0,"",{"$nulls":37},"","",""]
[null,27,{"$f":"IF('27'!$B$11=\"\", \"\", '27'!$B$11)","v":""},{"$f":"IF('27'!$B$12=\"\", \"\", '27'!$B$12)","v":""},{"$f":"IF('27'!$B$13=\"\", \"\", '27'!$B$13)","v":""},{"$f":"IF('27'!$B$14=\"\", \"\", '27'!$B$14)","v":""},{"$f":"IF('27'!$B$15=\"\", \"\", '27'!$B$15)","v":""},{"$f":"IF('27'!$B$16=\"\", \"\", '27'!$B$16)","v":""},{"$f":"IF('27'!$B$17=\"\", \"\", '27'!$B$17)","v":""},{"$f":"IF('27'!$B$18=\"\", \"\", '27'!$B$18)","v":""},{"$f":"IF('27'!$B$19=\"\", \"\", '27'!$B$19)","v":""},{"$f":"IF('27'!$B$20=\"\", \"\", '27'!$B$20)","v":""},{"$f":"IF('27'!$B$21=\"\", \"\", '27'!$B$21)","v":""},{"$f":"IF('27'!$B$22=\"\", \"\", '27'!$B$22)","v":""},{"$f":"IF('27'!$B$23=\"\", \"\", '27'!$B$23)","v":""},{"$f":"IF('27'!$B$24=\"\", \"\", '27'!$B$24)","v":""},{"$f":"IF('27'!$B$25=\"\", \"\", '27'!$B$25)","v":""},{"$f":"IF('27'!$B$26=\"\", \"\", '27'!$B$26)","v":""},{"$f":"IF('27'!$B$27=\"\", \"\", '27'!$B$27)","v":""},{"$f":"IF('27'!$B$28=\"\", \"\", '27'!$B$28)","v":""},{"$f":"IF('27'!$B$29=\"\", \"\", '27'!$B$29)","v":""},{"$f":"IF('27'!$B$30=\"\", \"\", '27'!$B$30)","v":""},{"$f":"IF('27'!$B$31=\"\", \"\", '27'!$B$31)","v":""},{"$f":"IF('27'!$B$32=\"\", \"\", '27'!$B$32)","v":""},{"$f":"IF('27'!$B$33=\"\", \"\", '27'!$B$33)","v":""},{"$f":"IF('27'!$B$34=\"\", \"\", '27'!$B$34)","v":""},0,"",{"$nulls":37},"","",""]
[null,28,{"$f":"IF('28'!$B$11=\"\", \"\", '28'!$B$11)","v":""},{"$f":"IF('28'!$B$12=\"\", \"\", '28'!$B$12)","v":""},{"$f":"IF('28'!$B$13=\"\", \"\", '28'!$B$13)","v":""},{"$f":"IF('28'!$B$14=\"\", \"\", '28'!$B$14)","v":""},{"$f":"IF('28'!$B$15=\"\", \"\", '28'!$B$15)","v":""},{"$f":"IF('28'!$B$16=\"\", \"\", '28'!$B$16)","v":""},{"$f":"IF('28'!$B$17=\"\", \"\", '28'!$B$17)","v":""},{"$f":"IF('28'!$B$18=\"\", \"\", '28'!$B$18)","v":""},{"$f":"IF('28'!$B$19=\"\", \"\", '28'!$B$19)","v":""},{"$f":"IF('28'!$B$20=\"\", \"\", '28'!$B$20)","v":""},{"$f":"IF('28'!$B$21=\"\", \"\", '28'!$B$21)","v":""},{"$f":"IF('28'!$B$22=\"\", \"\", '28'!$B$22)","v":""},{"$f":"IF('28'!$B$23=\"\", \"\", '28'!$B$23)","v":""},{"$f":"IF('28'!$B$24=\"\", \"\", '28'!$B$24)","v":""},{"$f":"IF('28'!$B$25=\"\", \"\", '28'!$B$25)","v":""},{"$f":"IF('28'!$B$26=\"\", \"\", '28'!$B$26)","v":""},{"$f":"IF('28'!$B$27=\"\", \"\", '28'!$B$27)","v":""},{"$f":"IF('28'!$B$28=\"\", \"\", '28'!$B$28)","v":""},{"$f":"IF('28'!$B$29=\"\", \"\", '28'!$B$29)","v":""},{"$f":"IF('28'!$B$30=\"\", \"\", '28'!$B$30)","v":""},{"$f":"IF('28'!$B$31=\"\", \"\", '28'!$B$31)","v":""},{"$f":"IF('28'!$B$32=\"\", \"\", '28'!$B$32)","v":""},{"$f":"IF('28'!$B$33=\"\", \"\", '28'!$B$33)","v":""},{"$f":"IF('28'!$B$34=\"\", \"\", '28'!$B$34)","v":""},0,"",{"$nulls":37},"","",""]
[null,29,{"$f":"IF('29'!$B$11=\"\", \"\", '29'!$B$11)","v":""},{"$f":"IF('29'!$B$12=\"\", \"\", '29'!$B$12)","v":""},{"$f":"IF('29'!$B$13=\"\", \"\", '29'!$B$13)","v":""},{"$f":"IF('29'!$B$14=\"\", \"\", '29'!$B$14)","v":""},{"$f":"IF('29'!$B$15=\"\", \"\", '29'!$B$15)","v":""},{"$f":"IF('29'!$B$16=\"\", \"\", '29'!$B$16)","v":""},{"$f":"IF('29'!$B$17=\"\", \"\", '29'!$B$17)","v":""},{"$f":"IF('29'!$B$18=\"\", \"\", '29'!$B$18)","v":""},{"$f":"IF('29'!$B$19=\"\", \"\", '29'!$B$19)","v":""},{"$f":"IF('29'!$B$20=\"\", \"\", '29'!$B$20)","v":""},{"$f":"IF('29'!$B$21=\"\", \"\", '29'!$B$21)","v":""},{"$f":"IF('29'!$B$22=\"\", \"\", '29'!$B$22)","v":""},{"$f":"IF('29'!$B$23=\"\", \"\", '29'!$B$23)","v":""},{"$f":"IF('29'!$B$24=\"\", \"\", '29'!$B$24)","v":""},{"$f":"IF('29'!$B$25=\"\", \"\", '29'!$B$25)","v":""},{"$f":"IF('29'!$B$26=\"\", \"\", '29'!$B$26)","v":""},{"$f":"IF('29'!$B$27=\"\", \"\", '29'!$B$27)","v":""},{"$f":"IF('29'!$B$28=\"\", \"\", '29'!$B$28)","v":""},{"$f":"IF('29'!$B$29=\"\", \"\", '29'!$B$29)","v":""},{"$f":"IF('29'!$B$30=\"\", \"\", '29'!$B$30)","v":""},{"$f":"IF('29'!$B$31=\"\", \"\", '29'!$B$31)","v":""},{"$f":"IF('29'!$B$32=\"\", \"\", '29'!$B$32)","v":""},{"$f":"IF('29'!$B$33=\"\", \"\", '29'!$B$33)","v":""},{"$f":"IF('29'!$B$34=\"\", \"\", '29'!$B$34)","v":""},0,"",{"$nulls":37},"","",""]
[null,{"$f":"B222+1","v":30},{"$f":"IF('30'!$B$11=\"\", \"\", '30'!$B$11)","v":""},{"$f":"IF('30'!$B$12=\"\", \"\", '30'!$B$12)","v":""},{"$f":"IF('30'!$B$13=\"\", \"\", '30'!$B$13)","v":""},{"$f":"IF('30'!$B$14=\"\", \"\", '30'!$B$14)","v":""},{"$f":"IF('30'!$B$15=\"\", \"\", '30'!$B$15)","v":""},{"$f":"IF('30'!$B$16=\"\", \"\", '30'!$B$16)","v":""},{"$f":"IF('30'!$B$17=\"\", \"\", '30'!$B$17)","v":""},{"$f":"IF('30'!$B$18=\"\", \"\", '30'!$B$18)","v":""},{"$f":"IF('30'!$B$19=\"\", \"\", '30'!$B$19)","v":""},{"$f":"IF('30'!$B$20=\"\", \"\", '30'!$B$20)","v":""},{"$f":"IF('30'!$B$21=\"\", \"\", '30'!$B$21)","v":""},{"$f":"IF('30'!$B$22=\"\", \"\", '30'!$B$22)","v":""},{"$f":"IF('30'!$B$23=\"\", \"\", '30'!$B$23)","v":""},{"$f":"IF('30'!$B$24=\"\", \"\", '30'!$B$24)","v":""},{"$f":"IF('30'!$B$25=\"\", \"\", '30'!$B$25)","v":""},{"$f":"IF('30'!$B$26=\"\", \"\", '30'!$B$26)","v":""},{"$f":"IF('30'!$B$27=\"\", \"\", '30'!$B$27)","v":""},{"$f":"IF('30'!$B$28=\"\", \"\", '30'!$B$28)","v":""},{"$f":"IF('30'!$B$29=\"\", \"\", '30'!$B$29)","v":""},{"$f":"IF('30'!$B$30=\"\", \"\", '30'!$B$30)","v":""},{"$f":"IF('30'!$B$31=\"\", \"\", '30'!$B$31)","v":""},{"$f":"IF('30'!$B$32=\"\", \"\", '30'!$B$32)","v":""},{"$f":"IF('30'!$B$33=\"\", \"\", '30'!$B$33)","v":""},{"$f":"IF('30'!$B$34=\"\", \"\", '30'!$B$34)","v":""},0,"",{"$f":"6851/31","v":221},{"$nulls":36},"","",""]
[null,31,{"$f":"IF('31'!$B$11=\"\", \"\", '31'!$B$11)","v":""},{"$f":"IF('31'!$B$12=\"\", \"\", '31'!$B$12)","v":""},{"$f":"IF('31'!$B$13=\"\", \"\", '31'!$B$13)","v":""},{"$f":"IF('31'!$B$14=\"\", \"\", '31'!$B$14)","v":""},{"$f":"IF('31'!$B$15=\"\", \"\", '31'!$B$15)","v":""},{"$f":"IF('31'!$B$16=\"\", \"\", '31'!$B$16)","v":""},{"$f":"IF('31'!$B$17=\"\", \"\", '31'!$B$17)","v":""},{"$f":"IF('31'!$B$18=\"\", \"\", '31'!$B$18)","v":""},{"$f":"IF('31'!$B$19=\"\", \"\", '31'!$B$19)","v":""},{"$f":"IF('31'!$B$20=\"\", \"\", '31'!$B$20)","v":""},{"$f":"IF('31'!$B$21=\"\", \"\", '31'!$B$21)","v":""},{"$f":"IF('31'!$B$22=\"\", \"\", '31'!$B$22)","v":""},{"$f":"IF('31'!$B$23=\"\", \"\", '31'!$B$23)","v":""},{"$f":"IF('31'!$B$24=\"\", \"\", '31'!$B$24)","v":""},{"$f":"IF('31'!$B$25=\"\", \"\", '31'!$B$25)","v":""},{"$f":"IF('31'!$B$26=\"\", \"\", '31'!$B$26)","v":""},{"$f":"IF('31'!$B$27=\"\", \"\", '31'!$B$27)","v":""},{"$f":"IF('31'!$B$28=\"\", \"\", '31'!$B$28)","v":""},{"$f":"IF('31'!$B$29=\"\", \"\", '31'!$B$29)","v":""},{"$f":"IF('31'!$B$30=\"\", \"\", '31'!$B$30)","v":""},{"$f":"IF('31'!$B$31=\"\", \"\", '31'!$B$31)","v":""},{"$f":"IF('31'!$B$32=\"\", \"\", '31'!$B$32)","v":""},{"$f":"IF('31'!$B$33=\"\", \"\", '31'!$B$33)","v":""},{"$f":"IF('31'!$B$34=\"\", \"\", '31'!$B$34)","v":""},0,"",{"$nulls":37},"","",""]
["# Test",null,{"$f":"COUNTIF(C194:C224,  \">0\")","v":0},{"$f":"COUNTIF(D194:D224,  \">0\")","v":0},0,0,0,1,0,1,4,1,0,0,0,1,0,0,1,0,1,1,0,3,1,0,{"$f":"IF(COUNTA(AA194:AA224)=0,\"\",COUNTA(AA194:AA224))","v":31},{"$f":"IF(COUNTA(AB194:AB224)=0,\"\",COUNTA(AB194:AB224))","v":31},{"$nulls":37},10,15,{"v":1.5,"d":"2"}]
["TOT",null,{"$f":"IF(SUM(C194:C224)>0, SUM(C194:C224), \"\")","v":""},{"$f":"IF(SUM(D194:D224)>0, SUM(D194:D224), \"\")","v":""},"","","",202,"",188,841,163,"","","",256,"","",138,"",184,145,"",697,201,"",{"$f":"IFERROR((SUM(AA194:AA224)/AA225), \"\")","v":0.4838709677419355},{"$f":"IFERROR((SUM(AB194:AB224)/AB225), \"\")","v":50.56989247311827},{"$nulls":37},10,3015,{"v":301.5,"d":"302"}]
[null,"HR",1,{"$f":"C227+1","v":2},{"$f":"D227+1","v":3},4,5,6,7,8,9,10,11,12,13,14,15,16,17,18,19,20,21,22,23,24]
["Sys *** Day of the Month *** Sys",1,{"$f":"IF('1'!$D$11=\"\", \"\", '1'!$D$11)","v":""},{"$f":"IF('1'!$D$12=\"\", \"\", '1'!$D$12)","v":""},{"$f":"IF('1'!$D$13=\"\", \"\", '1'!$D$13)","v":""},{"$f":"IF('1'!$D$14=\"\", \"\", '1'!$D$14)","v":""},{"$f":"IF('1'!$D$15=\"\", \"\", '1'!$D$15)","v":""},{"$f":"IF('1'!$D$16=\"\", \"\", '1'!$D$16)","v":""},{"$f":"IF('1'!$D$17=\"\", \"\", '1'!$D$17)","v":""},{"$f":"IF('1'!$D$18=\"\", \"\", '1'!$D$18)","v":""},{"$f":"IF('1'!$D$19=\"\", \"\", '1'!$D$19)","v":""},{"$f":"IF('1'!$D$20=\"\", \"\", '1'!$D$20)","v":""},{"$f":"IF('1'!$D$21=\"\", \"\", '1'!$D$21)","v":""},{"$f":"IF('1'!$D$22=\"\", \"\", '1'!$D$22)","v":""},{"$f":"IF('1'!$D$23=\"\", \"\", '1'!$D$23)","v":""},{"$f":"IF('1'!$D$24=\"\", \"\", '1'!$D$24)","v":""},{"$f":"IF('1'!$D$25=\"\", \"\", '1'!$D$25)","v":""},{"$f":"IF('1'!$D$26=\"\", \"\", '1'!$D$26)","v":""},{"$f":"IF('1'!$D$27=\"\", \"\", '1'!$D$27)","v":""},{"$f":"IF('1'!$D$28=\"\", \"\", '1'!$D$28)","v":""},{"$f":"IF('1'!$D$29=\"\", \"\", '1'!$D$29)","v":""},{"$f":"IF('1'!$D$30=\"\", \"\", '1'!$D$30)","v":""},{"$f":"IF('1'!$D$31=\"\", \"\", '1'!$D$31)","v":""},{"$f":"IF('1'!$D$32=\"\", \"\", '1'!$D$32)","v":""},{"$f":"IF('1'!$D$33=\"\", \"\", '1'!$D$33)","v":""},{"$f":"IF('1'!$D$34=\"\", \"\", '1'!$D$34)","v":""},{"$f":"COUNTIF(C228:Z228, \">0\")","v":0},{"$f":"IFERROR((SUM(C228:Z228))/AA228, \"\")","v":""}]
[null,{"$f":"B228+1","v":2},{"$f":"IF('2'!$D$11=\"\", \"\", '2'!$D$11)","v":""},{"$f":"IF('2'!$D$12=\"\", \"\", '2'!$D$12)","v":""},{"$f":"IF('2'!$D$13=\"\", \"\", '2'!$D$13)","v":""},{"$f":"IF('2'!$D$14=\"\", \"\", '2'!$D$14)","v":""},{"$f":"IF('2'!$D$15=\"\", \"\", '2'!$D$15)","v":""},{"$f":"IF('2'!$D$16=\"\", \"\", '2'!$D$16)","v":""},{"$f":"IF('2'!$D$17=\"\", \"\", '2'!$D$17)","v":""},{"$f":"IF('2'!$D$18=\"\", \"\", '2'!$D$18)","v":""},{"$f":"IF('2'!$D$19=\"\", \"\", '2'!$D$19)","v":""},{"$f":"IF('2'!$D$20=\"\", \"\", '2'!$D$20)","v":""},{"$f":"IF('2'!$D$21=\"\", \"\", '2'!$D$21)","v":""},{"$f":"IF('2'!$D$22=\"\", \"\", '2'!$D$22)","v":""},{"$f":"IF('2'!$D$23=\"\", \"\", '2'!$D$23)","v":""},{"$f":"IF('2'!$D$24=\"\", \"\", '2'!$D$24)","v":""},{"$f":"IF('2'!$D$25=\"\", \"\", '2'!$D$25)","v":""},{"$f":"IF('2'!$D$26=\"\", \"\", '2'!$D$26)","v":""},{"$f":"IF('2'!$D$27=\"\", \"\", '2'!$D$27)","v":""},{"$f":"IF('2'!$D$28=\"\", \"\", '2'!$D$28)","v":""},{"$f":"IF('2'!$D$29=\"\", \"\", '2'!$D$29)","v":""},{"$f":"IF('2'!$D$30=\"\", \"\", '2'!$D$30)","v":""},{"$f":"IF('2'!$D$31=\"\", \"\", '2'!$D$31)","v":""},{"$f":"IF('2'!$D$32=\"\", \"\", '2'!$D$32)","v":""},{"$f":"IF('2'!$D$33=\"\", \"\", '2'!$D$33)","v":""},{"$f":"IF('2'!$D$34=\"\", \"\", '2'!$D$34)","v":""},0,""]
[null,{"$f":"B229+1","v":3},{"$f":"IF('3'!$D$11=\"\", \"\", '3'!$D$11)","v":""},{"$f":"IF('3'!$D$12=\"\", \"\", '3'!$D$12)","v":""},{"$f":"IF('3'!$D$13=\"\", \"\", '3'!$D$13)","v":""},{"$f":"IF('3'!$D$14=\"\", \"\", '3'!$D$14)","v":""},{"$f":"IF('3'!$D$15=\"\", \"\", '3'!$D$15)","v":""},{"$f":"IF('3'!$D$16=\"\", \"\", '3'!$D$16)","v":""},{"$f":"IF('3'!$D$17=\"\", \"\", '3'!$D$17)","v":""},{"$f":"IF('3'!$D$18=\"\", \"\", '3'!$D$18)","v":""},{"$f":"IF('3'!$D$19=\"\", \"\", '3'!$D$19)","v":""},{"$f":"IF('3'!$D$20=\"\", \"\", '3'!$D$20)","v":""},{"$f":"IF('3'!$D$21=\"\", \"\", '3'!$D$21)","v":""},{"$f":"IF('3'!$D$22=\"\", \"\", '3'!$D$22)","v":""},{"$f":"IF('3'!$D$23=\"\", \"\", '3'!$D$23)","v":""},{"$f":"IF('3'!$D$24=\"\", \"\", '3'!$D$24)","v":""},{"$f":"IF('3'!$D$25=\"\", \"\", '3'!$D$25)","v":""},{"$f":"IF('3'!$D$26=\"\", \"\", '3'!$D$26)","v":""},{"$f":"IF('3'!$D$27=\"\", \"\", '3'!$D$27)","v":""},{"$f":"IF('3'!$D$28=\"\", \"\", '3'!$D$28)","v":""},{"$f":"IF('3'!$D$29=\"\", \"\", '3'!$D$29)","v":""},{"$f":"IF('3'!$D$30=\"\", \"\", '3'!$D$30)","v":""},{"$f":"IF('3'!$D$31=\"\", \"\", '3'!$D$31)","v":""},{"$f":"IF('3'!$D$32=\"\", \"\", '3'!$D$32)","v":""},{"$f":"IF('3'!$D$33=\"\", \"\", '3'!$D$33)","v":""},{"$f":"IF('3'!$D$34=\"\", \"\", '3'!$D$34)","v":""},0,""]
[null,4,{"$f":"IF('4'!$D$11=\"\", \"\", '4'!$D$11)","v":""},{"$f":"IF('4'!$D$12=\"\", \"\", '4'!$D$12)","v":""},{"$f":"IF('4'!$D$13=\"\", \"\", '4'!$D$13)","v":""},{"$f":"IF('4'!$D$14=\"\", \"\", '4'!$D$14)","v":""},{"$f":"IF('4'!$D$15=\"\", \"\", '4'!$D$15)","v":""},{"$f":"IF('4'!$D$16=\"\", \"\", '4'!$D$16)","v":136},{"$f":"IF('4'!$D$17=\"\", \"\", '4'!$D$17)","v":""},{"$f":"IF('4'!$D$18=\"\", \"\", '4'!$D$18)","v":""},{"$f":"IF('4'!$D$19=\"\", \"\", '4'!$D$19)","v":""},{"$f":"IF('4'!$D$20=\"\", \"\", '4'!$D$20)","v":""},{"$f":"IF('4'!$D$21=\"\", \"\", '4'!$D$21)","v":""},{"$f":"IF('4'!$D$22=\"\", \"\", '4'!$D$22)","v":""},{"$f":"IF('4'!$D$23=\"\", \"\", '4'!$D$23)","v":""},{"$f":"IF('4'!$D$24=\"\", \"\", '4'!$D$24)","v":""},{"$f":"IF('4'!$D$25=\"\", \"\", '4'!$D$25)","v":""},{"$f":"IF('4'!$D$26=\"\", \"\", '4'!$D$26)","v":""},{"$f":"IF('4'!$D$27=\"\", \"\", '4'!$D$27)","v":""},{"$f":"IF('4'!$D$28=\"\", \"\", '4'!$D$28)","v":""},{"$f":"IF('4'!$D$29=\"\", \"\", '4'!$D$29)","v":""},{"$f":"IF('4'!$D$30=\"\", \"\", '4'!$D$30)","v":""},{"$f":"IF('4'!$D$31=\"\", \"\", '4'!$D$31)","v":""},{"$f":"IF('4'!$D$32=\"\", \"\", '4'!$D$32)","v":""},{"$f":"IF('4'!$D$33=\"\", \"\", '4'!$D$33)","v":""},{"$f":"IF('4'!$D$34=\"\", \"\", '4'!$D$34)","v":""},1,136]
[null,5,{"$f":"IF('5'!$D$11=\"\", \"\", '5'!$D$11)","v":""},{"$f":"IF('5'!$D$12=\"\", \"\", '5'!$D$12)","v":""},{"$f":"IF('5'!$D$13=\"\", \"\", '5'!$D$13)","v":""},{"$f":"IF('5'!$D$14=\"\", \"\", '5'!$D$14)","v":""},{"$f":"IF('5'!$D$15=\"\", \"\", '5'!$D$15)","v":""},{"$f":"IF('5'!$D$16=\"\", \"\", '5'!$D$16)","v":""},{"$f":"IF('5'!$D$17=\"\", \"\", '5'!$D$17)","v":""},{"$f":"IF('5'!$D$18=\"\", \"\", '5'!$D$18)","v":""},{"$f":"IF('5'!$D$19=\"\", \"\", '5'!$D$19)","v":""},{"$f":"IF('5'!$D$20=\"\", \"\", '5'!$D$20)","v":""},{"$f":"IF('5'!$D$21=\"\", \"\", '5'!$D$21)","v":""},{"$f":"IF('5'!$D$22=\"\", \"\", '5'!$D$22)","v":""},{"$f":"IF('5'!$D$23=\"\", \"\", '5'!$D$23)","v":""},{"$f":"IF('5'!$D$24=\"\", \"\", '5'!$D$24)","v":""},{"$f":"IF('5'!$D$25=\"\", \"\", '5'!$D$25)","v":""},{"$f":"IF('5'!$D$26=\"\", \"\", '5'!$D$26)","v":""},{"$f":"IF('5'!$D$27=\"\", \"\", '5'!$D$27)","v":""},{"$f":"IF('5'!$D$28=\"\", \"\", '5'!$D$28)","v":""},{"$f":"IF('5'!$D$29=\"\", \"\", '5'!$D$29)","v":""},{"$f":"IF('5'!$D$30=\"\", \"\", '5'!$D$30)","v":""},{"$f":"IF('5'!$D$31=\"\", \"\", '5'!$D$31)","v":""},{"$f":"IF('5'!$D$32=\"\", \"\", '5'!$D$32)","v":""},{"$f":"IF('5'!$D$33=\"\", \"\", '5'!$D$33)","v":""},{"$f":"IF('5'!$D$34=\"\", \"\", '5'!$D$34)","v":""},0,""]
[null,6,{"$f":"IF('6'!$D$11=\"\", \"\", '6'!$D$11)","v":""},{"$f":"IF('6'!$D$12=\"\", \"\", '6'!$D$12)","v":""},{"$f":"IF('6'!$D$13=\"\", \"\", '6'!$D$13)","v":""},{"$f":"IF('6'!$D$14=\"\", \"\", '6'!$D$14)","v":""},{"$f":"IF('6'!$D$15=\"\", \"\", '6'!$D$15)","v":""},{"$f":"IF('6'!$D$16=\"\", \"\", '6'!$D$16)","v":""},{"$f":"IF('6'!$D$17=\"\", \"\", '6'!$D$17)","v":""},{"$f":"IF('6'!$D$18=\"\", \"\", '6'!$D$18)","v":""},{"$f":"IF('6'!$D$19=\"\", \"\", '6'!$D$19)","v":""},{"$f":"IF('6'!$D$20=\"\", \"\", '6'!$D$20)","v":""},{"$f":"IF('6'!$D$21=\"\", \"\", '6'!$D$21)","v":""},{"$f":"IF('6'!$D$22=\"\", \"\", '6'!$D$22)","v":""},{"$f":"IF('6'!$D$23=\"\", \"\", '6'!$D$23)","v":""},{"$f":"IF('6'!$D$24=\"\", \"\", '6'!$D$24)","v":""},{"$f":"IF('6'!$D$25=\"\", \"\", '6'!$D$25)","v":""},{"$f":"IF('6'!$D$26=\"\", \"\", '6'!$D$26)","v":""},{"$f":"IF('6'!$D$27=\"\", \"\", '6'!$D$27)","v":""},{"$f":"IF('6'!$D$28=\"\", \"\", '6'!$D$28)","v":""},{"$f":"IF('6'!$D$29=\"\", \"\", '6'!$D$29)","v":""},{"$f":"IF('6'!$D$30=\"\", \"\", '6'!$D$30)","v":""},{"$f":"IF('6'!$D$31=\"\", \"\", '6'!$D$31)","v":""},{"$f":"IF('6'!$D$32=\"\", \"\", '6'!$D$32)","v":""},{"$f":"IF('6'!$D$33=\"\", \"\", '6'!$D$33)","v":""},{"$f":"IF('6'!$D$34=\"\", \"\", '6'!$D$34)","v":""},0,""]
[null,7,{"$f":"IF('7'!$D$11=\"\", \"\", '7'!$D$11)","v":""},{"$f":"IF('7'!$D$12=\"\", \"\", '7'!$D$12)","v":""},{"$f":"IF('7'!$D$13=\"\", \"\", '7'!$D$13)","v":""},{"$f":"IF('7'!$D$14=\"\", \"\", '7'!$D$14)","v":""},{"$f":"IF('7'!$D$15=\"\", \"\", '7'!$D$15)","v":""},{"$f":"IF('7'!$D$16=\"\", \"\", '7'!$D$16)","v":""},{"$f":"IF('7'!$D$17=\"\", \"\", '7'!$D$17)","v":""},{"$f":"IF('7'!$D$18=\"\", \"\", '7'!$D$18)","v":""},{"$f":"IF('7'!$D$19=\"\", \"\", '7'!$D$19)","v":""},{"$f":"IF('7'!$D$20=\"\", \"\", '7'!$D$20)","v":""},{"$f":"IF('7'!$D$21=\"\", \"\", '7'!$D$21)","v":""},{"$f":"IF('7'!$D$22=\"\", \"\", '7'!$D$22)","v":""},{"$f":"IF('7'!$D$23=\"\", \"\", '7'!$D$23)","v":""},{"$f":"IF('7'!$D$24=\"\", \"\", '7'!$D$24)","v":""},{"$f":"IF('7'!$D$25=\"\", \"\", '7'!$D$25)","v":""},{"$f":"IF('7'!$D$26=\"\", \"\", '7'!$D$26)","v":""},{"$f":"IF('7'!$D$27=\"\", \"\", '7'!$D$27)","v":""},{"$f":"IF('7'!$D$28=\"\", \"\", '7'!$D$28)","v":""},{"$f":"IF('7'!$D$29=\"\", \"\", '7'!$D$29)","v":""},{"$f":"IF('7'!$D$30=\"\", \"\", '7'!$D$30)","v":""},{"$f":"IF('7'!$D$31=\"\", \"\", '7'!$D$31)","v":""},{"$f":"IF('7'!$D$32=\"\", \"\", '7'!$D$32)","v":""},{"$f":"IF('7'!$D$33=\"\", \"\", '7'!$D$33)","v":""},{"$f":"IF('7'!$D$34=\"\", \"\", '7'!$D$34)","v":""},0,""]
[null,8,{"$f":"IF('8'!$D$11=\"\", \"\", '8'!$D$11)","v":""},{"$f":"IF('8'!$D$12=\"\", \"\", '8'!$D$12)","v":""},{"$f":"IF('8'!$D$13=\"\", \"\", '8'!$D$13)","v":""},{"$f":"IF('8'!$D$14=\"\", \"\", '8'!$D$14)","v":""},{"$f":"IF('8'!$D$15=\"\", \"\", '8'!$D$15)","v":""},{"$f":"IF('8'!$D$16=\"\", \"\", '8'!$D$16)","v":""},{"$f":"IF('8'!$D$17=\"\", \"\", '8'!$D$17)","v":""},{"$f":"IF('8'!$D$18=\"\", \"\", '8'!$D$18)","v":""},{"$f":"IF('8'!$D$19=\"\", \"\", '8'!$D$19)","v":""},{"$f":"IF('8'!$D$20=\"\", \"\", '8'!$D$20)","v":""},{"$f":"IF('8'!$D$21=\"\", \"\", '8'!$D$21)","v":""},{"$f":"IF('8'!$D$22=\"\", \"\", '8'!$D$22)","v":""},{"$f":"IF('8'!$D$23=\"\", \"\", '8'!$D$23)","v":""},{"$f":"IF('8'!$D$24=\"\", \"\", '8'!$D$24)","v":""},{"$f":"IF('8'!$D$25=\"\", \"\", '8'!$D$25)","v":""},{"$f":"IF('8'!$D$26=\"\", \"\", '8'!$D$26)","v":""},{"$f":"IF('8'!$D$27=\"\", \"\", '8'!$D$27)","v":""},{"$f":"IF('8'!$D$28=\"\", \"\", '8'!$D$28)","v":""},{"$f":"IF('8'!$D$29=\"\", \"\", '8'!$D$29)","v":""},{"$f":"IF('8'!$D$30=\"\", \"\", '8'!$D$30)","v":""},{"$f":"IF('8'!$D$31=\"\", \"\", '8'!$D$31)","v":""},{"$f":"IF('8'!$D$32=\"\", \"\", '8'!$D$32)","v":""},{"$f":"IF('8'!$D$33=\"\", \"\", '8'!$D$33)","v":""},{"$f":"IF('8'!$D$34=\"\", \"\", '8'!$D$34)","v":""},0,""]
[null,9,{"$f":"IF('9'!$D$11=\"\", \"\", '9'!$D$11)","v":""},{"$f":"IF('9'!$D$12=\"\", \"\", '9'!$D$12)","v":""},{"$f":"IF('9'!$D$13=\"\", \"\", '9'!$D$13)","v":""},{"$f":"IF('9'!$D$14=\"\", \"\", '9'!$D$14)","v":""},{"$f":"IF('9'!$D$15=\"\", \"\", '9'!$D$15)","v":""},{"$f":"IF('9'!$D$16=\"\", \"\", '9'!$D$16)","v":""},{"$f":"IF('9'!$D$17=\"\", \"\", '9'!$D$17)","v":""},{"$f":"IF('9'!$D$18=\"\", \"\", '9'!$D$18)","v":""},{"$f":"IF('9'!$D$19=\"\", \"\", '9'!$D$19)","v":""},{"$f":"IF('9'!$D$20=\"\", \"\", '9'!$D$20)","v":""},{"$f":"IF('9'!$D$21=\"\", \"\", '9'!$D$21)","v":""},{"$f":"IF('9'!$D$22=\"\", \"\", '9'!$D$22)","v":""},{"$f":"IF('9'!$D$23=\"\", \"\", '9'!$D$23)","v":""},{"$f":"IF('9'!$D$24=\"\", \"\", '9'!$D$24)","v":""},{"$f":"IF('9'!$D$25=\"\", \"\", '9'!$D$25)","v":""},{"$f":"IF('9'!$D$26=\"\", \"\", '9'!$D$26)","v":""},{"$f":"IF('9'!$D$27=\"\", \"\", '9'!$D$27)","v":""},{"$f":"IF('9'!$D$28=\"\", \"\", '9'!$D$28)","v":""},{"$f":"IF('9'!$D$29=\"\", \"\", '9'!$D$29)","v":""},{"$f":"IF('9'!$D$30=\"\", \"\", '9'!$D$30)","v":""},{"$f":"IF('9'!$D$31=\"\", \"\", '9'!$D$31)","v":""},{"$f":"IF('9'!$D$32=\"\", \"\", '9'!$D$32)","v":""},{"$f":"IF('9'!$D$33=\"\", \"\", '9'!$D$33)","v":""},{"$f":"IF('9'!$D$34=\"\", \"\", '9'!$D$34)","v":""},0,""]
[null,10,{"$f":"IF('10'!$D$11=\"\", \"\", '10'!$D$11)","v":""},{"$f":"IF('10'!$D$12=\"\", \"\", '10'!$D$12)","v":""},{"$f":"IF('10'!$D$13=\"\", \"\", '10'!$D$13)","v":""},{"$f":"IF('10'!$D$14=\"\", \"\", '10'!$D$14)","v":""},{"$f":"IF('10'!$D$15=\"\", \"\", '10'!$D$15)","v":""},{"$f":"IF('10'!$D$16=\"\", \"\", '10'!$D$16)","v":""},{"$f":"IF('10'!$D$17=\"\", \"\", '10'!$D$17)","v":""},{"$f":"IF('10'!$D$18=\"\", \"\", '10'!$D$18)","v":""},{"$f":"IF('10'!$D$19=\"\", \"\", '10'!$D$19)","v":""},{"$f":"IF('10'!$D$20=\"\", \"\", '10'!$D$20)","v":""},{"$f":"IF('10'!$D$21=\"\", \"\", '10'!$D$21)","v":""},{"$f":"IF('10'!$D$22=\"\", \"\", '10'!$D$22)","v":""},{"$f":"IF('10'!$D$23=\"\", \"\", '10'!$D$23)","v":""},{"$f":"IF('10'!$D$24=\"\", \"\", '10'!$D$24)","v":""},{"$f":"IF('10'!$D$25=\"\", \"\", '10'!$D$25)","v":""},{"$f":"IF('10'!$D$26=\"\", \"\", '10'!$D$26)","v":""},{"$f":"IF('10'!$D$27=\"\", \"\", '10'!$D$27)","v":""},{"$f":"IF('10'!$D$28=\"\", \"\", '10'!$D$28)","v":""},{"$f":"IF('10'!$D$29=\"\", \"\", '10'!$D$29)","v":""},{"$f":"IF('10'!$D$30=\"\", \"\", '10'!$D$30)","v":""},{"$f":"IF('10'!$D$31=\"\", \"\", '10'!$D$31)","v":""},{"$f":"IF('10'!$D$32=\"\", \"\", '10'!$D$32)","v":""},{"$f":"IF('10'!$D$33=\"\", \"\", '10'!$D$33)","v":""},{"$f":"IF('10'!$D$34=\"\", \"\", '10'!$D$34)","v":""},0,""]
[null,11,{"$f":"IF('11'!$D$11=\"\", \"\", '11'!$D$11)","v":""},{"$f":"IF('11'!$D$12=\"\", \"\", '11'!$D$12)","v":""},{"$f":"IF('11'!$D$13=\"\", \"\", '11'!$D$13)","v":""},{"$f":"IF('11'!$D$14=\"\", \"\", '11'!$D$14)","v":""},{"$f":"IF('11'!$D$15=\"\", \"\", '11'!$D$15)","v":""},{"$f":"IF('11'!$D$16=\"\", \"\", '11'!$D$16)","v":""},{"$f":"IF('11'!$D$17=\"\", \"\", '11'!$D$17)","v":""},{"$f":"IF('11'!$D$18=\"\", \"\", '11'!$D$18)","v":""},{"$f":"IF('11'!$D$19=\"\", \"\", '11'!$D$19)","v":""},{"$f":"IF('11'!$D$20=\"\", \"\", '11'!$D$20)","v":""},{"$f":"IF('11'!$D$21=\"\", \"\", '11'!$D$21)","v":""},{"$f":"IF('11'!$D$22=\"\", \"\", '11'!$D$22)","v":""},{"$f":"IF('11'!$D$23=\"\", \"\", '11'!$D$23)","v":""},{"$f":"IF('11'!$D$24=\"\", \"\", '11'!$D$24)","v":""},{"$f":"IF('11'!$D$25=\"\", \"\", '11'!$D$25)","v":""},{"$f":"IF('11'!$D$26=\"\", \"\", '11'!$D$26)","v":""},{"$f":"IF('11'!$D$27=\"\", \"\", '11'!$D$27)","v":""},{"$f":"IF('11'!$D$28=\"\", \"\", '11'!$D$28)","v":""},{"$f":"IF('11'!$D$29=\"\", \"\", '11'!$D$29)","v":""},{"$f":"IF('11'!$D$30=\"\", \"\", '11'!$D$30)","v":""},{"$f":"IF('11'!$D$31=\"\", \"\", '11'!$D$31)","v":""},{"$f":"IF('11'!$D$32=\"\", \"\", '11'!$D$32)","v":""},{"$f":"IF('11'!$D$33=\"\", \"\", '11'!$D$33)","v":""},{"$f":"IF('11'!$D$34=\"\", \"\", '11'!$D$34)","v":""},0,""]
[null,12,{"$f":"IF('12'!$D$11=\"\", \"\", '12'!$D$11)","v":""},{"$f":"IF('12'!$D$12=\"\", \"\", '12'!$D$12)","v":""},{"$f":"IF('12'!$D$13=\"\", \"\", '12'!$D$13)","v":""},{"$f":"IF('12'!$D$14=\"\", \"\", '12'!$D$14)","v":""},{"$f":"IF('12'!$D$15=\"\", \"\", '12'!$D$15)","v":""},{"$f":"IF('12'!$D$16=\"\", \"\", '12'!$D$16)","v":""},{"$f":"IF('12'!$D$17=\"\", \"\", '12'!$D$17)","v":""},{"$f":"IF('12'!$D$18=\"\", \"\", '12'!$D$18)","v":""},{"$f":"IF('12'!$D$19=\"\", \"\", '12'!$D$19)","v":""},{"$f":"IF('12'!$D$20=\"\", \"\", '12'!$D$20)","v":""},{"$f":"IF('12'!$D$21=\"\", \"\", '12'!$D$21)","v":""},{"$f":"IF('12'!$D$22=\"\", \"\", '12'!$D$22)","v":""},{"$f":"IF('12'!$D$23=\"\", \"\", '12'!$D$23)","v":""},{"$f":"IF('12'!$D$24=\"\", \"\", '12'!$D$24)","v":""},{"$f":"IF('12'!$D$25=\"\", \"\", '12'!$D$25)","v":""},{"$f":"IF('12'!$D$26=\"\", \"\", '12'!$D$26)","v":""},{"$f":"IF('12'!$D$27=\"\", \"\", '12'!$D$27)","v":""},{"$f":"IF('12'!$D$28=\"\", \"\", '12'!$D$28)","v":""},{"$f":"IF('12'!$D$29=\"\", \"\", '12'!$D$29)","v":""},{"$f":"IF('12'!$D$30=\"\", \"\", '12'!$D$30)","v":""},{"$f":"IF('12'!$D$31=\"\", \"\", '12'!$D$31)","v":""},{"$f":"IF('12'!$D$32=\"\", \"\", '12'!$D$32)","v":""},{"$f":"IF('12'!$D$33=\"\", \"\", '12'!$D$33)","v":""},{"$f":"IF('12'!$D$34=\"\", \"\", '12'!$D$34)","v":""},0,""]
[null,13,{"$f":"IF('13'!$D$11=\"\", \"\", '13'!$D$11)","v":""},{"$f":"IF('13'!$D$12=\"\", \"\", '13'!$D$12)","v":""},{"$f":"IF('13'!$D$13=\"\", \"\", '13'!$D$13)","v":""},{"$f":"IF('13'!$D$14=\"\", \"\", '13'!$D$14)","v":""},{"$f":"IF('13'!$D$15=\"\", \"\", '13'!$D$15)","v":""},{"$f":"IF('13'!$D$16=\"\", \"\", '13'!$D$16)","v":""},{"$f":"IF('13'!$D$17=\"\", \"\", '13'!$D$17)","v":""},{"$f":"IF('13'!$D$18=\"\", \"\", '13'!$D$18)","v":""},{"$f":"IF('13'!$D$19=\"\", \"\", '13'!$D$19)","v":""},{"$f":"IF('13'!$D$20=\"\", \"\", '13'!$D$20)","v":""},{"$f":"IF('13'!$D$21=\"\", \"\", '13'!$D$21)","v":""},{"$f":"IF('13'!$D$22=\"\", \"\", '13'!$D$22)","v":""},{"$f":"IF('13'!$D$23=\"\", \"\", '13'!$D$23)","v":""},{"$f":"IF('13'!$D$24=\"\", \"\", '13'!$D$24)","v":""},{"$f":"IF('13'!$D$25=\"\", \"\", '13'!$D$25)","v":""},{"$f":"IF('13'!$D$26=\"\", \"\", '13'!$D$26)","v":""},{"$f":"IF('13'!$D$27=\"\", \"\", '13'!$D$27)","v":""},{"$f":"IF('13'!$D$28=\"\", \"\", '13'!$D$28)","v":""},{"$f":"IF('13'!$D$29=\"\", \"\", '13'!$D$29)","v":""},{"$f":"IF('13'!$D$30=\"\", \"\", '13'!$D$30)","v":""},{"$f":"IF('13'!$D$31=\"\", \"\", '13'!$D$31)","v":""},{"$f":"IF('13'!$D$32=\"\", \"\", '13'!$D$32)","v":""},{"$f":"IF('13'!$D$33=\"\", \"\", '13'!$D$33)","v":""},{"$f":"IF('13'!$D$34=\"\", \"\", '13'!$D$34)","v":""},0,""]
[null,14,{"$f":"IF('14'!$D$11=\"\", \"\", '14'!$D$11)","v":""},{"$f":"IF('14'!$D$12=\"\", \"\", '14'!$D$12)","v":""},{"$f":"IF('14'!$D$13=\"\", \"\", '14'!$D$13)","v":""},{"$f":"IF('14'!$D$14=\"\", \"\", '14'!$D$14)","v":""},{"$f":"IF('14'!$D$15=\"\", \"\", '14'!$D$15)","v":""},{"$f":"IF('14'!$D$16=\"\", \"\", '14'!$D$16)","v":""},{"$f":"IF('14'!$D$17=\"\", \"\", '14'!$D$17)","v":""},{"$f":"IF('14'!$D$18=\"\", \"\", '14'!$D$18)","v":""},{"$f":"IF('14'!$D$19=\"\", \"\", '14'!$D$19)","v":""},{"$f":"IF('14'!$D$20=\"\", \"\", '14'!$D$20)","v":""},{"$f":"IF('14'!$D$21=\"\", \"\", '14'!$D$21)","v":""},{"$f":"IF('14'!$D$22=\"\", \"\", '14'!$D$22)","v":""},{"$f":"IF('14'!$D$23=\"\", \"\", '14'!$D$23)","v":""},{"$f":"IF('14'!$D$24=\"\", \"\", '14'!$D$24)","v":""},{"$f":"IF('14'!$D$25=\"\", \"\", '14'!$D$25)","v":""},{"$f":"IF('14'!$D$26=\"\", \"\", '14'!$D$26)","v":""},{"$f":"IF('14'!$D$27=\"\", \"\", '14'!$D$27)","v":""},{"$f":"IF('14'!$D$28=\"\", \"\", '14'!$D$28)","v":""},{"$f":"IF('14'!$D$29=\"\", \"\", '14'!$D$29)","v":""},{"$f":"IF('14'!$D$30=\"\", \"\", '14'!$D$30)","v":""},{"$f":"IF('14'!$D$31=\"\", \"\", '14'!$D$31)","v":""},{"$f":"IF('14'!$D$32=\"\", \"\", '14'!$D$32)","v":""},{"$f":"IF('14'!$D$33=\"\", \"\", '14'!$D$33)","v":""},{"$f":"IF('14'!$D$34=\"\", \"\", '14'!$D$34)","v":""},0,""]
[null,15,{"$f":"IF('15'!$D$11=\"\", \"\", '15'!$D$11)","v":""},{"$f":"IF('15'!$D$12=\"\", \"\", '15'!$D$12)","v":""},{"$f":"IF('15'!$D$13=\"\", \"\", '15'!$D$13)","v":""},{"$f":"IF('15'!$D$14=\"\", \"\", '15'!$D$14)","v":""},{"$f":"IF('15'!$D$15=\"\", \"\", '15'!$D$15)","v":""},{"$f":"IF('15'!$D$16=\"\", \"\", '15'!$D$16)","v":""},{"$f":"IF('15'!$D$17=\"\", \"\", '15'!$D$17)","v":""},{"$f":"IF('15'!$D$18=\"\", \"\", '15'!$D$18)","v":""},{"$f":"IF('15'!$D$19=\"\", \"\", '15'!$D$19)","v":""},{"$f":"IF('15'!$D$20=\"\", \"\", '15'!$D$20)","v":""},{"$f":"IF('15'!$D$21=\"\", \"\", '15'!$D$21)","v":""},{"$f":"IF('15'!$D$22=\"\", \"\", '15'!$D$22)","v":""},{"$f":"IF('15'!$D$23=\"\", \"\", '15'!$D$23)","v":""},{"$f":"IF('15'!$D$24=\"\", \"\", '15'!$D$24)","v":""},{"$f":"IF('15'!$D$25=\"\", \"\", '15'!$D$25)","v":""},{"$f":"IF('15'!$D$26=\"\", \"\", '15'!$D$26)","v":""},{"$f":"IF('15'!$D$27=\"\", \"\", '15'!$D$27)","v":""},{"$f":"IF('15'!$D$28=\"\", \"\", '15'!$D$28)","v":""},{"$f":"IF('15'!$D$29=\"\", \"\", '15'!$D$29)","v":""},{"$f":"IF('15'!$D$30=\"\", \"\", '15'!$D$30)","v":""},{"$f":"IF('15'!$D$31=\"\", \"\", '15'!$D$31)","v":""},{"$f":"IF('15'!$D$32=\"\", \"\", '15'!$D$32)","v":""},{"$f":"IF('15'!$D$33=\"\", \"\", '15'!$D$33)","v":""},{"$f":"IF('15'!$D$34=\"\", \"\", '15'!$D$34)","v":""},0,""]
[null,16,{"$f":"IF('16'!$D$11=\"\", \"\", '16'!$D$11)","v":""},{"$f":"IF('16'!$D$12=\"\", \"\", '16'!$D$12)","v":""},{"$f":"IF('16'!$D$13=\"\", \"\", '16'!$D$13)","v":""},{"$f":"IF('16'!$D$14=\"\", \"\", '16'!$D$14)","v":""},{"$f":"IF('16'!$D$15=\"\", \"\", '16'!$D$15)","v":""},{"$f":"IF('16'!$D$16=\"\", \"\", '16'!$D$16)","v":""},{"$f":"IF('16'!$D$17=\"\", \"\", '16'!$D$17)","v":""},{"$f":"IF('16'!$D$18=\"\", \"\", '16'!$D$18)","v":""},{"$f":"IF('16'!$D$19=\"\", \"\", '16'!$D$19)","v":""},{"$f":"IF('16'!$D$20=\"\", \"\", '16'!$D$20)","v":""},{"$f":"IF('16'!$D$21=\"\", \"\", '16'!$D$21)","v":""},{"$f":"IF('16'!$D$22=\"\", \"\", '16'!$D$22)","v":""},{"$f":"IF('16'!$D$23=\"\", \"\", '16'!$D$23)","v":""},{"$f":"IF('16'!$D$24=\"\", \"\", '16'!$D$24)","v":""},{"$f":"IF('16'!$D$25=\"\", \"\", '16'!$D$25)","v":""},{"$f":"IF('16'!$D$26=\"\", \"\", '16'!$D$26)","v":""},{"$f":"IF('16'!$D$27=\"\", \"\", '16'!$D$27)","v":""},{"$f":"IF('16'!$D$28=\"\", \"\", '16'!$D$28)","v":""},{"$f":"IF('16'!$D$29=\"\", \"\", '16'!$D$29)","v":""},{"$f":"IF('16'!$D$30=\"\", \"\", '16'!$D$30)","v":""},{"$f":"IF('16'!$D$31=\"\", \"\", '16'!$D$31)","v":""},{"$f":"IF('16'!$D$32=\"\", \"\", '16'!$D$32)","v":""},{"$f":"IF('16'!$D$33=\"\", \"\", '16'!$D$33)","v":""},{"$f":"IF('16'!$D$34=\"\", \"\", '16'!$D$34)","v":""},0,""]
[null,17,{"$f":"IF('17'!$D$11=\"\", \"\", '17'!$D$11)","v":""},{"$f":"IF('17'!$D$12=\"\", \"\", '17'!$D$12)","v":""},{"$f":"IF('17'!$D$13=\"\", \"\", '17'!$D$13)","v":""},{"$f":"IF('17'!$D$14=\"\", \"\", '17'!$D$14)","v":""},{"$f":"IF('17'!$D$15=\"\", \"\", '17'!$D$15)","v":""},{"$f":"IF('17'!$D$16=\"\", \"\", '17'!$D$16)","v":""},{"$f":"IF('17'!$D$17=\"\", \"\", '17'!$D$17)","v":""},{"$f":"IF('17'!$D$18=\"\", \"\", '17'!$D$18)","v":""},{"$f":"IF('17'!$D$19=\"\", \"\", '17'!$D$19)","v":""},{"$f":"IF('17'!$D$20=\"\", \"\", '17'!$D$20)","v":""},{"$f":"IF('17'!$D$21=\"\", \"\", '17'!$D$21)","v":""},{"$f":"IF('17'!$D$22=\"\", \"\", '17'!$D$22)","v":""},{"$f":"IF('17'!$D$23=\"\", \"\", '17'!$D$23)","v":""},{"$f":"IF('17'!$D$24=\"\", \"\", '17'!$D$24)","v":""},{"$f":"IF('17'!$D$25=\"\", \"\", '17'!$D$25)","v":""},{"$f":"IF('17'!$D$26=\"\", \"\", '17'!$D$26)","v":""},{"$f":"IF('17'!$D$27=\"\", \"\", '17'!$D$27)","v":""},{"$f":"IF('17'!$D$28=\"\", \"\", '17'!$D$28)","v":""},{"$f":"IF('17'!$D$29=\"\", \"\", '17'!$D$29)","v":""},{"$f":"IF('17'!$D$30=\"\", \"\", '17'!$D$30)","v":""},{"$f":"IF('17'!$D$31=\"\", \"\", '17'!$D$31)","v":""},{"$f":"IF('17'!$D$32=\"\", \"\", '17'!$D$32)","v":""},{"$f":"IF('17'!$D$33=\"\", \"\", '17'!$D$33)","v":""},{"$f":"IF('17'!$D$34=\"\", \"\", '17'!$D$34)","v":""},0,""]
[null,18,{"$f":"IF('18'!$D$11=\"\", \"\", '18'!$D$11)","v":""},{"$f":"IF('18'!$D$12=\"\", \"\", '18'!$D$12)","v":""},{"$f":"IF('18'!$D$13=\"\", \"\", '18'!$D$13)","v":""},{"$f":"IF('18'!$D$14=\"\", \"\", '18'!$D$14)","v":""},{"$f":"IF('18'!$D$15=\"\", \"\", '18'!$D$15)","v":""},{"$f":"IF('18'!$D$16=\"\", \"\", '18'!$D$16)","v":""},{"$f":"IF('18'!$D$17=\"\", \"\", '18'!$D$17)","v":""},{"$f":"IF('18'!$D$18=\"\", \"\", '18'!$D$18)","v":""},{"$f":"IF('18'!$D$19=\"\", \"\", '18'!$D$19)","v":""},{"$f":"IF('18'!$D$20=\"\", \"\", '18'!$D$20)","v":""},{"$f":"IF('18'!$D$21=\"\", \"\", '18'!$D$21)","v":""},{"$f":"IF('18'!$D$22=\"\", \"\", '18'!$D$22)","v":""},{"$f":"IF('18'!$D$23=\"\", \"\", '18'!$D$23)","v":""},{"$f":"IF('18'!$D$24=\"\", \"\", '18'!$D$24)","v":""},{"$f":"IF('18'!$D$25=\"\", \"\", '18'!$D$25)","v":""},{"$f":"IF('18'!$D$26=\"\", \"\", '18'!$D$26)","v":""},{"$f":"IF('18'!$D$27=\"\", \"\", '18'!$D$27)","v":""},{"$f":"IF('18'!$D$28=\"\", \"\", '18'!$D$28)","v":""},{"$f":"IF('18'!$D$29=\"\", \"\", '18'!$D$29)","v":""},{"$f":"IF('18'!$D$30=\"\", \"\", '18'!$D$30)","v":""},{"$f":"IF('18'!$D$31=\"\", \"\", '18'!$D$31)","v":""},{"$f":"IF('18'!$D$32=\"\", \"\", '18'!$D$32)","v":""},{"$f":"IF('18'!$D$33=\"\", \"\", '18'!$D$33)","v":""},{"$f":"IF('18'!$D$34=\"\", \"\", '18'!$D$34)","v":""},0,""]
[null,19,{"$f":"IF('19'!$D$11=\"\", \"\", '19'!$D$11)","v":""},{"$f":"IF('19'!$D$12=\"\", \"\", '19'!$D$12)","v":""},{"$f":"IF('19'!$D$13=\"\", \"\", '19'!$D$13)","v":""},{"$f":"IF('19'!$D$14=\"\", \"\", '19'!$D$14)","v":""},{"$f":"IF('19'!$D$15=\"\", \"\", '19'!$D$15)","v":""},{"$f":"IF('19'!$D$16=\"\", \"\", '19'!$D$16)","v":""},{"$f":"IF('19'!$D$17=\"\", \"\", '19'!$D$17)","v":""},{"$f":"IF('19'!$D$18=\"\", \"\", '19'!$D$18)","v":""},{"$f":"IF('19'!$D$19=\"\", \"\", '19'!$D$19)","v":""},{"$f":"IF('19'!$D$20=\"\", \"\", '19'!$D$20)","v":""},{"$f":"IF('19'!$D$21=\"\", \"\", '19'!$D$21)","v":""},{"$f":"IF('19'!$D$22=\"\", \"\", '19'!$D$22)","v":""},{"$f":"IF('19'!$D$23=\"\", \"\", '19'!$D$23)","v":""},{"$f":"IF('19'!$D$24=\"\", \"\", '19'!$D$24)","v":""},{"$f":"IF('19'!$D$25=\"\", \"\", '19'!$D$25)","v":""},{"$f":"IF('19'!$D$26=\"\", \"\", '19'!$D$26)","v":""},{"$f":"IF('19'!$D$27=\"\", \"\", '19'!$D$27)","v":""},{"$f":"IF('19'!$D$28=\"\", \"\", '19'!$D$28)","v":""},{"$f":"IF('19'!$D$29=\"\", \"\", '19'!$D$29)","v":""},{"$f":"IF('19'!$D$30=\"\", \"\", '19'!$D$30)","v":""},{"$f":"IF('19'!$D$31=\"\", \"\", '19'!$D$31)","v":""},{"$f":"IF('19'!$D$32=\"\", \"\", '19'!$D$32)","v":""},{"$f":"IF('19'!$D$33=\"\", \"\", '19'!$D$33)","v":""},{"$f":"IF('19'!$D$34=\"\", \"\", '19'!$D$34)","v":""},0,""]
[null,20,{"$f":"IF('20'!$D$11=\"\", \"\", '20'!$D$11)","v":""},{"$f":"IF('20'!$D$12=\"\", \"\", '20'!$D$12)","v":""},{"$f":"IF('20'!$D$13=\"\", \"\", '20'!$D$13)","v":""},{"$f":"IF('20'!$D$14=\"\", \"\", '20'!$D$14)","v":""},{"$f":"IF('20'!$D$15=\"\", \"\", '20'!$D$15)","v":""},{"$f":"IF('20'!$D$16=\"\", \"\", '20'!$D$16)","v":""},{"$f":"IF('20'!$D$17=\"\", \"\", '20'!$D$17)","v":""},{"$f":"IF('20'!$D$18=\"\", \"\", '20'!$D$18)","v":""},{"$f":"IF('20'!$D$19=\"\", \"\", '20'!$D$19)","v":""},{"$f":"IF('20'!$D$20=\"\", \"\", '20'!$D$20)","v":""},{"$f":"IF('20'!$D$21=\"\", \"\", '20'!$D$21)","v":""},{"$f":"IF('20'!$D$22=\"\", \"\", '20'!$D$22)","v":""},{"$f":"IF('20'!$D$23=\"\", \"\", '20'!$D$23)","v":""},{"$f":"IF('20'!$D$24=\"\", \"\", '20'!$D$24)","v":""},{"$f":"IF('20'!$D$25=\"\", \"\", '20'!$D$25)","v":""},{"$f":"IF('20'!$D$26=\"\", \"\", '20'!$D$26)","v":""},{"$f":"IF('20'!$D$27=\"\", \"\", '20'!$D$27)","v":""},{"$f":"IF('20'!$D$28=\"\", \"\", '20'!$D$28)","v":""},{"$f":"IF('20'!$D$29=\"\", \"\", '20'!$D$29)","v":""},{"$f":"IF('20'!$D$30=\"\", \"\", '20'!$D$30)","v":""},{"$f":"IF('20'!$D$31=\"\", \"\", '20'!$D$31)","v":""},{"$f":"IF('20'!$D$32=\"\", \"\", '20'!$D$32)","v":""},{"$f":"IF('20'!$D$33=\"\", \"\", '20'!$D$33)","v":""},{"$f":"IF('20'!$D$34=\"\", \"\", '20'!$D$34)","v":""},0,""]
[null,21,{"$f":"IF('21'!$D$11=\"\", \"\", '21'!$D$11)","v":""},{"$f":"IF('21'!$D$12=\"\", \"\", '21'!$D$12)","v":""},{"$f":"IF('21'!$D$13=\"\", \"\", '21'!$D$13)","v":""},{"$f":"IF('21'!$D$14=\"\", \"\", '21'!$D$14)","v":""},{"$f":"IF('21'!$D$15=\"\", \"\", '21'!$D$15)","v":""},{"$f":"IF('21'!$D$16=\"\", \"\", '21'!$D$16)","v":""},{"$f":"IF('21'!$D$17=\"\", \"\", '21'!$D$17)","v":""},{"$f":"IF('21'!$D$18=\"\", \"\", '21'!$D$18)","v":""},{"$f":"IF('21'!$D$19=\"\", \"\", '21'!$D$19)","v":""},{"$f":"IF('21'!$D$20=\"\", \"\", '21'!$D$20)","v":""},{"$f":"IF('21'!$D$21=\"\", \"\", '21'!$D$21)","v":""},{"$f":"IF('21'!$D$22=\"\", \"\", '21'!$D$22)","v":""},{"$f":"IF('21'!$D$23=\"\", \"\", '21'!$D$23)","v":""},{"$f":"IF('21'!$D$24=\"\", \"\", '21'!$D$24)","v":""},{"$f":"IF('21'!$D$25=\"\", \"\", '21'!$D$25)","v":""},{"$f":"IF('21'!$D$26=\"\", \"\", '21'!$D$26)","v":""},{"$f":"IF('21'!$D$27=\"\", \"\", '21'!$D$27)","v":""},{"$f":"IF('21'!$D$28=\"\", \"\", '21'!$D$28)","v":""},{"$f":"IF('21'!$D$29=\"\", \"\", '21'!$D$29)","v":""},{"$f":"IF('21'!$D$30=\"\", \"\", '21'!$D$30)","v":""},{"$f":"IF('21'!$D$31=\"\", \"\", '21'!$D$31)","v":""},{"$f":"IF('21'!$D$32=\"\", \"\", '21'!$D$32)","v":""},{"$f":"IF('21'!$D$33=\"\", \"\", '21'!$D$33)","v":""},{"$f":"IF('21'!$D$34=\"\", \"\", '21'!$D$34)","v":""},0,""]
[null,22,{"$f":"IF('22'!$D$11=\"\", \"\", '22'!$D$11)","v":""},{"$f":"IF('22'!$D$12=\"\", \"\", '22'!$D$12)","v":""},{"$f":"IF('22'!$D$13=\"\", \"\", '22'!$D$13)","v":""},{"$f":"IF('22'!$D$14=\"\", \"\", '22'!$D$14)","v":""},{"$f":"IF('22'!$D$15=\"\", \"\", '22'!$D$15)","v":""},{"$f":"IF('22'!$D$16=\"\", \"\", '22'!$D$16)","v":""},{"$f":"IF('22'!$D$17=\"\", \"\", '22'!$D$17)","v":""},{"$f":"IF('22'!$D$18=\"\", \"\", '22'!$D$18)","v":""},{"$f":"IF('22'!$D$19=\"\", \"\", '22'!$D$19)","v":""},{"$f":"IF('22'!$D$20=\"\", \"\", '22'!$D$20)","v":""},{"$f":"IF('22'!$D$21=\"\", \"\", '22'!$D$21)","v":""},{"$f":"IF('22'!$D$22=\"\", \"\", '22'!$D$22)","v":""},{"$f":"IF('22'!$D$23=\"\", \"\", '22'!$D$23)","v":""},{"$f":"IF('22'!$D$24=\"\", \"\", '22'!$D$24)","v":""},{"$f":"IF('22'!$D$25=\"\", \"\", '22'!$D$25)","v":""},{"$f":"IF('22'!$D$26=\"\", \"\", '22'!$D$26)","v":""},{"$f":"IF('22'!$D$27=\"\", \"\", '22'!$D$27)","v":""},{"$f":"IF('22'!$D$28=\"\", \"\", '22'!$D$28)","v":""},{"$f":"IF('22'!$D$29=\"\", \"\", '22'!$D$29)","v":""},{"$f":"IF('22'!$D$30=\"\", \"\", '22'!$D$30)","v":""},{"$f":"IF('22'!$D$31=\"\", \"\", '22'!$D$31)","v":""},{"$f":"IF('22'!$D$32=\"\", \"\", '22'!$D$32)","v":""},{"$f":"IF('22'!$D$33=\"\", \"\", '22'!$D$33)","v":""},{"$f":"IF('22'!$D$34=\"\", \"\", '22'!$D$34)","v":""},0,""]
[null,23,{"$f":"IF('23'!$D$11=\"\", \"\", '23'!$D$11)","v":""},{"$f":"IF('23'!$D$12=\"\", \"\", '23'!$D$12)","v":""},{"$f":"IF('23'!$D$13=\"\", \"\", '23'!$D$13)","v":""},{"$f":"IF('23'!$D$14=\"\", \"\", '23'!$D$14)","v":""},{"$f":"IF('23'!$D$15=\"\", \"\", '23'!$D$15)","v":""},{"$f":"IF('23'!$D$16=\"\", \"\", '23'!$D$16)","v":""},{"$f":"IF('23'!$D$17=\"\", \"\", '23'!$D$17)","v":""},{"$f":"IF('23'!$D$18=\"\", \"\", '23'!$D$18)","v":""},{"$f":"IF('23'!$D$19=\"\", \"\", '23'!$D$19)","v":""},{"$f":"IF('23'!$D$20=\"\", \"\", '23'!$D$20)","v":""},{"$f":"IF('23'!$D$21=\"\", \"\", '23'!$D$21)","v":""},{"$f":"IF('23'!$D$22=\"\", \"\", '23'!$D$22)","v":""},{"$f":"IF('23'!$D$23=\"\", \"\", '23'!$D$23)","v":""},{"$f":"IF('23'!$D$24=\"\", \"\", '23'!$D$24)","v":""},{"$f":"IF('23'!$D$25=\"\", \"\", '23'!$D$25)","v":""},{"$f":"IF('23'!$D$26=\"\", \"\", '23'!$D$26)","v":""},{"$f":"IF('23'!$D$27=\"\", \"\", '23'!$D$27)","v":""},{"$f":"IF('23'!$D$28=\"\", \"\", '23'!$D$28)","v":""},{"$f":"IF('23'!$D$29=\"\", \"\", '23'!$D$29)","v":""},{"$f":"IF('23'!$D$30=\"\", \"\", '23'!$D$30)","v":""},{"$f":"IF('23'!$D$31=\"\", \"\", '23'!$D$31)","v":""},{"$f":"IF('23'!$D$32=\"\", \"\", '23'!$D$32)","v":""},{"$f":"IF('23'!$D$33=\"\", \"\", '23'!$D$33)","v":""},{"$f":"IF('23'!$D$34=\"\", \"\", '23'!$D$34)","v":""},0,""]
[null,24,{"$f":"IF('24'!$D$11=\"\", \"\", '24'!$D$11)","v":""},{"$f":"IF('24'!$D$12=\"\", \"\", '24'!$D$12)","v":""},{"$f":"IF('24'!$D$13=\"\", \"\", '24'!$D$13)","v":""},{"$f":"IF('24'!$D$14=\"\", \"\", '24'!$D$14)","v":""},{"$f":"IF('24'!$D$15=\"\", \"\", '24'!$D$15)","v":""},{"$f":"IF('24'!$D$16=\"\", \"\", '24'!$D$16)","v":""},{"$f":"IF('24'!$D$17=\"\", \"\", '24'!$D$17)","v":""},{"$f":"IF('24'!$D$18=\"\", \"\", '24'!$D$18)","v":""},{"$f":"IF('24'!$D$19=\"\", \"\", '24'!$D$19)","v":""},{"$f":"IF('24'!$D$20=\"\", \"\", '24'!$D$20)","v":""},{"$f":"IF('24'!$D$21=\"\", \"\", '24'!$D$21)","v":""},{"$f":"IF('24'!$D$22=\"\", \"\", '24'!$D$22)","v":""},{"$f":"IF('24'!$D$23=\"\", \"\", '24'!$D$23)","v":""},{"$f":"IF('24'!$D$24=\"\", \"\", '24'!$D$24)","v":""},{"$f":"IF('24'!$D$25=\"\", \"\", '24'!$D$25)","v":""},{"$f":"IF('24'!$D$26=\"\", \"\", '24'!$D$26)","v":""},{"$f":"IF('24'!$D$27=\"\", \"\", '24'!$D$27)","v":""},{"$f":"IF('24'!$D$28=\"\", \"\", '24'!$D$28)","v":""},{"$f":"IF('24'!$D$29=\"\", \"\", '24'!$D$29)","v":""},{"$f":"IF('24'!$D$30=\"\", \"\", '24'!$D$30)","v":""},{"$f":"IF('24'!$D$31=\"\", \"\", '24'!$D$31)","v":""},{"$f":"IF('24'!$D$32=\"\", \"\", '24'!$D$32)","v":""},{"$f":"IF('24'!$D$33=\"\", \"\", '24'!$D$33)","v":""},{"$f":"IF('24'!$D$34=\"\", \"\", '24'!$D$34)","v":""},0,""]
[null,{"$f":"B251+1","v":25},{"$f":"IF('25'!$D$11=\"\", \"\", '25'!$D$11)","v":""},{"$f":"IF('25'!$D$12=\"\", \"\", '25'!$D$12)","v":""},{"$f":"IF('25'!$D$13=\"\", \"\", '25'!$D$13)","v":""},{"$f":"IF('25'!$D$14=\"\", \"\", '25'!$D$14)","v":""},{"$f":"IF('25'!$D$15=\"\", \"\", '25'!$D$15)","v":""},{"$f":"IF('25'!$D$16=\"\", \"\", '25'!$D$16)","v":""},{"$f":"IF('25'!$D$17=\"\", \"\", '25'!$D$17)","v":""},{"$f":"IF('25'!$D$18=\"\", \"\", '25'!$D$18)","v":""},{"$f":"IF('25'!$D$19=\"\", \"\", '25'!$D$19)","v":""},{"$f":"IF('25'!$D$20=\"\", \"\", '25'!$D$20)","v":""},{"$f":"IF('25'!$D$21=\"\", \"\", '25'!$D$21)","v":""},{"$f":"IF('25'!$D$22=\"\", \"\", '25'!$D$22)","v":""},{"$f":"IF('25'!$D$23=\"\", \"\", '25'!$D$23)","v":""},{"$f":"IF('25'!$D$24=\"\", \"\", '25'!$D$24)","v":""},{"$f":"IF('25'!$D$25=\"\", \"\", '25'!$D$25)","v":""},{"$f":"IF('25'!$D$26=\"\", \"\", '25'!$D$26)","v":""},{"$f":"IF('25'!$D$27=\"\", \"\", '25'!$D$27)","v":""},{"$f":"IF('25'!$D$28=\"\", \"\", '25'!$D$28)","v":""},{"$f":"IF('25'!$D$29=\"\", \"\", '25'!$D$29)","v":""},{"$f":"IF('25'!$D$30=\"\", \"\", '25'!$D$30)","v":""},{"$f":"IF('25'!$D$31=\"\", \"\", '25'!$D$31)","v":""},{"$f":"IF('25'!$D$32=\"\", \"\", '25'!$D$32)","v":""},{"$f":"IF('25'!$D$33=\"\", \"\", '25'!$D$33)","v":""},{"$f":"IF('25'!$D$34=\"\", \"\", '25'!$D$34)","v":""},0,""]
[null,26,{"$f":"IF('26'!$D$11=\"\", \"\", '26'!$D$11)","v":""},{"$f":"IF('26'!$D$12=\"\", \"\", '26'!$D$12)","v":""},{"$f":"IF('26'!$D$13=\"\", \"\", '26'!$D$13)","v":""},{"$f":"IF('26'!$D$14=\"\", \"\", '26'!$D$14)","v":""},{"$f":"IF('26'!$D$15=\"\", \"\", '26'!$D$15)","v":""},{"$f":"IF('26'!$D$16=\"\", \"\", '26'!$D$16)","v":""},{"$f":"IF('26'!$D$17=\"\", \"\", '26'!$D$17)","v":""},{"$f":"IF('26'!$D$18=\"\", \"\", '26'!$D$18)","v":""},{"$f":"IF('26'!$D$19=\"\", \"\", '26'!$D$19)","v":""},{"$f":"IF('26'!$D$20=\"\", \"\", '26'!$D$20)","v":""},{"$f":"IF('26'!$D$21=\"\", \"\", '26'!$D$21)","v":""},{"$f":"IF('26'!$D$22=\"\", \"\", '26'!$D$22)","v":""},{"$f":"IF('26'!$D$23=\"\", \"\", '26'!$D$23)","v":""},{"$f":"IF('26'!$D$24=\"\", \"\", '26'!$D$24)","v":""},{"$f":"IF('26'!$D$25=\"\", \"\", '26'!$D$25)","v":""},{"$f":"IF('26'!$D$26=\"\", \"\", '26'!$D$26)","v":""},{"$f":"IF('26'!$D$27=\"\", \"\", '26'!$D$27)","v":""},{"$f":"IF('26'!$D$28=\"\", \"\", '26'!$D$28)","v":""},{"$f":"IF('26'!$D$29=\"\", \"\", '26'!$D$29)","v":""},{"$f":"IF('26'!$D$30=\"\", \"\", '26'!$D$30)","v":""},{"$f":"IF('26'!$D$31=\"\", \"\", '26'!$D$31)","v":""},{"$f":"IF('26'!$D$32=\"\", \"\", '26'!$D$32)","v":""},{"$f":"IF('26'!$D$33=\"\", \"\", '26'!$D$33)","v":""},{"$f":"IF('26'!$D$34=\"\", \"\", '26'!$D$34)","v":""},0,""]
[null,27,{"$f":"IF('27'!$D$11=\"\", \"\", '27'!$D$11)","v":""},{"$f":"IF('27'!$D$12=\"\", \"\", '27'!$D$12)","v":""},{"$f":"IF('27'!$D$13=\"\", \"\", '27'!$D$13)","v":""},{"$f":"IF('27'!$D$14=\"\", \"\", '27'!$D$14)","v":""},{"$f":"IF('27'!$D$15=\"\", \"\", '27'!$D$15)","v":""},{"$f":"IF('27'!$D$16=\"\", \"\", '27'!$D$16)","v":""},{"$f":"IF('27'!$D$17=\"\", \"\", '27'!$D$17)","v":""},{"$f":"IF('27'!$D$18=\"\", \"\", '27'!$D$18)","v":""},{"$f":"IF('27'!$D$19=\"\", \"\", '27'!$D$19)","v":""},{"$f":"IF('27'!$D$20=\"\", \"\", '27'!$D$20)","v":""},{"$f":"IF('27'!$D$21=\"\", \"\", '27'!$D$21)","v":""},{"$f":"IF('27'!$D$22=\"\", \"\", '27'!$D$22)","v":""},{"$f":"IF('27'!$D$23=\"\", \"\", '27'!$D$23)","v":""},{"$f":"IF('27'!$D$24=\"\", \"\", '27'!$D$24)","v":""},{"$f":"IF('27'!$D$25=\"\", \"\", '27'!$D$25)","v":""},{"$f":"IF('27'!$D$26=\"\", \"\", '27'!$D$26)","v":""},{"$f":"IF('27'!$D$27=\"\", \"\", '27'!$D$27)","v":""},{"$f":"IF('27'!$D$28=\"\", \"\", '27'!$D$28)","v":""},{"$f":"IF('27'!$D$29=\"\", \"\", '27'!$D$29)","v":""},{"$f":"IF('27'!$D$30=\"\", \"\", '27'!$D$30)","v":""},{"$f":"IF('27'!$D$31=\"\", \"\", '27'!$D$31)","v":""},{"$f":"IF('27'!$D$32=\"\", \"\", '27'!$D$32)","v":""},{"$f":"IF('27'!$D$33=\"\", \"\", '27'!$D$33)","v":""},{"$f":"IF('27'!$D$34=\"\", \"\", '27'!$D$34)","v":""},0,""]
[null,28,{"$f":"IF('28'!$D$11=\"\", \"\", '28'!$D$11)","v":""},{"$f":"IF('28'!$D$12=\"\", \"\", '28'!$D$12)","v":""},{"$f":"IF('28'!$D$13=\"\", \"\", '28'!$D$13)","v":""},{"$f":"IF('28'!$D$14=\"\", \"\", '28'!$D$14)","v":""},{"$f":"IF('28'!$D$15=\"\", \"\", '28'!$D$15)","v":""},{"$f":"IF('28'!$D$16=\"\", \"\", '28'!$D$16)","v":""},{"$f":"IF('28'!$D$17=\"\", \"\", '28'!$D$17)","v":""},{"$f":"IF('28'!$D$18=\"\", \"\", '28'!$D$18)","v":""},{"$f":"IF('28'!$D$19=\"\", \"\", '28'!$D$19)","v":""},{"$f":"IF('28'!$D$20=\"\", \"\", '28'!$D$20)","v":""},{"$f":"IF('28'!$D$21=\"\", \"\", '28'!$D$21)","v":""},{"$f":"IF('28'!$D$22=\"\", \"\", '28'!$D$22)","v":""},{"$f":"IF('28'!$D$23=\"\", \"\", '28'!$D$23)","v":""},{"$f":"IF('28'!$D$24=\"\", \"\", '28'!$D$24)","v":""},{"$f":"IF('28'!$D$25=\"\", \"\", '28'!$D$25)","v":""},{"$f":"IF('28'!$D$26=\"\", \"\", '28'!$D$26)","v":""},{"$f":"IF('28'!$D$27=\"\", \"\", '28'!$D$27)","v":""},{"$f":"IF('28'!$D$28=\"\", \"\", '28'!$D$28)","v":""},{"$f":"IF('28'!$D$29=\"\", \"\", '28'!$D$29)","v":""},{"$f":"IF('28'!$D$30=\"\", \"\", '28'!$D$30)","v":""},{"$f":"IF('28'!$D$31=\"\", \"\", '28'!$D$31)","v":""},{"$f":"IF('28'!$D$32=\"\", \"\", '28'!$D$32)","v":""},{"$f":"IF('28'!$D$33=\"\", \"\", '28'!$D$33)","v":""},{"$f":"IF('28'!$D$34=\"\", \"\", '28'!$D$34)","v":""},0,""]
[null,29,{"$f":"IF('29'!$D$11=\"\", \"\", '29'!$D$11)","v":""},{"$f":"IF('29'!$D$12=\"\", \"\", '29'!$D$12)","v":""},{"$f":"IF('29'!$D$13=\"\", \"\", '29'!$D$13)","v":""},{"$f":"IF('29'!$D$14=\"\", \"\", '29'!$D$14)","v":""},{"$f":"IF('29'!$D$15=\"\", \"\", '29'!$D$15)","v":""},{"$f":"IF('29'!$D$16=\"\", \"\", '29'!$D$16)","v":""},{"$f":"IF('29'!$D$17=\"\", \"\", '29'!$D$17)","v":""},{"$f":"IF('29'!$D$18=\"\", \"\", '29'!$D$18)","v":""},{"$f":"IF('29'!$D$19=\"\", \"\", '29'!$D$19)","v":""},{"$f":"IF('29'!$D$20=\"\", \"\", '29'!$D$20)","v":""},{"$f":"IF('29'!$D$21=\"\", \"\", '29'!$D$21)","v":""},{"$f":"IF('29'!$D$22=\"\", \"\", '29'!$D$22)","v":""},{"$f":"IF('29'!$D$23=\"\", \"\", '29'!$D$23)","v":""},{"$f":"IF('29'!$D$24=\"\", \"\", '29'!$D$24)","v":""},{"$f":"IF('29'!$D$25=\"\", \"\", '29'!$D$25)","v":""},{"$f":"IF('29'!$D$26=\"\", \"\", '29'!$D$26)","v":""},{"$f":"IF('29'!$D$27=\"\", \"\", '29'!$D$27)","v":""},{"$f":"IF('29'!$D$28=\"\", \"\", '29'!$D$28)","v":""},{"$f":"IF('29'!$D$29=\"\", \"\", '29'!$D$29)","v":""},{"$f":"IF('29'!$D$30=\"\", \"\", '29'!$D$30)","v":""},{"$f":"IF('29'!$D$31=\"\", \"\", '29'!$D$31)","v":""},{"$f":"IF('29'!$D$32=\"\", \"\", '29'!$D$32)","v":""},{"$f":"IF('29'!$D$33=\"\", \"\", '29'!$D$33)","v":""},{"$f":"IF('29'!$D$34=\"\", \"\", '29'!$D$34)","v":""},0,""]
[null,30,{"$f":"IF('30'!$D$11=\"\", \"\", '30'!$D$11)","v":""},{"$f":"IF('30'!$D$12=\"\", \"\", '30'!$D$12)","v":""},{"$f":"IF('30'!$D$13=\"\", \"\", '30'!$D$13)","v":""},{"$f":"IF('30'!$D$14=\"\", \"\", '30'!$D$14)","v":""},{"$f":"IF('30'!$D$15=\"\", \"\", '30'!$D$15)","v":""},{"$f":"IF('30'!$D$16=\"\", \"\", '30'!$D$16)","v":""},{"$f":"IF('30'!$D$17=\"\", \"\", '30'!$D$17)","v":""},{"$f":"IF('30'!$D$18=\"\", \"\", '30'!$D$18)","v":""},{"$f":"IF('30'!$D$19=\"\", \"\", '30'!$D$19)","v":""},{"$f":"IF('30'!$D$20=\"\", \"\", '30'!$D$20)","v":""},{"$f":"IF('30'!$D$21=\"\", \"\", '30'!$D$21)","v":""},{"$f":"IF('30'!$D$22=\"\", \"\", '30'!$D$22)","v":""},{"$f":"IF('30'!$D$23=\"\", \"\", '30'!$D$23)","v":""},{"$f":"IF('30'!$D$24=\"\", \"\", '30'!$D$24)","v":""},{"$f":"IF('30'!$D$25=\"\", \"\", '30'!$D$25)","v":""},{"$f":"IF('30'!$D$26=\"\", \"\", '30'!$D$26)","v":""},{"$f":"IF('30'!$D$27=\"\", \"\", '30'!$D$27)","v":""},{"$f":"IF('30'!$D$28=\"\", \"\", '30'!$D$28)","v":""},{"$f":"IF('30'!$D$29=\"\", \"\", '30'!$D$29)","v":""},{"$f":"IF('30'!$D$30=\"\", \"\", '30'!$D$30)","v":""},{"$f":"IF('30'!$D$31=\"\", \"\", '30'!$D$31)","v":""},{"$f":"IF('30'!$D$32=\"\", \"\", '30'!$D$32)","v":""},{"$f":"IF('30'!$D$33=\"\", \"\", '30'!$D$33)","v":""},{"$f":"IF('30'!$D$34=\"\", \"\", '30'!$D$34)","v":""},0,"",{"$f":"6851/31","v":221}]
[null,31,{"$f":"IF('31'!$D$11=\"\", \"\", '31'!$D$11)","v":""},{"$f":"IF('31'!$D$12=\"\", \"\", '31'!$D$12)","v":""},{"$f":"IF('31'!$D$13=\"\", \"\", '31'!$D$13)","v":""},{"$f":"IF('31'!$D$14=\"\", \"\", '31'!$D$14)","v":""},{"$f":"IF('31'!$D$15=\"\", \"\", '31'!$D$15)","v":""},{"$f":"IF('31'!$D$16=\"\", \"\", '31'!$D$16)","v":""},{"$f":"IF('31'!$D$17=\"\", \"\", '31'!$D$17)","v":""},{"$f":"IF('31'!$D$18=\"\", \"\", '31'!$D$18)","v":""},{"$f":"IF('31'!$D$19=\"\", \"\", '31'!$D$19)","v":""},{"$f":"IF('31'!$D$20=\"\", \"\", '31'!$D$20)","v":""},{"$f":"IF('31'!$D$21=\"\", \"\", '31'!$D$21)","v":""},{"$f":"IF('31'!$D$22=\"\", \"\", '31'!$D$22)","v":""},{"$f":"IF('31'!$D$23=\"\", \"\", '31'!$D$23)","v":""},{"$f":"IF('31'!$D$24=\"\", \"\", '31'!$D$24)","v":""},{"$f":"IF('31'!$D$25=\"\", \"\", '31'!$D$25)","v":""},{"$f":"IF('31'!$D$26=\"\", \"\", '31'!$D$26)","v":""},{"$f":"IF('31'!$D$27=\"\", \"\", '31'!$D$27)","v":""},{"$f":"IF('31'!$D$28=\"\", \"\", '31'!$D$28)","v":""},{"$f":"IF('31'!$D$29=\"\", \"\", '31'!$D$29)","v":""},{"$f":"IF('31'!$D$30=\"\", \"\", '31'!$D$30)","v":""},{"$f":"IF('31'!$D$31=\"\", \"\", '31'!$D$31)","v":""},{"$f":"IF('31'!$D$32=\"\", \"\", '31'!$D$32)","v":""},{"$f":"IF('31'!$D$33=\"\", \"\", '31'!$D$33)","v":""},{"$f":"IF('31'!$D$34=\"\", \"\", '31'!$D$34)","v":""},0,""]
["# Test",null,{"$f":"COUNTIF(C228:C258,  \">0\")","v":0},0,0,0,0,1,0,0,0,0,0,0,0,0,0,0,0,0,0,0,0,0,0,0,{"$f":"IF(COUNTA(AA228:AA258)=0,\"\",COUNTA(AA228:AA258))","v":31},{"$f":"IF(COUNTA(AB228:AB258)=0,\"\",COUNTA(AB228:AB258))","v":31}]
["TOT",null,{"$f":"IF(SUM(C228:C258)>0, SUM(C228:C258), \"\")","v":""},{"$f":"IF(SUM(D228:D258)>0, SUM(D228:D258), \"\")","v":""},"","","",136,"","","","","","","","","","","","","","","","","","",{"$f":"IFERROR((SUM(AA228:AA258)/AA259), \"\")","v":0.03225806451612903},{"$f":"IFERROR((SUM(AB228:AB258)/AB259), \"\")","v":4.387096774193548}]
[]
[]
[null,"HR",1,{"$f":"C263+1","v":2},{"$f":"D263+1","v":3},4,5,6,7,8,9,10,11,12,13,14,15,16,17,18,19,20,21,22,23,24]
["Dia *** Day of the Month *** Dia",1,{"$f":"IF('1'!$F$11=\"\", \"\", '1'!$F$11)","v":""},{"$f":"IF('1'!$F$12=\"\", \"\", '1'!$F$12)","v":""},{"$f":"IF('1'!$F$13=\"\", \"\", '1'!$F$13)","v":""},{"$f":"IF('1'!$F$14=\"\", \"\", '1'!$F$14)","v":""},{"$f":"IF('1'!$F$15=\"\", \"\", '1'!$F$15)","v":""},{"$f":"IF('1'!$F$16=\"\", \"\", '1'!$F$16)","v":""},{"$f":"IF('1'!$F$17=\"\", \"\", '1'!$F$17)","v":""},{"$f":"IF('1'!$F$18=\"\", \"\", '1'!$F$18)","v":""},{"$f":"IF('1'!$F$19=\"\", \"\", '1'!$F$19)","v":""},{"$f":"IF('1'!$F$20=\"\", \"\", '1'!$F$20)","v":""},{"$f":"IF('1'!$F$21=\"\", \"\", '1'!$F$21)","v":""},{"$f":"IF('1'!$F$22=\"\", \"\", '1'!$F$22)","v":""},{"$f":"IF('1'!$F$23=\"\", \"\", '1'!$F$23)","v":""},{"$f":"IF('1'!$F$24=\"\", \"\", '1'!$F$24)","v":""},{"$f":"IF('1'!$F$25=\"\", \"\", '1'!$F$25)","v":""},{"$f":"IF('1'!$F$26=\"\", \"\", '1'!$F$26)","v":""},{"$f":"IF('1'!$F$27=\"\", \"\", '1'!$F$27)","v":""},{"$f":"IF('1'!$F$28=\"\", \"\", '1'!$F$28)","v":""},{"$f":"IF('1'!$F$29=\"\", \"\", '1'!$F$29)","v":""},{"$f":"IF('1'!$F$30=\"\", \"\", '1'!$F$30)","v":""},{"$f":"IF('1'!$F$31=\"\", \"\", '1'!$F$31)","v":""},{"$f":"IF('1'!$F$32=\"\", \"\", '1'!$F$32)","v":""},{"$f":"IF('1'!$F$33=\"\", \"\", '1'!$F$33)","v":""},{"$f":"IF('1'!$F$34=\"\", \"\", '1'!$F$34)","v":""},{"$f":"COUNTIF(C264:Z264, \">0\")","v":0},{"$f":"IFERROR((SUM(C264:Z264))/AA264, \"\")","v":""}]
[null,{"$f":"B264+1","v":2},{"$f":"IF('2'!$F$11=\"\", \"\", '2'!$F$11)","v":""},{"$f":"IF('2'!$F$12=\"\", \"\", '2'!$F$12)","v":""},{"$f":"IF('2'!$F$13=\"\", \"\", '2'!$F$13)","v":""},{"$f":"IF('2'!$F$14=\"\", \"\", '2'!$F$14)","v":""},{"$f":"IF('2'!$F$15=\"\", \"\", '2'!$F$15)","v":""},{"$f":"IF('2'!$F$16=\"\", \"\", '2'!$F$16)","v":""},{"$f":"IF('2'!$F$17=\"\", \"\", '2'!$F$17)","v":""},{"$f":"IF('2'!$F$18=\"\", \"\", '2'!$F$18)","v":""},{"$f":"IF('2'!$F$19=\"\", \"\", '2'!$F$19)","v":""},{"$f":"IF('2'!$F$20=\"\", \"\", '2'!$F$20)","v":""},{"$f":"IF('2'!$F$21=\"\", \"\", '2'!$F$21)","v":""},{"$f":"IF('2'!$F$22=\"\", \"\", '2'!$F$22)","v":""},{"$f":"IF('2'!$F$23=\"\", \"\", '2'!$F$23)","v":""},{"$f":"IF('2'!$F$24=\"\", \"\", '2'!$F$24)","v":""},{"$f":"IF('2'!$F$25=\"\", \"\", '2'!$F$25)","v":""},{"$f":"IF('2'!$F$26=\"\", \"\", '2'!$F$26)","v":""},{"$f":"IF('2'!$F$27=\"\", \"\", '2'!$F$27)","v":""},{"$f":"IF('2'!$F$28=\"\", \"\", '2'!$F$28)","v":""},{"$f":"IF('2'!$F$29=\"\", \"\", '2'!$F$29)","v":""},{"$f":"IF('2'!$F$30=\"\", \"\", '2'!$F$30)","v":""},{"$f":"IF('2'!$F$31=\"\", \"\", '2'!$F$31)","v":""},{"$f":"IF('2'!$F$32=\"\", \"\", '2'!$F$32)","v":""},{"$f":"IF('2'!$F$33=\"\", \"\", '2'!$F$33)","v":""},{"$f":"IF('2'!$F$34=\"\", \"\", '2'!$F$34)","v":""},0,""]
[null,{"$f":"B265+1","v":3},{"$f":"IF('3'!$F$11=\"\", \"\", '3'!$F$11)","v":""},{"$f":"IF('3'!$F$12=\"\", \"\", '3'!$F$12)","v":""},{"$f":"IF('3'!$F$13=\"\", \"\", '3'!$F$13)","v":""},{"$f":"IF('3'!$F$14=\"\", \"\", '3'!$F$14)","v":""},{"$f":"IF('3'!$F$15=\"\", \"\", '3'!$F$15)","v":""},{"$f":"IF('3'!$F$16=\"\", \"\", '3'!$F$16)","v":""},{"$f":"IF('3'!$F$17=\"\", \"\", '3'!$F$17)","v":""},{"$f":"IF('3'!$F$18=\"\", \"\", '3'!$F$18)","v":""},{"$f":"IF('3'!$F$19=\"\", \"\", '3'!$F$19)","v":""},{"$f":"IF('3'!$F$20=\"\", \"\", '3'!$F$20)","v":""},{"$f":"IF('3'!$F$21=\"\", \"\", '3'!$F$21)","v":""},{"$f":"IF('3'!$F$22=\"\", \"\", '3'!$F$22)","v":""},{"$f":"IF('3'!$F$23=\"\", \"\", '3'!$F$23)","v":""},{"$f":"IF('3'!$F$24=\"\", \"\", '3'!$F$24)","v":""},{"$f":"IF('3'!$F$25=\"\", \"\", '3'!$F$25)","v":""},{"$f":"IF('3'!$F$26=\"\", \"\", '3'!$F$26)","v":""},{"$f":"IF('3'!$F$27=\"\", \"\", '3'!$F$27)","v":""},{"$f":"IF('3'!$F$28=\"\", \"\", '3'!$F$28)","v":""},{"$f":"IF('3'!$F$29=\"\", \"\", '3'!$F$29)","v":""},{"$f":"IF('3'!$F$30=\"\", \"\", '3'!$F$30)","v":""},{"$f":"IF('3'!$F$31=\"\", \"\", '3'!$F$31)","v":""},{"$f":"IF('3'!$F$32=\"\", \"\", '3'!$F$32)","v":""},{"$f":"IF('3'!$F$33=\"\", \"\", '3'!$F$33)","v":""},{"$f":"IF('3'!$F$34=\"\", \"\", '3'!$F$34)","v":""},0,""]
[null,4,{"$f":"IF('4'!$F$11=\"\", \"\", '4'!$F$11)","v":""},{"$f":"IF('4'!$F$12=\"\", \"\", '4'!$F$12)","v":""},{"$f":"IF('4'!$F$13=\"\", \"\", '4'!$F$13)","v":""},{"$f":"IF('4'!$F$14=\"\", \"\", '4'!$F$14)","v":""},{"$f":"IF('4'!$F$15=\"\", \"\", '4'!$F$15)","v":""},{"$f":"IF('4'!$F$16=\"\", \"\", '4'!$F$16)","v":78},{"$f":"IF('4'!$F$17=\"\", \"\", '4'!$F$17)","v":""},{"$f":"IF('4'!$F$18=\"\", \"\", '4'!$F$18)","v":""},{"$f":"IF('4'!$F$19=\"\", \"\", '4'!$F$19)","v":""},{"$f":"IF('4'!$F$20=\"\", \"\", '4'!$F$20)","v":""},{"$f":"IF('4'!$F$21=\"\", \"\", '4'!$F$21)","v":""},{"$f":"IF('4'!$F$22=\"\", \"\", '4'!$F$22)","v":""},{"$f":"IF('4'!$F$23=\"\", \"\", '4'!$F$23)","v":""},{"$f":"IF('4'!$F$24=\"\", \"\", '4'!$F$24)","v":""},{"$f":"IF('4'!$F$25=\"\", \"\", '4'!$F$25)","v":""},{"$f":"IF('4'!$F$26=\"\", \"\", '4'!$F$26)","v":""},{"$f":"IF('4'!$F$27=\"\", \"\", '4'!$F$27)","v":""},{"$f":"IF('4'!$F$28=\"\", \"\", '4'!$F$28)","v":""},{"$f":"IF('4'!$F$29=\"\", \"\", '4'!$F$29)","v":""},{"$f":"IF('4'!$F$30=\"\", \"\", '4'!$F$30)","v":""},{"$f":"IF('4'!$F$31=\"\", \"\", '4'!$F$31)","v":""},{"$f":"IF('4'!$F$32=\"\", \"\", '4'!$F$32)","v":""},{"$f":"IF('4'!$F$33=\"\", \"\", '4'!$F$33)","v":""},{"$f":"IF('4'!$F$34=\"\", \"\", '4'!$F$34)","v":""},1,78]
[null,5,{"$f":"IF('5'!$F$11=\"\", \"\", '5'!$F$11)","v":""},{"$f":"IF('5'!$F$12=\"\", \"\", '5'!$F$12)","v":""},{"$f":"IF('5'!$F$13=\"\", \"\", '5'!$F$13)","v":""},{"$f":"IF('5'!$F$14=\"\", \"\", '5'!$F$14)","v":""},{"$f":"IF('5'!$F$15=\"\", \"\", '5'!$F$15)","v":""},{"$f":"IF('5'!$F$16=\"\", \"\", '5'!$F$16)","v":""},{"$f":"IF('5'!$F$17=\"\", \"\", '5'!$F$17)","v":""},{"$f":"IF('5'!$F$18=\"\", \"\", '5'!$F$18)","v":""},{"$f":"IF('5'!$F$19=\"\", \"\", '5'!$F$19)","v":""},{"$f":"IF('5'!$F$20=\"\", \"\", '5'!$F$20)","v":""},{"$f":"IF('5'!$F$21=\"\", \"\", '5'!$F$21)","v":""},{"$f":"IF('5'!$F$22=\"\", \"\", '5'!$F$22)","v":""},{"$f":"IF('5'!$F$23=\"\", \"\", '5'!$F$23)","v":""},{"$f":"IF('5'!$F$24=\"\", \"\", '5'!$F$24)","v":""},{"$f":"IF('5'!$F$25=\"\", \"\", '5'!$F$25)","v":""},{"$f":"IF('5'!$F$26=\"\", \"\", '5'!$F$26)","v":""},{"$f":"IF('5'!$F$27=\"\", \"\", '5'!$F$27)","v":""},{"$f":"IF('5'!$F$28=\"\", \"\", '5'!$F$28)","v":""},{"$f":"IF('5'!$F$29=\"\", \"\", '5'!$F$29)","v":""},{"$f":"IF('5'!$F$30=\"\", \"\", '5'!$F$30)","v":""},{"$f":"IF('5'!$F$31=\"\", \"\", '5'!$F$31)","v":""},{"$f":"IF('5'!$F$32=\"\", \"\", '5'!$F$32)","v":""},{"$f":"IF('5'!$F$33=\"\", \"\", '5'!$F$33)","v":""},{"$f":"IF('5'!$F$34=\"\", \"\", '5'!$F$34)","v":""},0,""]
[null,6,{"$f":"IF('6'!$F$11=\"\", \"\", '6'!$F$11)","v":""},{"$f":"IF('6'!$F$12=\"\", \"\", '6'!$F$12)","v":""},{"$f":"IF('6'!$F$13=\"\", \"\", '6'!$F$13)","v":""},{"$f":"IF('6'!$F$14=\"\", \"\", '6'!$F$14)","v":""},{"$f":"IF('6'!$F$15=\"\", \"\", '6'!$F$15)","v":""},{"$f":"IF('6'!$F$16=\"\", \"\", '6'!$F$16)","v":""},{"$f":"IF('6'!$F$17=\"\", \"\", '6'!$F$17)","v":""},{"$f":"IF('6'!$F$18=\"\", \"\", '6'!$F$18)","v":""},{"$f":"IF('6'!$F$19=\"\", \"\", '6'!$F$19)","v":""},{"$f":"IF('6'!$F$20=\"\", \"\", '6'!$F$20)","v":""},{"$f":"IF('6'!$F$21=\"\", \"\", '6'!$F$21)","v":""},{"$f":"IF('6'!$F$22=\"\", \"\", '6'!$F$22)","v":""},{"$f":"IF('6'!$F$23=\"\", \"\", '6'!$F$23)","v":""},{"$f":"IF('6'!$F$24=\"\", \"\", '6'!$F$24)","v":""},{"$f":"IF('6'!$F$25=\"\", \"\", '6'!$F$25)","v":""},{"$f":"IF('6'!$F$26=\"\", \"\", '6'!$F$26)","v":""},{"$f":"IF('6'!$F$27=\"\", \"\", '6'!$F$27)","v":""},{"$f":"IF('6'!$F$28=\"\", \"\", '6'!$F$28)","v":""},{"$f":"IF('6'!$F$29=\"\", \"\", '6'!$F$29)","v":""},{"$f":"IF('6'!$F$30=\"\", \"\", '6'!$F$30)","v":""},{"$f":"IF('6'!$F$31=\"\", \"\", '6'!$F$31)","v":""},{"$f":"IF('6'!$F$32=\"\", \"\", '6'!$F$32)","v":""},{"$f":"IF('6'!$F$33=\"\", \"\", '6'!$F$33)","v":""},{"$f":"IF('6'!$F$34=\"\", \"\", '6'!$F$34)","v":""},0,""]
[null,7,{"$f":"IF('7'!$F$11=\"\", \"\", '7'!$F$11)","v":""},{"$f":"IF('7'!$F$12=\"\", \"\", '7'!$F$12)","v":""},{"$f":"IF('7'!$F$13=\"\", \"\", '7'!$F$13)","v":""},{"$f":"IF('7'!$F$14=\"\", \"\", '7'!$F$14)","v":""},{"$f":"IF('7'!$F$15=\"\", \"\", '7'!$F$15)","v":""},{"$f":"IF('7'!$F$16=\"\", \"\", '7'!$F$16)","v":""},{"$f":"IF('7'!$F$17=\"\", \"\", '7'!$F$17)","v":""},{"$f":"IF('7'!$F$18=\"\", \"\", '7'!$F$18)","v":""},{"$f":"IF('7'!$F$19=\"\", \"\", '7'!$F$19)","v":""},{"$f":"IF('7'!$F$20=\"\", \"\", '7'!$F$20)","v":""},{"$f":"IF('7'!$F$21=\"\", \"\", '7'!$F$21)","v":""},{"$f":"IF('7'!$F$22=\"\", \"\", '7'!$F$22)","v":""},{"$f":"IF('7'!$F$23=\"\", \"\", '7'!$F$23)","v":""},{"$f":"IF('7'!$F$24=\"\", \"\", '7'!$F$24)","v":""},{"$f":"IF('7'!$F$25=\"\", \"\", '7'!$F$25)","v":""},{"$f":"IF('7'!$F$26=\"\", \"\", '7'!$F$26)","v":""},{"$f":"IF('7'!$F$27=\"\", \"\", '7'!$F$27)","v":""},{"$f":"IF('7'!$F$28=\"\", \"\", '7'!$F$28)","v":""},{"$f":"IF('7'!$F$29=\"\", \"\", '7'!$F$29)","v":""},{"$f":"IF('7'!$F$30=\"\", \"\", '7'!$F$30)","v":""},{"$f":"IF('7'!$F$31=\"\", \"\", '7'!$F$31)","v":""},{"$f":"IF('7'!$F$32=\"\", \"\", '7'!$F$32)","v":""},{"$f":"IF('7'!$F$33=\"\", \"\", '7'!$F$33)","v":""},{"$f":"IF('7'!$F$34=\"\", \"\", '7'!$F$34)","v":""},0,""]
[null,8,{"$f":"IF('8'!$F$11=\"\", \"\", '8'!$F$11)","v":""},{"$f":"IF('8'!$F$12=\"\", \"\", '8'!$F$12)","v":""},{"$f":"IF('8'!$F$13=\"\", \"\", '8'!$F$13)","v":""},{"$f":"IF('8'!$F$14=\"\", \"\", '8'!$F$14)","v":""},{"$f":"IF('8'!$F$15=\"\", \"\", '8'!$F$15)","v":""},{"$f":"IF('8'!$F$16=\"\", \"\", '8'!$F$16)","v":""},{"$f":"IF('8'!$F$17=\"\", \"\", '8'!$F$17)","v":""},{"$f":"IF('8'!$F$18=\"\", \"\", '8'!$F$18)","v":""},{"$f":"IF('8'!$F$19=\"\", \"\", '8'!$F$19)","v":""},{"$f":"IF('8'!$F$20=\"\", \"\", '8'!$F$20)","v":""},{"$f":"IF('8'!$F$21=\"\", \"\", '8'!$F$21)","v":""},{"$f":"IF('8'!$F$22=\"\", \"\", '8'!$F$22)","v":""},{"$f":"IF('8'!$F$23=\"\", \"\", '8'!$F$23)","v":""},{"$f":"IF('8'!$F$24=\"\", \"\", '8'!$F$24)","v":""},{"$f":"IF('8'!$F$25=\"\", \"\", '8'!$F$25)","v":""},{"$f":"IF('8'!$F$26=\"\", \"\", '8'!$F$26)","v":""},{"$f":"IF('8'!$F$27=\"\", \"\", '8'!$F$27)","v":""},{"$f":"IF('8'!$F$28=\"\", \"\", '8'!$F$28)","v":""},{"$f":"IF('8'!$F$29=\"\", \"\", '8'!$F$29)","v":""},{"$f":"IF('8'!$F$30=\"\", \"\", '8'!$F$30)","v":""},{"$f":"IF('8'!$F$31=\"\", \"\", '8'!$F$31)","v":""},{"$f":"IF('8'!$F$32=\"\", \"\", '8'!$F$32)","v":""},{"$f":"IF('8'!$F$33=\"\", \"\", '8'!$F$33)","v":""},{"$f":"IF('8'!$F$34=\"\", \"\", '8'!$F$34)","v":""},0,""]
[null,9,{"$f":"IF('9'!$F$11=\"\", \"\", '9'!$F$11)","v":""},{"$f":"IF('9'!$F$12=\"\", \"\", '9'!$F$12)","v":""},{"$f":"IF('9'!$F$13=\"\", \"\", '9'!$F$13)","v":""},{"$f":"IF('9'!$F$14=\"\", \"\", '9'!$F$14)","v":""},{"$f":"IF('9'!$F$15=\"\", \"\", '9'!$F$15)","v":""},{"$f":"IF('9'!$F$16=\"\", \"\", '9'!$F$16)","v":""},{"$f":"IF('9'!$F$17=\"\", \"\", '9'!$F$17)","v":""},{"$f":"IF('9'!$F$18=\"\", \"\", '9'!$F$18)","v":""},{"$f":"IF('9'!$F$19=\"\", \"\", '9'!$F$19)","v":""},{"$f":"IF('9'!$F$20=\"\", \"\", '9'!$F$20)","v":""},{"$f":"IF('9'!$F$21=\"\", \"\", '9'!$F$21)","v":""},{"$f":"IF('9'!$F$22=\"\", \"\", '9'!$F$22)","v":""},{"$f":"IF('9'!$F$23=\"\", \"\", '9'!$F$23)","v":""},{"$f":"IF('9'!$F$24=\"\", \"\", '9'!$F$24)","v":""},{"$f":"IF('9'!$F$25=\"\", \"\", '9'!$F$25)","v":""},{"$f":"IF('9'!$F$26=\"\", \"\", '9'!$F$26)","v":""},{"$f":"IF('9'!$F$27=\"\", \"\", '9'!$F$27)","v":""},{"$f":"IF('9'!$F$28=\"\", \"\", '9'!$F$28)","v":""},{"$f":"IF('9'!$F$29=\"\", \"\", '9'!$F$29)","v":""},{"$f":"IF('9'!$F$30=\"\", \"\", '9'!$F$30)","v":""},{"$f":"IF('9'!$F$31=\"\", \"\", '9'!$F$31)","v":""},{"$f":"IF('9'!$F$32=\"\", \"\", '9'!$F$32)","v":""},{"$f":"IF('9'!$F$33=\"\", \"\", '9'!$F$33)","v":""},{"$f":"IF('9'!$F$34=\"\", \"\", '9'!$F$34)","v":""},0,""]
[null,10,{"$f":"IF('10'!$F$11=\"\", \"\", '10'!$F$11)","v":""},{"$f":"IF('10'!$F$12=\"\", \"\", '10'!$F$12)","v":""},{"$f":"IF('10'!$F$13=\"\", \"\", '10'!$F$13)","v":""},{"$f":"IF('10'!$F$14=\"\", \"\", '10'!$F$14)","v":""},{"$f":"IF('10'!$F$15=\"\", \"\", '10'!$F$15)","v":""},{"$f":"IF('10'!$F$16=\"\", \"\", '10'!$F$16)","v":""},{"$f":"IF('10'!$F$17=\"\", \"\", '10'!$F$17)","v":""},{"$f":"IF('10'!$F$18=\"\", \"\", '10'!$F$18)","v":""},{"$f":"IF('10'!$F$19=\"\", \"\", '10'!$F$19)","v":""},{"$f":"IF('10'!$F$20=\"\", \"\", '10'!$F$20)","v":""},{"$f":"IF('10'!$F$21=\"\", \"\", '10'!$F$21)","v":""},{"$f":"IF('10'!$F$22=\"\", \"\", '10'!$F$22)","v":""},{"$f":"IF('10'!$F$23=\"\", \"\", '10'!$F$23)","v":""},{"$f":"IF('10'!$F$24=\"\", \"\", '10'!$F$24)","v":""},{"$f":"IF('10'!$F$25=\"\", \"\", '10'!$F$25)","v":""},{"$f":"IF('10'!$F$26=\"\", \"\", '10'!$F$26)","v":""},{"$f":"IF('10'!$F$27=\"\", \"\", '10'!$F$27)","v":""},{"$f":"IF('10'!$F$28=\"\", \"\", '10'!$F$28)","v":""},{"$f":"IF('10'!$F$29=\"\", \"\", '10'!$F$29)","v":""},{"$f":"IF('10'!$F$30=\"\", \"\", '10'!$F$30)","v":""},{"$f":"IF('10'!$F$31=\"\", \"\", '10'!$F$31)","v":""},{"$f":"IF('10'!$F$32=\"\", \"\", '10'!$F$32)","v":""},{"$f":"IF('10'!$F$33=\"\", \"\", '10'!$F$33)","v":""},{"$f":"IF('10'!$F$34=\"\", \"\", '10'!$F$34)","v":""},0,""]
[null,11,{"$f":"IF('11'!$F$11=\"\", \"\", '11'!$F$11)","v":""},{"$f":"IF('11'!$F$12=\"\", \"\", '11'!$F$12)","v":""},{"$f":"IF('11'!$F$13=\"\", \"\", '11'!$F$13)","v":""},{"$f":"IF('11'!$F$14=\"\", \"\", '11'!$F$14)","v":""},{"$f":"IF('11'!$F$15=\"\", \"\", '11'!$F$15)","v":""},{"$f":"IF('11'!$F$16=\"\", \"\", '11'!$F$16)","v":""},{"$f":"IF('11'!$F$17=\"\", \"\", '11'!$F$17)","v":""},{"$f":"IF('11'!$F$18=\"\", \"\", '11'!$F$18)","v":""},{"$f":"IF('11'!$F$19=\"\", \"\", '11'!$F$19)","v":""},{"$f":"IF('11'!$F$20=\"\", \"\", '11'!$F$20)","v":""},{"$f":"IF('11'!$F$21=\"\", \"\", '11'!$F$21)","v":""},{"$f":"IF('11'!$F$22=\"\", \"\", '11'!$F$22)","v":""},{"$f":"IF('11'!$F$23=\"\", \"\", '11'!$F$23)","v":""},{"$f":"IF('11'!$F$24=\"\", \"\", '11'!$F$24)","v":""},{"$f":"IF('11'!$F$25=\"\", \"\", '11'!$F$25)","v":""},{"$f":"IF('11'!$F$26=\"\", \"\", '11'!$F$26)","v":""},{"$f":"IF('11'!$F$27=\"\", \"\", '11'!$F$27)","v":""},{"$f":"IF('11'!$F$28=\"\", \"\", '11'!$F$28)","v":""},{"$f":"IF('11'!$F$29=\"\", \"\", '11'!$F$29)","v":""},{"$f":"IF('11'!$F$30=\"\", \"\", '11'!$F$30)","v":""},{"$f":"IF('11'!$F$31=\"\", \"\", '11'!$F$31)","v":""},{"$f":"IF('11'!$F$32=\"\", \"\", '11'!$F$32)","v":""},{"$f":"IF('11'!$F$33=\"\", \"\", '11'!$F$33)","v":""},{"$f":"IF('11'!$F$34=\"\", \"\", '11'!$F$34)","v":""},0,""]
[null,12,{"$f":"IF('12'!$F$11=\"\", \"\", '12'!$F$11)","v":""},{"$f":"IF('12'!$F$12=\"\", \"\", '12'!$F$12)","v":""},{"$f":"IF('12'!$F$13=\"\", \"\", '12'!$F$13)","v":""},{"$f":"IF('12'!$F$14=\"\", \"\", '12'!$F$14)","v":""},{"$f":"IF('12'!$F$15=\"\", \"\", '12'!$F$15)","v":""},{"$f":"IF('12'!$F$16=\"\", \"\", '12'!$F$16)","v":""},{"$f":"IF('12'!$F$17=\"\", \"\", '12'!$F$17)","v":""},{"$f":"IF('12'!$F$18=\"\", \"\", '12'!$F$18)","v":""},{"$f":"IF('12'!$F$19=\"\", \"\", '12'!$F$19)","v":""},{"$f":"IF('12'!$F$20=\"\", \"\", '12'!$F$20)","v":""},{"$f":"IF('12'!$F$21=\"\", \"\", '12'!$F$21)","v":""},{"$f":"IF('12'!$F$22=\"\", \"\", '12'!$F$22)","v":""},{"$f":"IF('12'!$F$23=\"\", \"\", '12'!$F$23)","v":""},{"$f":"IF('12'!$F$24=\"\", \"\", '12'!$F$24)","v":""},{"$f":"IF('12'!$F$25=\"\", \"\", '12'!$F$25)","v":""},{"$f":"IF('12'!$F$26=\"\", \"\", '12'!$F$26)","v":""},{"$f":"IF('12'!$F$27=\"\", \"\", '12'!$F$27)","v":""},{"$f":"IF('12'!$F$28=\"\", \"\", '12'!$F$28)","v":""},{"$f":"IF('12'!$F$29=\"\", \"\", '12'!$F$29)","v":""},{"$f":"IF('12'!$F$30=\"\", \"\", '12'!$F$30)","v":""},{"$f":"IF('12'!$F$31=\"\", \"\", '12'!$F$31)","v":""},{"$f":"IF('12'!$F$32=\"\", \"\", '12'!$F$32)","v":""},{"$f":"IF('12'!$F$33=\"\", \"\", '12'!$F$33)","v":""},{"$f":"IF('12'!$F$34=\"\", \"\", '12'!$F$34)","v":""},0,""]
[null,13,{"$f":"IF('13'!$F$11=\"\", \"\", '13'!$F$11)","v":""},{"$f":"IF('13'!$F$12=\"\", \"\", '13'!$F$12)","v":""},{"$f":"IF('13'!$F$13=\"\", \"\", '13'!$F$13)","v":""},{"$f":"IF('13'!$F$14=\"\", \"\", '13'!$F$14)","v":""},{"$f":"IF('13'!$F$15=\"\", \"\", '13'!$F$15)","v":""},{"$f":"IF('13'!$F$16=\"\", \"\", '13'!$F$16)","v":""},{"$f":"IF('13'!$F$17=\"\", \"\", '13'!$F$17)","v":""},{"$f":"IF('13'!$F$18=\"\", \"\", '13'!$F$18)","v":""},{"$f":"IF('13'!$F$19=\"\", \"\", '13'!$F$19)","v":""},{"$f":"IF('13'!$F$20=\"\", \"\", '13'!$F$20)","v":""},{"$f":"IF('13'!$F$21=\"\", \"\", '13'!$F$21)","v":""},{"$f":"IF('13'!$F$22=\"\", \"\", '13'!$F$22)","v":""},{"$f":"IF('13'!$F$23=\"\", \"\", '13'!$F$23)","v":""},{"$f":"IF('13'!$F$24=\"\", \"\", '13'!$F$24)","v":""},{"$f":"IF('13'!$F$25=\"\", \"\", '13'!$F$25)","v":""},{"$f":"IF('13'!$F$26=\"\", \"\", '13'!$F$26)","v":""},{"$f":"IF('13'!$F$27=\"\", \"\", '13'!$F$27)","v":""},{"$f":"IF('13'!$F$28=\"\", \"\", '13'!$F$28)","v":""},{"$f":"IF('13'!$F$29=\"\", \"\", '13'!$F$29)","v":""},{"$f":"IF('13'!$F$30=\"\", \"\", '13'!$F$30)","v":""},{"$f":"IF('13'!$F$31=\"\", \"\", '13'!$F$31)","v":""},{"$f":"IF('13'!$F$32=\"\", \"\", '13'!$F$32)","v":""},{"$f":"IF('13'!$F$33=\"\", \"\", '13'!$F$33)","v":""},{"$f":"IF('13'!$F$34=\"\", \"\", '13'!$F$34)","v":""},0,""]
[null,14,{"$f":"IF('14'!$F$11=\"\", \"\", '14'!$F$11)","v":""},{"$f":"IF('14'!$F$12=\"\", \"\", '14'!$F$12)","v":""},{"$f":"IF('14'!$F$13=\"\", \"\", '14'!$F$13)","v":""},{"$f":"IF('14'!$F$14=\"\", \"\", '14'!$F$14)","v":""},{"$f":"IF('14'!$F$15=\"\", \"\", '14'!$F$15)","v":""},{"$f":"IF('14'!$F$16=\"\", \"\", '14'!$F$16)","v":""},{"$f":"IF('14'!$F$17=\"\", \"\", '14'!$F$17)","v":""},{"$f":"IF('14'!$F$18=\"\", \"\", '14'!$F$18)","v":""},{"$f":"IF('14'!$F$19=\"\", \"\", '14'!$F$19)","v":""},{"$f":"IF('14'!$F$20=\"\", \"\", '14'!$F$20)","v":""},{"$f":"IF('14'!$F$21=\"\", \"\", '14'!$F$21)","v":""},{"$f":"IF('14'!$F$22=\"\", \"\", '14'!$F$22)","v":""},{"$f":"IF('14'!$F$23=\"\", \"\", '14'!$F$23)","v":""},{"$f":"IF('14'!$F$24=\"\", \"\", '14'!$F$24)","v":""},{"$f":"IF('14'!$F$25=\"\", \"\", '14'!$F$25)","v":""},{"$f":"IF('14'!$F$26=\"\", \"\", '14'!$F$26)","v":""},{"$f":"IF('14'!$F$27=\"\", \"\", '14'!$F$27)","v":""},{"$f":"IF('14'!$F$28=\"\", \"\", '14'!$F$28)","v":""},{"$f":"IF('14'!$F$29=\"\", \"\", '14'!$F$29)","v":""},{"$f":"IF('14'!$F$30=\"\", \"\", '14'!$F$30)","v":""},{"$f":"IF('14'!$F$31=\"\", \"\", '14'!$F$31)","v":""},{"$f":"IF('14'!$F$32=\"\", \"\", '14'!$F$32)","v":""},{"$f":"IF('14'!$F$33=\"\", \"\", '14'!$F$33)","v":""},{"$f":"IF('14'!$F$34=\"\", \"\", '14'!$F$34)","v":""},0,""]
[null,15,{"$f":"IF('15'!$F$11=\"\", \"\", '15'!$F$11)","v":""},{"$f":"IF('15'!$F$12=\"\", \"\", '15'!$F$12)","v":""},{"$f":"IF('15'!$F$13=\"\", \"\", '15'!$F$13)","v":""},{"$f":"IF('15'!$F$14=\"\", \"\", '15'!$F$14)","v":""},{"$f":"IF('15'!$F$15=\"\", \"\", '15'!$F$15)","v":""},{"$f":"IF('15'!$F$16=\"\", \"\", '15'!$F$16)","v":""},{"$f":"IF('15'!$F$17=\"\", \"\", '15'!$F$17)","v":""},{"$f":"IF('15'!$F$18=\"\", \"\", '15'!$F$18)","v":""},{"$f":"IF('15'!$F$19=\"\", \"\", '15'!$F$19)","v":""},{"$f":"IF('15'!$F$20=\"\", \"\", '15'!$F$20)","v":""},{"$f":"IF('15'!$F$21=\"\", \"\", '15'!$F$21)","v":""},{"$f":"IF('15'!$F$22=\"\", \"\", '15'!$F$22)","v":""},{"$f":"IF('15'!$F$23=\"\", \"\", '15'!$F$23)","v":""},{"$f":"IF('15'!$F$24=\"\", \"\", '15'!$F$24)","v":""},{"$f":"IF('15'!$F$25=\"\", \"\", '15'!$F$25)","v":""},{"$f":"IF('15'!$F$26=\"\", \"\", '15'!$F$26)","v":""},{"$f":"IF('15'!$F$27=\"\", \"\", '15'!$F$27)","v":""},{"$f":"IF('15'!$F$28=\"\", \"\", '15'!$F$28)","v":""},{"$f":"IF('15'!$F$29=\"\", \"\", '15'!$F$29)","v":""},{"$f":"IF('15'!$F$30=\"\", \"\", '15'!$F$30)","v":""},{"$f":"IF('15'!$F$31=\"\", \"\", '15'!$F$31)","v":""},{"$f":"IF('15'!$F$32=\"\", \"\", '15'!$F$32)","v":""},{"$f":"IF('15'!$F$33=\"\", \"\", '15'!$F$33)","v":""},{"$f":"IF('15'!$F$34=\"\", \"\", '15'!$F$34)","v":""},0,""]
[null,16,{"$f":"IF('16'!$F$11=\"\", \"\", '16'!$F$11)","v":""},{"$f":"IF('16'!$F$12=\"\", \"\", '16'!$F$12)","v":""},{"$f":"IF('16'!$F$13=\"\", \"\", '16'!$F$13)","v":""},{"$f":"IF('16'!$F$14=\"\", \"\", '16'!$F$14)","v":""},{"$f":"IF('16'!$F$15=\"\", \"\", '16'!$F$15)","v":""},{"$f":"IF('16'!$F$16=\"\", \"\", '16'!$F$16)","v":""},{"$f":"IF('16'!$F$17=\"\", \"\", '16'!$F$17)","v":""},{"$f":"IF('16'!$F$18=\"\", \"\", '16'!$F$18)","v":""},{"$f":"IF('16'!$F$19=\"\", \"\", '16'!$F$19)","v":""},{"$f":"IF('16'!$F$20=\"\", \"\", '16'!$F$20)","v":""},{"$f":"IF('16'!$F$21=\"\", \"\", '16'!$F$21)","v":""},{"$f":"IF('16'!$F$22=\"\", \"\", '16'!$F$22)","v":""},{"$f":"IF('16'!$F$23=\"\", \"\", '16'!$F$23)","v":""},{"$f":"IF('16'!$F$24=\"\", \"\", '16'!$F$24)","v":""},{"$f":"IF('16'!$F$25=\"\", \"\", '16'!$F$25)","v":""},{"$f":"IF('16'!$F$26=\"\", \"\", '16'!$F$26)","v":""},{"$f":"IF('16'!$F$27=\"\", \"\", '16'!$F$27)","v":""},{"$f":"IF('16'!$F$28=\"\", \"\", '16'!$F$28)","v":""},{"$f":"IF('16'!$F$29=\"\", \"\", '16'!$F$29)","v":""},{"$f":"IF('16'!$F$30=\"\", \"\", '16'!$F$30)","v":""},{"$f":"IF('16'!$F$31=\"\", \"\", '16'!$F$31)","v":""},{"$f":"IF('16'!$F$32=\"\", \"\", '16'!$F$32)","v":""},{"$f":"IF('16'!$F$33=\"\", \"\", '16'!$F$33)","v":""},{"$f":"IF('16'!$F$34=\"\", \"\", '16'!$F$34)","v":""},0,""]
[null,17,{"$f":"IF('17'!$F$11=\"\", \"\", '17'!$F$11)","v":""},{"$f":"IF('17'!$F$12=\"\", \"\", '17'!$F$12)","v":""},{"$f":"IF('17'!$F$13=\"\", \"\", '17'!$F$13)","v":""},{"$f":"IF('17'!$F$14=\"\", \"\", '17'!$F$14)","v":""},{"$f":"IF('17'!$F$15=\"\", \"\", '17'!$F$15)","v":""},{"$f":"IF('17'!$F$16=\"\", \"\", '17'!$F$16)","v":""},{"$f":"IF('17'!$F$17=\"\", \"\", '17'!$F$17)","v":""},{"$f":"IF('17'!$F$18=\"\", \"\", '17'!$F$18)","v":""},{"$f":"IF('17'!$F$19=\"\", \"\", '17'!$F$19)","v":""},{"$f":"IF('17'!$F$20=\"\", \"\", '17'!$F$20)","v":""},{"$f":"IF('17'!$F$21=\"\", \"\", '17'!$F$21)","v":""},{"$f":"IF('17'!$F$22=\"\", \"\", '17'!$F$22)","v":""},{"$f":"IF('17'!$F$23=\"\", \"\", '17'!$F$23)","v":""},{"$f":"IF('17'!$F$24=\"\", \"\", '17'!$F$24)","v":""},{"$f":"IF('17'!$F$25=\"\", \"\", '17'!$F$25)","v":""},{"$f":"IF('17'!$F$26=\"\", \"\", '17'!$F$26)","v":""},{"$f":"IF('17'!$F$27=\"\", \"\", '17'!$F$27)","v":""},{"$f":"IF('17'!$F$28=\"\", \"\", '17'!$F$28)","v":""},{"$f":"IF('17'!$F$29=\"\", \"\", '17'!$F$29)","v":""},{"$f":"IF('17'!$F$30=\"\", \"\", '17'!$F$30)","v":""},{"$f":"IF('17'!$F$31=\"\", \"\", '17'!$F$31)","v":""},{"$f":"IF('17'!$F$32=\"\", \"\", '17'!$F$32)","v":""},{"$f":"IF('17'!$F$33=\"\", \"\", '17'!$F$33)","v":""},{"$f":"IF('17'!$F$34=\"\", \"\", '17'!$F$34)","v":""},0,""]
[null,18,{"$f":"IF('18'!$F$11=\"\", \"\", '18'!$F$11)","v":""},{"$f":"IF('18'!$F$12=\"\", \"\", '18'!$F$12)","v":""},{"$f":"IF('18'!$F$13=\"\", \"\", '18'!$F$13)","v":""},{"$f":"IF('18'!$F$14=\"\", \"\", '18'!$F$14)","v":""},{"$f":"IF('18'!$F$15=\"\", \"\", '18'!$F$15)","v":""},{"$f":"IF('18'!$F$16=\"\", \"\", '18'!$F$16)","v":""},{"$f":"IF('18'!$F$17=\"\", \"\", '18'!$F$17)","v":""},{"$f":"IF('18'!$F$18=\"\", \"\", '18'!$F$18)","v":""},{"$f":"IF('18'!$F$19=\"\", \"\", '18'!$F$19)","v":""},{"$f":"IF('18'!$F$20=\"\", \"\", '18'!$F$20)","v":""},{"$f":"IF('18'!$F$21=\"\", \"\", '18'!$F$21)","v":""},{"$f":"IF('18'!$F$22=\"\", \"\", '18'!$F$22)","v":""},{"$f":"IF('18'!$F$23=\"\", \"\", '18'!$F$23)","v":""},{"$f":"IF('18'!$F$24=\"\", \"\", '18'!$F$24)","v":""},{"$f":"IF('18'!$F$25=\"\", \"\", '18'!$F$25)","v":""},{"$f":"IF('18'!$F$26=\"\", \"\", '18'!$F$26)","v":""},{"$f":"IF('18'!$F$27=\"\", \"\", '18'!$F$27)","v":""},{"$f":"IF('18'!$F$28=\"\", \"\", '18'!$F$28)","v":""},{"$f":"IF('18'!$F$29=\"\", \"\", '18'!$F$29)","v":""},{"$f":"IF('18'!$F$30=\"\", \"\", '18'!$F$30)","v":""},{"$f":"IF('18'!$F$31=\"\", \"\", '18'!$F$31)","v":""},{"$f":"IF('18'!$F$32=\"\", \"\", '18'!$F$32)","v":""},{"$f":"IF('18'!$F$33=\"\", \"\", '18'!$F$33)","v":""},{"$f":"IF('18'!$F$34=\"\", \"\", '18'!$F$34)","v":""},0,""]
[null,19,{"$f":"IF('19'!$F$11=\"\", \"\", '19'!$F$11)","v":""},{"$f":"IF('19'!$F$12=\"\", \"\", '19'!$F$12)","v":""},{"$f":"IF('19'!$F$13=\"\", \"\", '19'!$F$13)","v":""},{"$f":"IF('19'!$F$14=\"\", \"\", '19'!$F$14)","v":""},{"$f":"IF('19'!$F$15=\"\", \"\", '19'!$F$15)","v":""},{"$f":"IF('19'!$F$16=\"\", \"\", '19'!$F$16)","v":""},{"$f":"IF('19'!$F$17=\"\", \"\", '19'!$F$17)","v":""},{"$f":"IF('19'!$F$18=\"\", \"\", '19'!$F$18)","v":""},{"$f":"IF('19'!$F$19=\"\", \"\", '19'!$F$19)","v":""},{"$f":"IF('19'!$F$20=\"\", \"\", '19'!$F$20)","v":""},{"$f":"IF('19'!$F$21=\"\", \"\", '19'!$F$21)","v":""},{"$f":"IF('19'!$F$22=\"\", \"\", '19'!$F$22)","v":""},{"$f":"IF('19'!$F$23=\"\", \"\", '19'!$F$23)","v":""},{"$f":"IF('19'!$F$24=\"\", \"\", '19'!$F$24)","v":""},{"$f":"IF('19'!$F$25=\"\", \"\", '19'!$F$25)","v":""},{"$f":"IF('19'!$F$26=\"\", \"\", '19'!$F$26)","v":""},{"$f":"IF('19'!$F$27=\"\", \"\", '19'!$F$27)","v":""},{"$f":"IF('19'!$F$28=\"\", \"\", '19'!$F$28)","v":""},{"$f":"IF('19'!$F$29=\"\", \"\", '19'!$F$29)","v":""},{"$f":"IF('19'!$F$30=\"\", \"\", '19'!$F$30)","v":""},{"$f":"IF('19'!$F$31=\"\", \"\", '19'!$F$31)","v":""},{"$f":"IF('19'!$F$32=\"\", \"\", '19'!$F$32)","v":""},{"$f":"IF('19'!$F$33=\"\", \"\", '19'!$F$33)","v":""},{"$f":"IF('19'!$F$34=\"\", \"\", '19'!$F$34)","v":""},0,""]
[null,20,{"$f":"IF('20'!$F$11=\"\", \"\", '20'!$F$11)","v":""},{"$f":"IF('20'!$F$12=\"\", \"\", '20'!$F$12)","v":""},{"$f":"IF('20'!$F$13=\"\", \"\", '20'!$F$13)","v":""},{"$f":"IF('20'!$F$14=\"\", \"\", '20'!$F$14)","v":""},{"$f":"IF('20'!$F$15=\"\", \"\", '20'!$F$15)","v":""},{"$f":"IF('20'!$F$16=\"\", \"\", '20'!$F$16)","v":""},{"$f":"IF('20'!$F$17=\"\", \"\", '20'!$F$17)","v":""},{"$f":"IF('20'!$F$18=\"\", \"\", '20'!$F$18)","v":""},{"$f":"IF('20'!$F$19=\"\", \"\", '20'!$F$19)","v":""},{"$f":"IF('20'!$F$20=\"\", \"\", '20'!$F$20)","v":""},{"$f":"IF('20'!$F$21=\"\", \"\", '20'!$F$21)","v":""},{"$f":"IF('20'!$F$22=\"\", \"\", '20'!$F$22)","v":""},{"$f":"IF('20'!$F$23=\"\", \"\", '20'!$F$23)","v":""},{"$f":"IF('20'!$F$24=\"\", \"\", '20'!$F$24)","v":""},{"$f":"IF('20'!$F$25=\"\", \"\", '20'!$F$25)","v":""},{"$f":"IF('20'!$F$26=\"\", \"\", '20'!$F$26)","v":""},{"$f":"IF('20'!$F$27=\"\", \"\", '20'!$F$27)","v":""},{"$f":"IF('20'!$F$28=\"\", \"\", '20'!$F$28)","v":""},{"$f":"IF('20'!$F$29=\"\", \"\", '20'!$F$29)","v":""},{"$f":"IF('20'!$F$30=\"\", \"\", '20'!$F$30)","v":""},{"$f":"IF('20'!$F$31=\"\", \"\", '20'!$F$31)","v":""},{"$f":"IF('20'!$F$32=\"\", \"\", '20'!$F$32)","v":""},{"$f":"IF('20'!$F$33=\"\", \"\", '20'!$F$33)","v":""},{"$f":"IF('20'!$F$34=\"\", \"\", '20'!$F$34)","v":""},0,""]
[null,21,{"$f":"IF('21'!$F$11=\"\", \"\", '21'!$F$11)","v":""},{"$f":"IF('21'!$F$12=\"\", \"\", '21'!$F$12)","v":""},{"$f":"IF('21'!$F$13=\"\", \"\", '21'!$F$13)","v":""},{"$f":"IF('21'!$F$14=\"\", \"\", '21'!$F$14)","v":""},{"$f":"IF('21'!$F$15=\"\", \"\", '21'!$F$15)","v":""},{"$f":"IF('21'!$F$16=\"\", \"\", '21'!$F$16)","v":""},{"$f":"IF('21'!$F$17=\"\", \"\", '21'!$F$17)","v":""},{"$f":"IF('21'!$F$18=\"\", \"\", '21'!$F$18)","v":""},{"$f":"IF('21'!$F$19=\"\", \"\", '21'!$F$19)","v":""},{"$f":"IF('21'!$F$20=\"\", \"\", '21'!$F$20)","v":""},{"$f":"IF('21'!$F$21=\"\", \"\", '21'!$F$21)","v":""},{"$f":"IF('21'!$F$22=\"\", \"\", '21'!$F$22)","v":""},{"$f":"IF('21'!$F$23=\"\", \"\", '21'!$F$23)","v":""},{"$f":"IF('21'!$F$24=\"\", \"\", '21'!$F$24)","v":""},{"$f":"IF('21'!$F$25=\"\", \"\", '21'!$F$25)","v":""},{"$f":"IF('21'!$F$26=\"\", \"\", '21'!$F$26)","v":""},{"$f":"IF('21'!$F$27=\"\", \"\", '21'!$F$27)","v":""},{"$f":"IF('21'!$F$28=\"\", \"\", '21'!$F$28)","v":""},{"$f":"IF('21'!$F$29=\"\", \"\", '21'!$F$29)","v":""},{"$f":"IF('21'!$F$30=\"\", \"\", '21'!$F$30)","v":""},{"$f":"IF('21'!$F$31=\"\", \"\", '21'!$F$31)","v":""},{"$f":"IF('21'!$F$32=\"\", \"\", '21'!$F$32)","v":""},{"$f":"IF('21'!$F$33=\"\", \"\", '21'!$F$33)","v":""},{"$f":"IF('21'!$F$34=\"\", \"\", '21'!$F$34)","v":""},0,""]
[null,22,{"$f":"IF('22'!$F$11=\"\", \"\", '22'!$F$11)","v":""},{"$f":"IF('22'!$F$12=\"\", \"\", '22'!$F$12)","v":""},{"$f":"IF('22'!$F$13=\"\", \"\", '22'!$F$13)","v":""},{"$f":"IF('22'!$F$14=\"\", \"\", '22'!$F$14)","v":""},{"$f":"IF('22'!$F$15=\"\", \"\", '22'!$F$15)","v":""},{"$f":"IF('22'!$F$16=\"\", \"\", '22'!$F$16)","v":""},{"$f":"IF('22'!$F$17=\"\", \"\", '22'!$F$17)","v":""},{"$f":"IF('22'!$F$18=\"\", \"\", '22'!$F$18)","v":""},{"$f":"IF('22'!$F$19=\"\", \"\", '22'!$F$19)","v":""},{"$f":"IF('22'!$F$20=\"\", \"\", '22'!$F$20)","v":""},{"$f":"IF('22'!$F$21=\"\", \"\", '22'!$F$21)","v":""},{"$f":"IF('22'!$F$22=\"\", \"\", '22'!$F$22)","v":""},{"$f":"IF('22'!$F$23=\"\", \"\", '22'!$F$23)","v":""},{"$f":"IF('22'!$F$24=\"\", \"\", '22'!$F$24)","v":""},{"$f":"IF('22'!$F$25=\"\", \"\", '22'!$F$25)","v":""},{"$f":"IF('22'!$F$26=\"\", \"\", '22'!$F$26)","v":""},{"$f":"IF('22'!$F$27=\"\", \"\", '22'!$F$27)","v":""},{"$f":"IF('22'!$F$28=\"\", \"\", '22'!$F$28)","v":""},{"$f":"IF('22'!$F$29=\"\", \"\", '22'!$F$29)","v":""},{"$f":"IF('22'!$F$30=\"\", \"\", '22'!$F$30)","v":""},{"$f":"IF('22'!$F$31=\"\", \"\", '22'!$F$31)","v":""},{"$f":"IF('22'!$F$32=\"\", \"\", '22'!$F$32)","v":""},{"$f":"IF('22'!$F$33=\"\", \"\", '22'!$F$33)","v":""},{"$f":"IF('22'!$F$34=\"\", \"\", '22'!$F$34)","v":""},0,""]
[null,23,{"$f":"IF('23'!$F$11=\"\", \"\", '23'!$F$11)","v":""},{"$f":"IF('23'!$F$12=\"\", \"\", '23'!$F$12)","v":""},{"$f":"IF('23'!$F$13=\"\", \"\", '23'!$F$13)","v":""},{"$f":"IF('23'!$F$14=\"\", \"\", '23'!$F$14)","v":""},{"$f":"IF('23'!$F$15=\"\", \"\", '23'!$F$15)","v":""},{"$f":"IF('23'!$F$16=\"\", \"\", '23'!$F$16)","v":""},{"$f":"IF('23'!$F$17=\"\", \"\", '23'!$F$17)","v":""},{"$f":"IF('23'!$F$18=\"\", \"\", '23'!$F$18)","v":""},{"$f":"IF('23'!$F$19=\"\", \"\", '23'!$F$19)","v":""},{"$f":"IF('23'!$F$20=\"\", \"\", '23'!$F$20)","v":""},{"$f":"IF('23'!$F$21=\"\", \"\", '23'!$F$21)","v":""},{"$f":"IF('23'!$F$22=\"\", \"\", '23'!$F$22)","v":""},{"$f":"IF('23'!$F$23=\"\", \"\", '23'!$F$23)","v":""},{"$f":"IF('23'!$F$24=\"\", \"\", '23'!$F$24)","v":""},{"$f":"IF('23'!$F$25=\"\", \"\", '23'!$F$25)","v":""},{"$f":"IF('23'!$F$26=\"\", \"\", '23'!$F$26)","v":""},{"$f":"IF('23'!$F$27=\"\", \"\", '23'!$F$27)","v":""},{"$f":"IF('23'!$F$28=\"\", \"\", '23'!$F$28)","v":""},{"$f":"IF('23'!$F$29=\"\", \"\", '23'!$F$29)","v":""},{"$f":"IF('23'!$F$30=\"\", \"\", '23'!$F$30)","v":""},{"$f":"IF('23'!$F$31=\"\", \"\", '23'!$F$31)","v":""},{"$f":"IF('23'!$F$32=\"\", \"\", '23'!$F$32)","v":""},{"$f":"IF('23'!$F$33=\"\", \"\", '23'!$F$33)","v":""},{"$f":"IF('23'!$F$34=\"\", \"\", '23'!$F$34)","v":""},0,""]
[null,24,{"$f":"IF('24'!$F$11=\"\", \"\", '24'!$F$11)","v":""},{"$f":"IF('24'!$F$12=\"\", \"\", '24'!$F$12)","v":""},{"$f":"IF('24'!$F$13=\"\", \"\", '24'!$F$13)","v":""},{"$f":"IF('24'!$F$14=\"\", \"\", '24'!$F$14)","v":""},{"$f":"IF('24'!$F$15=\"\", \"\", '24'!$F$15)","v":""},{"$f":"IF('24'!$F$16=\"\", \"\", '24'!$F$16)","v":""},{"$f":"IF('24'!$F$17=\"\", \"\", '24'!$F$17)","v":""},{"$f":"IF('24'!$F$18=\"\", \"\", '24'!$F$18)","v":""},{"$f":"IF('24'!$F$19=\"\", \"\", '24'!$F$19)","v":""},{"$f":"IF('24'!$F$20=\"\", \"\", '24'!$F$20)","v":""},{"$f":"IF('24'!$F$21=\"\", \"\", '24'!$F$21)","v":""},{"$f":"IF('24'!$F$22=\"\", \"\", '24'!$F$22)","v":""},{"$f":"IF('24'!$F$23=\"\", \"\", '24'!$F$23)","v":""},{"$f":"IF('24'!$F$24=\"\", \"\", '24'!$F$24)","v":""},{"$f":"IF('24'!$F$25=\"\", \"\", '24'!$F$25)","v":""},{"$f":"IF('24'!$F$26=\"\", \"\", '24'!$F$26)","v":""},{"$f":"IF('24'!$F$27=\"\", \"\", '24'!$F$27)","v":""},{"$f":"IF('24'!$F$28=\"\", \"\", '24'!$F$28)","v":""},{"$f":"IF('24'!$F$29=\"\", \"\", '24'!$F$29)","v":""},{"$f":"IF('24'!$F$30=\"\", \"\", '24'!$F$30)","v":""},{"$f":"IF('24'!$F$31=\"\", \"\", '24'!$F$31)","v":""},{"$f":"IF('24'!$F$32=\"\", \"\", '24'!$F$32)","v":""},{"$f":"IF('24'!$F$33=\"\", \"\", '24'!$F$33)","v":""},{"$f":"IF('24'!$F$34=\"\", \"\", '24'!$F$34)","v":""},0,""]
[null,{"$f":"B287+1","v":25},{"$f":"IF('25'!$F$11=\"\", \"\", '25'!$F$11)","v":""},{"$f":"IF('25'!$F$12=\"\", \"\", '25'!$F$12)","v":""},{"$f":"IF('25'!$F$13=\"\", \"\", '25'!$F$13)","v":""},{"$f":"IF('25'!$F$14=\"\", \"\", '25'!$F$14)","v":""},{"$f":"IF('25'!$F$15=\"\", \"\", '25'!$F$15)","v":""},{"$f":"IF('25'!$F$16=\"\", \"\", '25'!$F$16)","v":""},{"$f":"IF('25'!$F$17=\"\", \"\", '25'!$F$17)","v":""},{"$f":"IF('25'!$F$18=\"\", \"\", '25'!$F$18)","v":""},{"$f":"IF('25'!$F$19=\"\", \"\", '25'!$F$19)","v":""},{"$f":"IF('25'!$F$20=\"\", \"\", '25'!$F$20)","v":""},{"$f":"IF('25'!$F$21=\"\", \"\", '25'!$F$21)","v":""},{"$f":"IF('25'!$F$22=\"\", \"\", '25'!$F$22)","v":""},{"$f":"IF('25'!$F$23=\"\", \"\", '25'!$F$23)","v":""},{"$f":"IF('25'!$F$24=\"\", \"\", '25'!$F$24)","v":""},{"$f":"IF('25'!$F$25=\"\", \"\", '25'!$F$25)","v":""},{"$f":"IF('25'!$F$26=\"\", \"\", '25'!$F$26)","v":""},{"$f":"IF('25'!$F$27=\"\", \"\", '25'!$F$27)","v":""},{"$f":"IF('25'!$F$28=\"\", \"\", '25'!$F$28)","v":""},{"$f":"IF('25'!$F$29=\"\", \"\", '25'!$F$29)","v":""},{"$f":"IF('25'!$F$30=\"\", \"\", '25'!$F$30)","v":""},{"$f":"IF('25'!$F$31=\"\", \"\", '25'!$F$31)","v":""},{"$f":"IF('25'!$F$32=\"\", \"\", '25'!$F$32)","v":""},{"$f":"IF('25'!$F$33=\"\", \"\", '25'!$F$33)","v":""},{"$f":"IF('25'!$F$34=\"\", \"\", '25'!$F$34)","v":""},0,""]
[null,26,{"$f":"IF('26'!$F$11=\"\", \"\", '26'!$F$11)","v":""},{"$f":"IF('26'!$F$12=\"\", \"\", '26'!$F$12)","v":""},{"$f":"IF('26'!$F$13=\"\", \"\", '26'!$F$13)","v":""},{"$f":"IF('26'!$F$14=\"\", \"\", '26'!$F$14)","v":""},{"$f":"IF('26'!$F$15=\"\", \"\", '26'!$F$15)","v":""},{"$f":"IF('26'!$F$16=\"\", \"\", '26'!$F$16)","v":""},{"$f":"IF('26'!$F$17=\"\", \"\", '26'!$F$17)","v":""},{"$f":"IF('26'!$F$18=\"\", \"\", '26'!$F$18)","v":""},{"$f":"IF('26'!$F$19=\"\", \"\", '26'!$F$19)","v":""},{"$f":"IF('26'!$F$20=\"\", \"\", '26'!$F$20)","v":""},{"$f":"IF('26'!$F$21=\"\", \"\", '26'!$F$21)","v":""},{"$f":"IF('26'!$F$22=\"\", \"\", '26'!$F$22)","v":""},{"$f":"IF('26'!$F$23=\"\", \"\", '26'!$F$23)","v":""},{"$f":"IF('26'!$F$24=\"\", \"\", '26'!$F$24)","v":""},{"$f":"IF('26'!$F$25=\"\", \"\", '26'!$F$25)","v":""},{"$f":"IF('26'!$F$26=\"\", \"\", '26'!$F$26)","v":""},{"$f":"IF('26'!$F$27=\"\", \"\", '26'!$F$27)","v":""},{"$f":"IF('26'!$F$28=\"\", \"\", '26'!$F$28)","v":""},{"$f":"IF('26'!$F$29=\"\", \"\", '26'!$F$29)","v":""},{"$f":"IF('26'!$F$30=\"\", \"\", '26'!$F$30)","v":""},{"$f":"IF('26'!$F$31=\"\", \"\", '26'!$F$31)","v":""},{"$f":"IF('26'!$F$32=\"\", \"\", '26'!$F$32)","v":""},{"$f":"IF('26'!$F$33=\"\", \"\", '26'!$F$33)","v":""},{"$f":"IF('26'!$F$34=\"\", \"\", '26'!$F$34)","v":""},0,""]
[null,27,{"$f":"IF('27'!$F$11=\"\", \"\", '27'!$F$11)","v":""},{"$f":"IF('27'!$F$12=\"\", \"\", '27'!$F$12)","v":""},{"$f":"IF('27'!$F$13=\"\", \"\", '27'!$F$13)","v":""},{"$f":"IF('27'!$F$14=\"\", \"\", '27'!$F$14)","v":""},{"$f":"IF('27'!$F$15=\"\", \"\", '27'!$F$15)","v":""},{"$f":"IF('27'!$F$16=\"\", \"\", '27'!$F$16)","v":""},{"$f":"IF('27'!$F$17=\"\", \"\", '27'!$F$17)","v":""},{"$f":"IF('27'!$F$18=\"\", \"\", '27'!$F$18)","v":""},{"$f":"IF('27'!$F$19=\"\", \"\", '27'!$F$19)","v":""},{"$f":"IF('27'!$F$20=\"\", \"\", '27'!$F$20)","v":""},{"$f":"IF('27'!$F$21=\"\", \"\", '27'!$F$21)","v":""},{"$f":"IF('27'!$F$22=\"\", \"\", '27'!$F$22)","v":""},{"$f":"IF('27'!$F$23=\"\", \"\", '27'!$F$23)","v":""},{"$f":"IF('27'!$F$24=\"\", \"\", '27'!$F$24)","v":""},{"$f":"IF('27'!$F$25=\"\", \"\", '27'!$F$25)","v":""},{"$f":"IF('27'!$F$26=\"\", \"\", '27'!$F$26)","v":""},{"$f":"IF('27'!$F$27=\"\", \"\", '27'!$F$27)","v":""},{"$f":"IF('27'!$F$28=\"\", \"\", '27'!$F$28)","v":""},{"$f":"IF('27'!$F$29=\"\", \"\", '27'!$F$29)","v":""},{"$f":"IF('27'!$F$30=\"\", \"\", '27'!$F$30)","v":""},{"$f":"IF('27'!$F$31=\"\", \"\", '27'!$F$31)","v":""},{"$f":"IF('27'!$F$32=\"\", \"\", '27'!$F$32)","v":""},{"$f":"IF('27'!$F$33=\"\", \"\", '27'!$F$33)","v":""},{"$f":"IF('27'!$F$34=\"\", \"\", '27'!$F$34)","v":""},0,""]
[null,28,{"$f":"IF('28'!$F$11=\"\", \"\", '28'!$F$11)","v":""},{"$f":"IF('28'!$F$12=\"\", \"\", '28'!$F$12)","v":""},{"$f":"IF('28'!$F$13=\"\", \"\", '28'!$F$13)","v":""},{"$f":"IF('28'!$F$14=\"\", \"\", '28'!$F$14)","v":""},{"$f":"IF('28'!$F$15=\"\", \"\", '28'!$F$15)","v":""},{"$f":"IF('28'!$F$16=\"\", \"\", '28'!$F$16)","v":""},{"$f":"IF('28'!$F$17=\"\", \"\", '28'!$F$17)","v":""},{"$f":"IF('28'!$F$18=\"\", \"\", '28'!$F$18)","v":""},{"$f":"IF('28'!$F$19=\"\", \"\", '28'!$F$19)","v":""},{"$f":"IF('28'!$F$20=\"\", \"\", '28'!$F$20)","v":""},{"$f":"IF('28'!$F$21=\"\", \"\", '28'!$F$21)","v":""},{"$f":"IF('28'!$F$22=\"\", \"\", '28'!$F$22)","v":""},{"$f":"IF('28'!$F$23=\"\", \"\", '28'!$F$23)","v":""},{"$f":"IF('28'!$F$24=\"\", \"\", '28'!$F$24)","v":""},{"$f":"IF('28'!$F$25=\"\", \"\", '28'!$F$25)","v":""},{"$f":"IF('28'!$F$26=\"\", \"\", '28'!$F$26)","v":""},{"$f":"IF('28'!$F$27=\"\", \"\", '28'!$F$27)","v":""},{"$f":"IF('28'!$F$28=\"\", \"\", '28'!$F$28)","v":""},{"$f":"IF('28'!$F$29=\"\", \"\", '28'!$F$29)","v":""},{"$f":"IF('28'!$F$30=\"\", \"\", '28'!$F$30)","v":""},{"$f":"IF('28'!$F$31=\"\", \"\", '28'!$F$31)","v":""},{"$f":"IF('28'!$F$32=\"\", \"\", '28'!$F$32)","v":""},{"$f":"IF('28'!$F$33=\"\", \"\", '28'!$F$33)","v":""},{"$f":"IF('28'!$F$34=\"\", \"\", '28'!$F$34)","v":""},0,""]
[null,29,{"$f":"IF('29'!$F$11=\"\", \"\", '29'!$F$11)","v":""},{"$f":"IF('29'!$F$12=\"\", \"\", '29'!$F$12)","v":""},{"$f":"IF('29'!$F$13=\"\", \"\", '29'!$F$13)","v":""},{"$f":"IF('29'!$F$14=\"\", \"\", '29'!$F$14)","v":""},{"$f":"IF('29'!$F$15=\"\", \"\", '29'!$F$15)","v":""},{"$f":"IF('29'!$F$16=\"\", \"\", '29'!$F$16)","v":""},{"$f":"IF('29'!$F$17=\"\", \"\", '29'!$F$17)","v":""},{"$f":"IF('29'!$F$18=\"\", \"\", '29'!$F$18)","v":""},{"$f":"IF('29'!$F$19=\"\", \"\", '29'!$F$19)","v":""},{"$f":"IF('29'!$F$20=\"\", \"\", '29'!$F$20)","v":""},{"$f":"IF('29'!$F$21=\"\", \"\", '29'!$F$21)","v":""},{"$f":"IF('29'!$F$22=\"\", \"\", '29'!$F$22)","v":""},{"$f":"IF('29'!$F$23=\"\", \"\", '29'!$F$23)","v":""},{"$f":"IF('29'!$F$24=\"\", \"\", '29'!$F$24)","v":""},{"$f":"IF('29'!$F$25=\"\", \"\", '29'!$F$25)","v":""},{"$f":"IF('29'!$F$26=\"\", \"\", '29'!$F$26)","v":""},{"$f":"IF('29'!$F$27=\"\", \"\", '29'!$F$27)","v":""},{"$f":"IF('29'!$F$28=\"\", \"\", '29'!$F$28)","v":""},{"$f":"IF('29'!$F$29=\"\", \"\", '29'!$F$29)","v":""},{"$f":"IF('29'!$F$30=\"\", \"\", '29'!$F$30)","v":""},{"$f":"IF('29'!$F$31=\"\", \"\", '29'!$F$31)","v":""},{"$f":"IF('29'!$F$32=\"\", \"\", '29'!$F$32)","v":""},{"$f":"IF('29'!$F$33=\"\", \"\", '29'!$F$33)","v":""},{"$f":"IF('29'!$F$34=\"\", \"\", '29'!$F$34)","v":""},0,""]
[null,30,{"$f":"IF('30'!$F$11=\"\", \"\", '30'!$F$11)","v":""},{"$f":"IF('30'!$F$12=\"\", \"\", '30'!$F$12)","v":""},{"$f":"IF('30'!$F$13=\"\", \"\", '30'!$F$13)","v":""},{"$f":"IF('30'!$F$14=\"\", \"\", '30'!$F$14)","v":""},{"$f":"IF('30'!$F$15=\"\", \"\", '30'!$F$15)","v":""},{"$f":"IF('30'!$F$16=\"\", \"\", '30'!$F$16)","v":""},{"$f":"IF('30'!$F$17=\"\", \"\", '30'!$F$17)","v":""},{"$f":"IF('30'!$F$18=\"\", \"\", '30'!$F$18)","v":""},{"$f":"IF('30'!$F$19=\"\", \"\", '30'!$F$19)","v":""},{"$f":"IF('30'!$F$20=\"\", \"\", '30'!$F$20)","v":""},{"$f":"IF('30'!$F$21=\"\", \"\", '30'!$F$21)","v":""},{"$f":"IF('30'!$F$22=\"\", \"\", '30'!$F$22)","v":""},{"$f":"IF('30'!$F$23=\"\", \"\", '30'!$F$23)","v":""},{"$f":"IF('30'!$F$24=\"\", \"\", '30'!$F$24)","v":""},{"$f":"IF('30'!$F$25=\"\", \"\", '30'!$F$25)","v":""},{"$f":"IF('30'!$F$26=\"\", \"\", '30'!$F$26)","v":""},{"$f":"IF('30'!$F$27=\"\", \"\", '30'!$F$27)","v":""},{"$f":"IF('30'!$F$28=\"\", \"\", '30'!$F$28)","v":""},{"$f":"IF('30'!$F$29=\"\", \"\", '30'!$F$29)","v":""},{"$f":"IF('30'!$F$30=\"\", \"\", '30'!$F$30)","v":""},{"$f":"IF('30'!$F$31=\"\", \"\", '30'!$F$31)","v":""},{"$f":"IF('30'!$F$32=\"\", \"\", '30'!$F$32)","v":""},{"$f":"IF('30'!$F$33=\"\", \"\", '30'!$F$33)","v":""},{"$f":"IF('30'!$F$34=\"\", \"\", '30'!$F$34)","v":""},0,"",{"$f":"6851/31","v":221}]
[null,31,{"$f":"IF('31'!$F$11=\"\", \"\", '31'!$F$11)","v":""},{"$f":"IF('31'!$F$12=\"\", \"\", '31'!$F$12)","v":""},{"$f":"IF('31'!$F$13=\"\", \"\", '31'!$F$13)","v":""},{"$f":"IF('31'!$F$14=\"\", \"\", '31'!$F$14)","v":""},{"$f":"IF('31'!$F$15=\"\", \"\", '31'!$F$15)","v":""},{"$f":"IF('31'!$F$16=\"\", \"\", '31'!$F$16)","v":""},{"$f":"IF('31'!$F$17=\"\", \"\", '31'!$F$17)","v":""},{"$f":"IF('31'!$F$18=\"\", \"\", '31'!$F$18)","v":""},{"$f":"IF('31'!$F$19=\"\", \"\", '31'!$F$19)","v":""},{"$f":"IF('31'!$F$20=\"\", \"\", '31'!$F$20)","v":""},{"$f":"IF('31'!$F$21=\"\", \"\", '31'!$F$21)","v":""},{"$f":"IF('31'!$F$22=\"\", \"\", '31'!$F$22)","v":""},{"$f":"IF('31'!$F$23=\"\", \"\", '31'!$F$23)","v":""},{"$f":"IF('31'!$F$24=\"\", \"\", '31'!$F$24)","v":""},{"$f":"IF('31'!$F$25=\"\", \"\", '31'!$F$25)","v":""},{"$f":"IF('31'!$F$26=\"\", \"\", '31'!$F$26)","v":""},{"$f":"IF('31'!$F$27=\"\", \"\", '31'!$F$27)","v":""},{"$f":"IF('31'!$F$28=\"\", \"\", '31'!$F$28)","v":""},{"$f":"IF('31'!$F$29=\"\", \"\", '31'!$F$29)","v":""},{"$f":"IF('31'!$F$30=\"\", \"\", '31'!$F$30)","v":""},{"$f":"IF('31'!$F$31=\"\", \"\", '31'!$F$31)","v":""},{"$f":"IF('31'!$F$32=\"\", \"\", '31'!$F$32)","v":""},{"$f":"IF('31'!$F$33=\"\", \"\", '31'!$F$33)","v":""},{"$f":"IF('31'!$F$34=\"\", \"\", '31'!$F$34)","v":""},0,""]
["# Test",null,{"$f":"COUNTIF(C264:C294,  \">0\")","v":0},0,0,0,0,1,0,0,0,0,0,0,0,0,0,0,0,0,0,0,0,0,0,0,{"$f":"IF(COUNTA(AA264:AA294)=0,\"\",COUNTA(AA264:AA294))","v":31},{"$f":"IF(COUNTA(AB264:AB294)=0,\"\",COUNTA(AB264:AB294))","v":31}]
["TOT",null,{"$f":"IF(SUM(C264:C294)>0, SUM(C264:C294), \"\")","v":""},{"$f":"IF(SUM(D264:D294)>0, SUM(D264:D294), \"\")","v":""},"","","",78,"","","","","","","","","","","","","","","","","","",{"$f":"IFERROR((SUM(AA264:AA294)/AA295), \"\")","v":0.03225806451612903},{"$f":"IFERROR((SUM(AB264:AB294)/AB295), \"\")","v":2.5161290322580645}]
[]
[]
[null,"HR",1,{"$f":"C299+1","v":2},{"$f":"D299+1","v":3},4,5,6,7,8,9,10,11,12,13,14,15,16,17,18,19,20,21,22,23,24]
["Pulse *** Day of the Month*** Pulse",1,{"$f":"IF('1'!$H$11=\"\", \"\", '1'!$H$11)","v":""},{"$f":"IF('1'!$H$12=\"\", \"\", '1'!$H$12)","v":""},{"$f":"IF('1'!$H$13=\"\", \"\", '1'!$H$13)","v":""},{"$f":"IF('1'!$H$14=\"\", \"\", '1'!$H$14)","v":""},{"$f":"IF('1'!$H$15=\"\", \"\", '1'!$H$15)","v":""},{"$f":"IF('1'!$H$16=\"\", \"\", '1'!$H$16)","v":""},{"$f":"IF('1'!$H$17=\"\", \"\", '1'!$H$17)","v":""},{"$f":"IF('1'!$H$18=\"\", \"\", '1'!$H$18)","v":""},{"$f":"IF('1'!$H$19=\"\", \"\", '1'!$H$19)","v":""},{"$f":"IF('1'!$H$20=\"\", \"\", '1'!$H$20)","v":""},{"$f":"IF('1'!$H$21=\"\", \"\", '1'!$H$21)","v":""},{"$f":"IF('1'!$H$22=\"\", \"\", '1'!$H$22)","v":""},{"$f":"IF('1'!$H$23=\"\", \"\", '1'!$H$23)","v":""},{"$f":"IF('1'!$H$24=\"\", \"\", '1'!$H$24)","v":""},{"$f":"IF('1'!$H$25=\"\", \"\", '1'!$H$25)","v":""},{"$f":"IF('1'!$H$26=\"\", \"\", '1'!$H$26)","v":""},{"$f":"IF('1'!$H$27=\"\", \"\", '1'!$H$27)","v":""},{"$f":"IF('1'!$H$28=\"\", \"\", '1'!$H$28)","v":""},{"$f":"IF('1'!$H$29=\"\", \"\", '1'!$H$29)","v":""},{"$f":"IF('1'!$H$30=\"\", \"\", '1'!$H$30)","v":""},{"$f":"IF('1'!$H$31=\"\", \"\", '1'!$H$31)","v":""},{"$f":"IF('1'!$H$32=\"\", \"\", '1'!$H$32)","v":""},{"$f":"IF('1'!$H$33=\"\", \"\", '1'!$H$33)","v":""},{"$f":"IF('1'!$H$34=\"\", \"\", '1'!$H$34)","v":""},{"$f":"COUNTIF(C300:Z300, \">0\")","v":0},{"$f":"IFERROR((SUM(C300:Z300))/AA300, \"\")","v":""}]
[null,{"$f":"B300+1","v":2},{"$f":"IF('2'!$H$11=\"\", \"\", '2'!$H$11)","v":""},{"$f":"IF('2'!$H$12=\"\", \"\", '2'!$H$12)","v":""},{"$f":"IF('2'!$H$13=\"\", \"\", '2'!$H$13)","v":""},{"$f":"IF('2'!$H$14=\"\", \"\", '2'!$H$14)","v":""},{"$f":"IF('2'!$H$15=\"\", \"\", '2'!$H$15)","v":""},{"$f":"IF('2'!$H$16=\"\", \"\", '2'!$H$16)","v":""},{"$f":"IF('2'!$H$17=\"\", \"\", '2'!$H$17)","v":""},{"$f":"IF('2'!$H$18=\"\", \"\", '2'!$H$18)","v":""},{"$f":"IF('2'!$H$19=\"\", \"\", '2'!$H$19)","v":""},{"$f":"IF('2'!$H$20=\"\", \"\", '2'!$H$20)","v":""},{"$f":"IF('2'!$H$21=\"\", \"\", '2'!$H$21)","v":""},{"$f":"IF('2'!$H$22=\"\", \"\", '2'!$H$22)","v":""},{"$f":"IF('2'!$H$23=\"\", \"\", '2'!$H$23)","v":""},{"$f":"IF('2'!$H$24=\"\", \"\", '2'!$H$24)","v":""},{"$f":"IF('2'!$H$25=\"\", \"\", '2'!$H$25)","v":""},{"$f":"IF('2'!$H$26=\"\", \"\", '2'!$H$26)","v":""},{"$f":"IF('2'!$H$27=\"\", \"\", '2'!$H$27)","v":""},{"$f":"IF('2'!$H$28=\"\", \"\", '2'!$H$28)","v":""},{"$f":"IF('2'!$H$29=\"\", \"\", '2'!$H$29)","v":""},{"$f":"IF('2'!$H$30=\"\", \"\", '2'!$H$30)","v":""},{"$f":"IF('2'!$H$31=\"\", \"\", '2'!$H$31)","v":""},{"$f":"IF('2'!$H$32=\"\", \"\", '2'!$H$32)","v":""},{"$f":"IF('2'!$H$33=\"\", \"\", '2'!$H$33)","v":""},{"$f":"IF('2'!$H$34=\"\", \"\", '2'!$H$34)","v":""},0,""]
[null,{"$f":"B301+1","v":3},{"$f":"IF('3'!$H$11=\"\", \"\", '3'!$H$11)","v":""},{"$f":"IF('3'!$H$12=\"\", \"\", '3'!$H$12)","v":""},{"$f":"IF('3'!$H$13=\"\", \"\", '3'!$H$13)","v":""},{"$f":"IF('3'!$H$14=\"\", \"\", '3'!$H$14)","v":""},{"$f":"IF('3'!$H$15=\"\", \"\", '3'!$H$15)","v":""},{"$f":"IF('3'!$H$16=\"\", \"\", '3'!$H$16)","v":""},{"$f":"IF('3'!$H$17=\"\", \"\", '3'!$H$17)","v":""},{"$f":"IF('3'!$H$18=\"\", \"\", '3'!$H$18)","v":""},{"$f":"IF('3'!$H$19=\"\", \"\", '3'!$H$19)","v":""},{"$f":"IF('3'!$H$20=\"\", \"\", '3'!$H$20)","v":""},{"$f":"IF('3'!$H$21=\"\", \"\", '3'!$H$21)","v":""},{"$f":"IF('3'!$H$22=\"\", \"\", '3'!$H$22)","v":""},{"$f":"IF('3'!$H$23=\"\", \"\", '3'!$H$23)","v":""},{"$f":"IF('3'!$H$24=\"\", \"\", '3'!$H$24)","v":""},{"$f":"IF('3'!$H$25=\"\", \"\", '3'!$H$25)","v":""},{"$f":"IF('3'!$H$26=\"\", \"\", '3'!$H$26)","v":""},{"$f":"IF('3'!$H$27=\"\", \"\", '3'!$H$27)","v":""},{"$f":"IF('3'!$H$28=\"\", \"\", '3'!$H$28)","v":""},{"$f":"IF('3'!$H$29=\"\", \"\", '3'!$H$29)","v":""},{"$f":"IF('3'!$H$30=\"\", \"\", '3'!$H$30)","v":""},{"$f":"IF('3'!$H$31=\"\", \"\", '3'!$H$31)","v":""},{"$f":"IF('3'!$H$32=\"\", \"\", '3'!$H$32)","v":""},{"$f":"IF('3'!$H$33=\"\", \"\", '3'!$H$33)","v":""},{"$f":"IF('3'!$H$34=\"\", \"\", '3'!$H$34)","v":""},0,""]
[null,4,{"$f":"IF('4'!$H$11=\"\", \"\", '4'!$H$11)","v":""},{"$f":"IF('4'!$H$12=\"\", \"\", '4'!$H$12)","v":""},{"$f":"IF('4'!$H$13=\"\", \"\", '4'!$H$13)","v":""},{"$f":"IF('4'!$H$14=\"\", \"\", '4'!$H$14)","v":""},{"$f":"IF('4'!$H$15=\"\", \"\", '4'!$H$15)","v":""},{"$f":"IF('4'!$H$16=\"\", \"\", '4'!$H$16)","v":77},{"$f":"IF('4'!$H$17=\"\", \"\", '4'!$H$17)","v":""},{"$f":"IF('4'!$H$18=\"\", \"\", '4'!$H$18)","v":""},{"$f":"IF('4'!$H$19=\"\", \"\", '4'!$H$19)","v":""},{"$f":"IF('4'!$H$20=\"\", \"\", '4'!$H$20)","v":""},{"$f":"IF('4'!$H$21=\"\", \"\", '4'!$H$21)","v":""},{"$f":"IF('4'!$H$22=\"\", \"\", '4'!$H$22)","v":""},{"$f":"IF('4'!$H$23=\"\", \"\", '4'!$H$23)","v":""},{"$f":"IF('4'!$H$24=\"\", \"\", '4'!$H$24)","v":""},{"$f":"IF('4'!$H$25=\"\", \"\", '4'!$H$25)","v":""},{"$f":"IF('4'!$H$26=\"\", \"\", '4'!$H$26)","v":""},{"$f":"IF('4'!$H$27=\"\", \"\", '4'!$H$27)","v":""},{"$f":"IF('4'!$H$28=\"\", \"\", '4'!$H$28)","v":""},{"$f":"IF('4'!$H$29=\"\", \"\", '4'!$H$29)","v":""},{"$f":"IF('4'!$H$30=\"\", \"\", '4'!$H$30)","v":""},{"$f":"IF('4'!$H$31=\"\", \"\", '4'!$H$31)","v":""},{"$f":"IF('4'!$H$32=\"\", \"\", '4'!$H$32)","v":""},{"$f":"IF('4'!$H$33=\"\", \"\", '4'!$H$33)","v":""},{"$f":"IF('4'!$H$34=\"\", \"\", '4'!$H$34)","v":""},1,77]
[null,5,{"$f":"IF('5'!$H$11=\"\", \"\", '5'!$H$11)","v":""},{"$f":"IF('5'!$H$12=\"\", \"\", '5'!$H$12)","v":""},{"$f":"IF('5'!$H$13=\"\", \"\", '5'!$H$13)","v":""},{"$f":"IF('5'!$H$14=\"\", \"\", '5'!$H$14)","v":""},{"$f":"IF('5'!$H$15=\"\", \"\", '5'!$H$15)","v":""},{"$f":"IF('5'!$H$16=\"\", \"\", '5'!$H$16)","v":""},{"$f":"IF('5'!$H$17=\"\", \"\", '5'!$H$17)","v":""},{"$f":"IF('5'!$H$18=\"\", \"\", '5'!$H$18)","v":""},{"$f":"IF('5'!$H$19=\"\", \"\", '5'!$H$19)","v":""},{"$f":"IF('5'!$H$20=\"\", \"\", '5'!$H$20)","v":""},{"$f":"IF('5'!$H$21=\"\", \"\", '5'!$H$21)","v":""},{"$f":"IF('5'!$H$22=\"\", \"\", '5'!$H$22)","v":""},{"$f":"IF('5'!$H$23=\"\", \"\", '5'!$H$23)","v":""},{"$f":"IF('5'!$H$24=\"\", \"\", '5'!$H$24)","v":""},{"$f":"IF('5'!$H$25=\"\", \"\", '5'!$H$25)","v":""},{"$f":"IF('5'!$H$26=\"\", \"\", '5'!$H$26)","v":""},{"$f":"IF('5'!$H$27=\"\", \"\", '5'!$H$27)","v":""},{"$f":"IF('5'!$H$28=\"\", \"\", '5'!$H$28)","v":""},{"$f":"IF('5'!$H$29=\"\", \"\", '5'!$H$29)","v":""},{"$f":"IF('5'!$H$30=\"\", \"\", '5'!$H$30)","v":""},{"$f":"IF('5'!$H$31=\"\", \"\", '5'!$H$31)","v":""},{"$f":"IF('5'!$H$32=\"\", \"\", '5'!$H$32)","v":""},{"$f":"IF('5'!$H$33=\"\", \"\", '5'!$H$33)","v":""},{"$f":"IF('5'!$H$34=\"\", \"\", '5'!$H$34)","v":""},0,""]
[null,6,{"$f":"IF('6'!$H$11=\"\", \"\", '6'!$H$11)","v":""},{"$f":"IF('6'!$H$12=\"\", \"\", '6'!$H$12)","v":""},{"$f":"IF('6'!$H$13=\"\", \"\", '6'!$H$13)","v":""},{"$f":"IF('6'!$H$14=\"\", \"\", '6'!$H$14)","v":""},{"$f":"IF('6'!$H$15=\"\", \"\", '6'!$H$15)","v":""},{"$f":"IF('6'!$H$16=\"\", \"\", '6'!$H$16)","v":""},{"$f":"IF('6'!$H$17=\"\", \"\", '6'!$H$17)","v":""},{"$f":"IF('6'!$H$18=\"\", \"\", '6'!$H$18)","v":""},{"$f":"IF('6'!$H$19=\"\", \"\", '6'!$H$19)","v":""},{"$f":"IF('6'!$H$20=\"\", \"\", '6'!$H$20)","v":""},{"$f":"IF('6'!$H$21=\"\", \"\", '6'!$H$21)","v":""},{"$f":"IF('6'!$H$22=\"\", \"\", '6'!$H$22)","v":""},{"$f":"IF('6'!$H$23=\"\", \"\", '6'!$H$23)","v":""},{"$f":"IF('6'!$H$24=\"\", \"\", '6'!$H$24)","v":""},{"$f":"IF('6'!$H$25=\"\", \"\", '6'!$H$25)","v":""},{"$f":"IF('6'!$H$26=\"\", \"\", '6'!$H$26)","v":""},{"$f":"IF('6'!$H$27=\"\", \"\", '6'!$H$27)","v":""},{"$f":"IF('6'!$H$28=\"\", \"\", '6'!$H$28)","v":""},{"$f":"IF('6'!$H$29=\"\", \"\", '6'!$H$29)","v":""},{"$f":"IF('6'!$H$30=\"\", \"\", '6'!$H$30)","v":""},{"$f":"IF('6'!$H$31=\"\", \"\", '6'!$H$31)","v":""},{"$f":"IF('6'!$H$32=\"\", \"\", '6'!$H$32)","v":""},{"$f":"IF('6'!$H$33=\"\", \"\", '6'!$H$33)","v":""},{"$f":"IF('6'!$H$34=\"\", \"\", '6'!$H$34)","v":""},0,""]
[null,7,{"$f":"IF('7'!$H$11=\"\", \"\", '7'!$H$11)","v":""},{"$f":"IF('7'!$H$12=\"\", \"\", '7'!$H$12)","v":""},{"$f":"IF('7'!$H$13=\"\", \"\", '7'!$H$13)","v":""},{"$f":"IF('7'!$H$14=\"\", \"\", '7'!$H$14)","v":""},{"$f":"IF('7'!$H$15=\"\", \"\", '7'!$H$15)","v":""},{"$f":"IF('7'!$H$16=\"\", \"\", '7'!$H$16)","v":""},{"$f":"IF('7'!$H$17=\"\", \"\", '7'!$H$17)","v":""},{"$f":"IF('7'!$H$18=\"\", \"\", '7'!$H$18)","v":""},{"$f":"IF('7'!$H$19=\"\", \"\", '7'!$H$19)","v":""},{"$f":"IF('7'!$H$20=\"\", \"\", '7'!$H$20)","v":""},{"$f":"IF('7'!$H$21=\"\", \"\", '7'!$H$21)","v":""},{"$f":"IF('7'!$H$22=\"\", \"\", '7'!$H$22)","v":""},{"$f":"IF('7'!$H$23=\"\", \"\", '7'!$H$23)","v":""},{"$f":"IF('7'!$H$24=\"\", \"\", '7'!$H$24)","v":""},{"$f":"IF('7'!$H$25=\"\", \"\", '7'!$H$25)","v":""},{"$f":"IF('7'!$H$26=\"\", \"\", '7'!$H$26)","v":""},{"$f":"IF('7'!$H$27=\"\", \"\", '7'!$H$27)","v":""},{"$f":"IF('7'!$H$28=\"\", \"\", '7'!$H$28)","v":""},{"$f":"IF('7'!$H$29=\"\", \"\", '7'!$H$29)","v":""},{"$f":"IF('7'!$H$30=\"\", \"\", '7'!$H$30)","v":""},{"$f":"IF('7'!$H$31=\"\", \"\", '7'!$H$31)","v":""},{"$f":"IF('7'!$H$32=\"\", \"\", '7'!$H$32)","v":""},{"$f":"IF('7'!$H$33=\"\", \"\", '7'!$H$33)","v":""},{"$f":"IF('7'!$H$34=\"\", \"\", '7'!$H$34)","v":""},0,""]
[null,8,{"$f":"IF('8'!$H$11=\"\", \"\", '8'!$H$11)","v":""},{"$f":"IF('8'!$H$12=\"\", \"\", '8'!$H$12)","v":""},{"$f":"IF('8'!$H$13=\"\", \"\", '8'!$H$13)","v":""},{"$f":"IF('8'!$H$14=\"\", \"\", '8'!$H$14)","v":""},{"$f":"IF('8'!$H$15=\"\", \"\", '8'!$H$15)","v":""},{"$f":"IF('8'!$H$16=\"\", \"\", '8'!$H$16)","v":""},{"$f":"IF('8'!$H$17=\"\", \"\", '8'!$H$17)","v":""},{"$f":"IF('8'!$H$18=\"\", \"\", '8'!$H$18)","v":""},{"$f":"IF('8'!$H$19=\"\", \"\", '8'!$H$19)","v":""},{"$f":"IF('8'!$H$20=\"\", \"\", '8'!$H$20)","v":""},{"$f":"IF('8'!$H$21=\"\", \"\", '8'!$H$21)","v":""},{"$f":"IF('8'!$H$22=\"\", \"\", '8'!$H$22)","v":""},{"$f":"IF('8'!$H$23=\"\", \"\", '8'!$H$23)","v":""},{"$f":"IF('8'!$H$24=\"\", \"\", '8'!$H$24)","v":""},{"$f":"IF('8'!$H$25=\"\", \"\", '8'!$H$25)","v":""},{"$f":"IF('8'!$H$26=\"\", \"\", '8'!$H$26)","v":""},{"$f":"IF('8'!$H$27=\"\", \"\", '8'!$H$27)","v":""},{"$f":"IF('8'!$H$28=\"\", \"\", '8'!$H$28)","v":""},{"$f":"IF('8'!$H$29=\"\", \"\", '8'!$H$29)","v":""},{"$f":"IF('8'!$H$30=\"\", \"\", '8'!$H$30)","v":""},{"$f":"IF('8'!$H$31=\"\", \"\", '8'!$H$31)","v":""},{"$f":"IF('8'!$H$32=\"\", \"\", '8'!$H$32)","v":""},{"$f":"IF('8'!$H$33=\"\", \"\", '8'!$H$33)","v":""},{"$f":"IF('8'!$H$34=\"\", \"\", '8'!$H$34)","v":""},0,""]
[null,9,{"$f":"IF('9'!$H$11=\"\", \"\", '9'!$H$11)","v":""},{"$f":"IF('9'!$H$12=\"\", \"\", '9'!$H$12)","v":""},{"$f":"IF('9'!$H$13=\"\", \"\", '9'!$H$13)","v":""},{"$f":"IF('9'!$H$14=\"\", \"\", '9'!$H$14)","v":""},{"$f":"IF('9'!$H$15=\"\", \"\", '9'!$H$15)","v":""},{"$f":"IF('9'!$H$16=\"\", \"\", '9'!$H$16)","v":""},{"$f":"IF('9'!$H$17=\"\", \"\", '9'!$H$17)","v":""},{"$f":"IF('9'!$H$18=\"\", \"\", '9'!$H$18)","v":""},{"$f":"IF('9'!$H$19=\"\", \"\", '9'!$H$19)","v":""},{"$f":"IF('9'!$H$20=\"\", \"\", '9'!$H$20)","v":""},{"$f":"IF('9'!$H$21=\"\", \"\", '9'!$H$21)","v":""},{"$f":"IF('9'!$H$22=\"\", \"\", '9'!$H$22)","v":""},{"$f":"IF('9'!$H$23=\"\", \"\", '9'!$H$23)","v":""},{"$f":"IF('9'!$H$24=\"\", \"\", '9'!$H$24)","v":""},{"$f":"IF('9'!$H$25=\"\", \"\", '9'!$H$25)","v":""},{"$f":"IF('9'!$H$26=\"\", \"\", '9'!$H$26)","v":""},{"$f":"IF('9'!$H$27=\"\", \"\", '9'!$H$27)","v":""},{"$f":"IF('9'!$H$28=\"\", \"\", '9'!$H$28)","v":""},{"$f":"IF('9'!$H$29=\"\", \"\", '9'!$H$29)","v":""},{"$f":"IF('9'!$H$30=\"\", \"\", '9'!$H$30)","v":""},{"$f":"IF('9'!$H$31=\"\", \"\", '9'!$H$31)","v":""},{"$f":"IF('9'!$H$32=\"\", \"\", '9'!$H$32)","v":""},{"$f":"IF('9'!$H$33=\"\", \"\", '9'!$H$33)","v":""},{"$f":"IF('9'!$H$34=\"\", \"\", '9'!$H$34)","v":""},0,""]
[null,10,{"$f":"IF('10'!$H$11=\"\", \"\", '10'!$H$11)","v":""},{"$f":"IF('10'!$H$12=\"\", \"\", '10'!$H$12)","v":""},{"$f":"IF('10'!$H$13=\"\", \"\", '10'!$H$13)","v":""},{"$f":"IF('10'!$H$14=\"\", \"\", '10'!$H$14)","v":""},{"$f":"IF('10'!$H$15=\"\", \"\", '10'!$H$15)","v":""},{"$f":"IF('10'!$H$16=\"\", \"\", '10'!$H$16)","v":""},{"$f":"IF('10'!$H$17=\"\", \"\", '10'!$H$17)","v":""},{"$f":"IF('10'!$H$18=\"\", \"\", '10'!$H$18)","v":""},{"$f":"IF('10'!$H$19=\"\", \"\", '10'!$H$19)","v":""},{"$f":"IF('10'!$H$20=\"\", \"\", '10'!$H$20)","v":""},{"$f":"IF('10'!$H$21=\"\", \"\", '10'!$H$21)","v":""},{"$f":"IF('10'!$H$22=\"\", \"\", '10'!$H$22)","v":""},{"$f":"IF('10'!$H$23=\"\", \"\", '10'!$H$23)","v":""},{"$f":"IF('10'!$H$24=\"\", \"\", '10'!$H$24)","v":""},{"$f":"IF('10'!$H$25=\"\", \"\", '10'!$H$25)","v":""},{"$f":"IF('10'!$H$26=\"\", \"\", '10'!$H$26)","v":""},{"$f":"IF('10'!$H$27=\"\", \"\", '10'!$H$27)","v":""},{"$f":"IF('10'!$H$28=\"\", \"\", '10'!$H$28)","v":""},{"$f":"IF('10'!$H$29=\"\", \"\", '10'!$H$29)","v":""},{"$f":"IF('10'!$H$30=\"\", \"\", '10'!$H$30)","v":""},{"$f":"IF('10'!$H$31=\"\", \"\", '10'!$H$31)","v":""},{"$f":"IF('10'!$H$32=\"\", \"\", '10'!$H$32)","v":""},{"$f":"IF('10'!$H$33=\"\", \"\", '10'!$H$33)","v":""},{"$f":"IF('10'!$H$34=\"\", \"\", '10'!$H$34)","v":""},0,""]
[null,11,{"$f":"IF('11'!$H$11=\"\", \"\", '11'!$H$11)","v":""},{"$f":"IF('11'!$H$12=\"\", \"\", '11'!$H$12)","v":""},{"$f":"IF('11'!$H$13=\"\", \"\", '11'!$H$13)","v":""},{"$f":"IF('11'!$H$14=\"\", \"\", '11'!$H$14)","v":""},{"$f":"IF('11'!$H$15=\"\", \"\", '11'!$H$15)","v":""},{"$f":"IF('11'!$H$16=\"\", \"\", '11'!$H$16)","v":""},{"$f":"IF('11'!$H$17=\"\", \"\", '11'!$H$17)","v":""},{"$f":"IF('11'!$H$18=\"\", \"\", '11'!$H$18)","v":""},{"$f":"IF('11'!$H$19=\"\", \"\", '11'!$H$19)","v":""},{"$f":"IF('11'!$H$20=\"\", \"\", '11'!$H$20)","v":""},{"$f":"IF('11'!$H$21=\"\", \"\", '11'!$H$21)","v":""},{"$f":"IF('11'!$H$22=\"\", \"\", '11'!$H$22)","v":""},{"$f":"IF('11'!$H$23=\"\", \"\", '11'!$H$23)","v":""},{"$f":"IF('11'!$H$24=\"\", \"\", '11'!$H$24)","v":""},{"$f":"IF('11'!$H$25=\"\", \"\", '11'!$H$25)","v":""},{"$f":"IF('11'!$H$26=\"\", \"\", '11'!$H$26)","v":""},{"$f":"IF('11'!$H$27=\"\", \"\", '11'!$H$27)","v":""},{"$f":"IF('11'!$H$28=\"\", \"\", '11'!$H$28)","v":""},{"$f":"IF('11'!$H$29=\"\", \"\", '11'!$H$29)","v":""},{"$f":"IF('11'!$H$30=\"\", \"\", '11'!$H$30)","v":""},{"$f":"IF('11'!$H$31=\"\", \"\", '11'!$H$31)","v":""},{"$f":"IF('11'!$H$32=\"\", \"\", '11'!$H$32)","v":""},{"$f":"IF('11'!$H$33=\"\", \"\", '11'!$H$33)","v":""},{"$f":"IF('11'!$H$34=\"\", \"\", '11'!$H$34)","v":""},0,""]
[null,12,{"$f":"IF('12'!$H$11=\"\", \"\", '12'!$H$11)","v":""},{"$f":"IF('12'!$H$12=\"\", \"\", '12'!$H$12)","v":""},{"$f":"IF('12'!$H$13=\"\", \"\", '12'!$H$13)","v":""},{"$f":"IF('12'!$H$14=\"\", \"\", '12'!$H$14)","v":""},{"$f":"IF('12'!$H$15=\"\", \"\", '12'!$H$15)","v":""},{"$f":"IF('12'!$H$16=\"\", \"\", '12'!$H$16)","v":""},{"$f":"IF('12'!$H$17=\"\", \"\", '12'!$H$17)","v":""},{"$f":"IF('12'!$H$18=\"\", \"\", '12'!$H$18)","v":""},{"$f":"IF('12'!$H$19=\"\", \"\", '12'!$H$19)","v":""},{"$f":"IF('12'!$H$20=\"\", \"\", '12'!$H$20)","v":""},{"$f":"IF('12'!$H$21=\"\", \"\", '12'!$H$21)","v":""},{"$f":"IF('12'!$H$22=\"\", \"\", '12'!$H$22)","v":""},{"$f":"IF('12'!$H$23=\"\", \"\", '12'!$H$23)","v":""},{"$f":"IF('12'!$H$24=\"\", \"\", '12'!$H$24)","v":""},{"$f":"IF('12'!$H$25=\"\", \"\", '12'!$H$25)","v":""},{"$f":"IF('12'!$H$26=\"\", \"\", '12'!$H$26)","v":""},{"$f":"IF('12'!$H$27=\"\", \"\", '12'!$H$27)","v":""},{"$f":"IF('12'!$H$28=\"\", \"\", '12'!$H$28)","v":""},{"$f":"IF('12'!$H$29=\"\", \"\", '12'!$H$29)","v":""},{"$f":"IF('12'!$H$30=\"\", \"\", '12'!$H$30)","v":""},{"$f":"IF('12'!$H$31=\"\", \"\", '12'!$H$31)","v":""},{"$f":"IF('12'!$H$32=\"\", \"\", '12'!$H$32)","v":""},{"$f":"IF('12'!$H$33=\"\", \"\", '12'!$H$33)","v":""},{"$f":"IF('12'!$H$34=\"\", \"\", '12'!$H$34)","v":""},0,""]
[null,13,{"$f":"IF('13'!$H$11=\"\", \"\", '13'!$H$11)","v":""},{"$f":"IF('13'!$H$12=\"\", \"\", '13'!$H$12)","v":""},{"$f":"IF('13'!$H$13=\"\", \"\", '13'!$H$13)","v":""},{"$f":"IF('13'!$H$14=\"\", \"\", '13'!$H$14)","v":""},{"$f":"IF('13'!$H$15=\"\", \"\", '13'!$H$15)","v":""},{"$f":"IF('13'!$H$16=\"\", \"\", '13'!$H$16)","v":""},{"$f":"IF('13'!$H$17=\"\", \"\", '13'!$H$17)","v":""},{"$f":"IF('13'!$H$18=\"\", \"\", '13'!$H$18)","v":""},{"$f":"IF('13'!$H$19=\"\", \"\", '13'!$H$19)","v":""},{"$f":"IF('13'!$H$20=\"\", \"\", '13'!$H$20)","v":""},{"$f":"IF('13'!$H$21=\"\", \"\", '13'!$H$21)","v":""},{"$f":"IF('13'!$H$22=\"\", \"\", '13'!$H$22)","v":""},{"$f":"IF('13'!$H$23=\"\", \"\", '13'!$H$23)","v":""},{"$f":"IF('13'!$H$24=\"\", \"\", '13'!$H$24)","v":""},{"$f":"IF('13'!$H$25=\"\", \"\", '13'!$H$25)","v":""},{"$f":"IF('13'!$H$26=\"\", \"\", '13'!$H$26)","v":""},{"$f":"IF('13'!$H$27=\"\", \"\", '13'!$H$27)","v":""},{"$f":"IF('13'!$H$28=\"\", \"\", '13'!$H$28)","v":""},{"$f":"IF('13'!$H$29=\"\", \"\", '13'!$H$29)","v":""},{"$f":"IF('13'!$H$30=\"\", \"\", '13'!$H$30)","v":""},{"$f":"IF('13'!$H$31=\"\", \"\", '13'!$H$31)","v":""},{"$f":"IF('13'!$H$32=\"\", \"\", '13'!$H$32)","v":""},{"$f":"IF('13'!$H$33=\"\", \"\", '13'!$H$33)","v":""},{"$f":"IF('13'!$H$34=\"\", \"\", '13'!$H$34)","v":""},0,""]
[null,14,{"$f":"IF('14'!$H$11=\"\", \"\", '14'!$H$11)","v":""},{"$f":"IF('14'!$H$12=\"\", \"\", '14'!$H$12)","v":""},{"$f":"IF('14'!$H$13=\"\", \"\", '14'!$H$13)","v":""},{"$f":"IF('14'!$H$14=\"\", \"\", '14'!$H$14)","v":""},{"$f":"IF('14'!$H$15=\"\", \"\", '14'!$H$15)","v":""},{"$f":"IF('14'!$H$16=\"\", \"\", '14'!$H$16)","v":""},{"$f":"IF('14'!$H$17=\"\", \"\", '14'!$H$17)","v":""},{"$f":"IF('14'!$H$18=\"\", \"\", '14'!$H$18)","v":""},{"$f":"IF('14'!$H$19=\"\", \"\", '14'!$H$19)","v":""},{"$f":"IF('14'!$H$20=\"\", \"\", '14'!$H$20)","v":""},{"$f":"IF('14'!$H$21=\"\", \"\", '14'!$H$21)","v":""},{"$f":"IF('14'!$H$22=\"\", \"\", '14'!$H$22)","v":""},{"$f":"IF('14'!$H$23=\"\", \"\", '14'!$H$23)","v":""},{"$f":"IF('14'!$H$24=\"\", \"\", '14'!$H$24)","v":""},{"$f":"IF('14'!$H$25=\"\", \"\", '14'!$H$25)","v":""},{"$f":"IF('14'!$H$26=\"\", \"\", '14'!$H$26)","v":""},{"$f":"IF('14'!$H$27=\"\", \"\", '14'!$H$27)","v":""},{"$f":"IF('14'!$H$28=\"\", \"\", '14'!$H$28)","v":""},{"$f":"IF('14'!$H$29=\"\", \"\", '14'!$H$29)","v":""},{"$f":"IF('14'!$H$30=\"\", \"\", '14'!$H$30)","v":""},{"$f":"IF('14'!$H$31=\"\", \"\", '14'!$H$31)","v":""},{"$f":"IF('14'!$H$32=\"\", \"\", '14'!$H$32)","v":""},{"$f":"IF('14'!$H$33=\"\", \"\", '14'!$H$33)","v":""},{"$f":"IF('14'!$H$34=\"\", \"\", '14'!$H$34)","v":""},0,""]
[null,15,{"$f":"IF('15'!$H$11=\"\", \"\", '15'!$H$11)","v":""},{"$f":"IF('15'!$H$12=\"\", \"\", '15'!$H$12)","v":""},{"$f":"IF('15'!$H$13=\"\", \"\", '15'!$H$13)","v":""},{"$f":"IF('15'!$H$14=\"\", \"\", '15'!$H$14)","v":""},{"$f":"IF('15'!$H$15=\"\", \"\", '15'!$H$15)","v":""},{"$f":"IF('15'!$H$16=\"\", \"\", '15'!$H$16)","v":""},{"$f":"IF('15'!$H$17=\"\", \"\", '15'!$H$17)","v":""},{"$f":"IF('15'!$H$18=\"\", \"\", '15'!$H$18)","v":""},{"$f":"IF('15'!$H$19=\"\", \"\", '15'!$H$19)","v":""},{"$f":"IF('15'!$H$20=\"\", \"\", '15'!$H$20)","v":""},{"$f":"IF('15'!$H$21=\"\", \"\", '15'!$H$21)","v":""},{"$f":"IF('15'!$H$22=\"\", \"\", '15'!$H$22)","v":""},{"$f":"IF('15'!$H$23=\"\", \"\", '15'!$H$23)","v":""},{"$f":"IF('15'!$H$24=\"\", \"\", '15'!$H$24)","v":""},{"$f":"IF('15'!$H$25=\"\", \"\", '15'!$H$25)","v":""},{"$f":"IF('15'!$H$26=\"\", \"\", '15'!$H$26)","v":""},{"$f":"IF('15'!$H$27=\"\", \"\", '15'!$H$27)","v":""},{"$f":"IF('15'!$H$28=\"\", \"\", '15'!$H$28)","v":""},{"$f":"IF('15'!$H$29=\"\", \"\", '15'!$H$29)","v":""},{"$f":"IF('15'!$H$30=\"\", \"\", '15'!$H$30)","v":""},{"$f":"IF('15'!$H$31=\"\", \"\", '15'!$H$31)","v":""},{"$f":"IF('15'!$H$32=\"\", \"\", '15'!$H$32)","v":""},{"$f":"IF('15'!$H$33=\"\", \"\", '15'!$H$33)","v":""},{"$f":"IF('15'!$H$34=\"\", \"\", '15'!$H$34)","v":""},0,""]
[null,16,{"$f":"IF('16'!$H$11=\"\", \"\", '16'!$H$11)","v":""},{"$f":"IF('16'!$H$12=\"\", \"\", '16'!$H$12)","v":""},{"$f":"IF('16'!$H$13=\"\", \"\", '16'!$H$13)","v":""},{"$f":"IF('16'!$H$14=\"\", \"\", '16'!$H$14)","v":""},{"$f":"IF('16'!$H$15=\"\", \"\", '16'!$H$15)","v":""},{"$f":"IF('16'!$H$16=\"\", \"\", '16'!$H$16)","v":""},{"$f":"IF('16'!$H$17=\"\", \"\", '16'!$H$17)","v":""},{"$f":"IF('16'!$H$18=\"\", \"\", '16'!$H$18)","v":""},{"$f":"IF('16'!$H$19=\"\", \"\", '16'!$H$19)","v":""},{"$f":"IF('16'!$H$20=\"\", \"\", '16'!$H$20)","v":""},{"$f":"IF('16'!$H$21=\"\", \"\", '16'!$H$21)","v":""},{"$f":"IF('16'!$H$22=\"\", \"\", '16'!$H$22)","v":""},{"$f":"IF('16'!$H$23=\"\", \"\", '16'!$H$23)","v":""},{"$f":"IF('16'!$H$24=\"\", \"\", '16'!$H$24)","v":""},{"$f":"IF('16'!$H$25=\"\", \"\", '16'!$H$25)","v":""},{"$f":"IF('16'!$H$26=\"\", \"\", '16'!$H$26)","v":""},{"$f":"IF('16'!$H$27=\"\", \"\", '16'!$H$27)","v":""},{"$f":"IF('16'!$H$28=\"\", \"\", '16'!$H$28)","v":""},{"$f":"IF('16'!$H$29=\"\", \"\", '16'!$H$29)","v":""},{"$f":"IF('16'!$H$30=\"\", \"\", '16'!$H$30)","v":""},{"$f":"IF('16'!$H$31=\"\", \"\", '16'!$H$31)","v":""},{"$f":"IF('16'!$H$32=\"\", \"\", '16'!$H$32)","v":""},{"$f":"IF('16'!$H$33=\"\", \"\", '16'!$H$33)","v":""},{"$f":"IF('16'!$H$34=\"\", \"\", '16'!$H$34)","v":""},0,""]
[null,17,{"$f":"IF('17'!$H$11=\"\", \"\", '17'!$H$11)","v":""},{"$f":"IF('17'!$H$12=\"\", \"\", '17'!$H$12)","v":""},{"$f":"IF('17'!$H$13=\"\", \"\", '17'!$H$13)","v":""},{"$f":"IF('17'!$H$14=\"\", \"\", '17'!$H$14)","v":""},{"$f":"IF('17'!$H$15=\"\", \"\", '17'!$H$15)","v":""},{"$f":"IF('17'!$H$16=\"\", \"\", '17'!$H$16)","v":""},{"$f":"IF('17'!$H$17=\"\", \"\", '17'!$H$17)","v":""},{"$f":"IF('17'!$H$18=\"\", \"\", '17'!$H$18)","v":""},{"$f":"IF('17'!$H$19=\"\", \"\", '17'!$H$19)","v":""},{"$f":"IF('17'!$H$20=\"\", \"\", '17'!$H$20)","v":""},{"$f":"IF('17'!$H$21=\"\", \"\", '17'!$H$21)","v":""},{"$f":"IF('17'!$H$22=\"\", \"\", '17'!$H$22)","v":""},{"$f":"IF('17'!$H$23=\"\", \"\", '17'!$H$23)","v":""},{"$f":"IF('17'!$H$24=\"\", \"\", '17'!$H$24)","v":""},{"$f":"IF('17'!$H$25=\"\", \"\", '17'!$H$25)","v":""},{"$f":"IF('17'!$H$26=\"\", \"\", '17'!$H$26)","v":""},{"$f":"IF('17'!$H$27=\"\", \"\", '17'!$H$27)","v":""},{"$f":"IF('17'!$H$28=\"\", \"\", '17'!$H$28)","v":""},{"$f":"IF('17'!$H$29=\"\", \"\", '17'!$H$29)","v":""},{"$f":"IF('17'!$H$30=\"\", \"\", '17'!$H$30)","v":""},{"$f":"IF('17'!$H$31=\"\", \"\", '17'!$H$31)","v":""},{"$f":"IF('17'!$H$32=\"\", \"\", '17'!$H$32)","v":""},{"$f":"IF('17'!$H$33=\"\", \"\", '17'!$H$33)","v":""},{"$f":"IF('17'!$H$34=\"\", \"\", '17'!$H$34)","v":""},0,""]
[null,18,{"$f":"IF('18'!$H$11=\"\", \"\", '18'!$H$11)","v":""},{"$f":"IF('18'!$H$12=\"\", \"\", '18'!$H$12)","v":""},{"$f":"IF('18'!$H$13=\"\", \"\", '18'!$H$13)","v":""},{"$f":"IF('18'!$H$14=\"\", \"\", '18'!$H$14)","v":""},{"$f":"IF('18'!$H$15=\"\", \"\", '18'!$H$15)","v":""},{"$f":"IF('18'!$H$16=\"\", \"\", '18'!$H$16)","v":""},{"$f":"IF('18'!$H$17=\"\", \"\", '18'!$H$17)","v":""},{"$f":"IF('18'!$H$18=\"\", \"\", '18'!$H$18)","v":""},{"$f":"IF('18'!$H$19=\"\", \"\", '18'!$H$19)","v":""},{"$f":"IF('18'!$H$20=\"\", \"\", '18'!$H$20)","v":""},{"$f":"IF('18'!$H$21=\"\", \"\", '18'!$H$21)","v":""},{"$f":"IF('18'!$H$22=\"\", \"\", '18'!$H$22)","v":""},{"$f":"IF('18'!$H$23=\"\", \"\", '18'!$H$23)","v":""},{"$f":"IF('18'!$H$24=\"\", \"\", '18'!$H$24)","v":""},{"$f":"IF('18'!$H$25=\"\", \"\", '18'!$H$25)","v":""},{"$f":"IF('18'!$H$26=\"\", \"\", '18'!$H$26)","v":""},{"$f":"IF('18'!$H$27=\"\", \"\", '18'!$H$27)","v":""},{"$f":"IF('18'!$H$28=\"\", \"\", '18'!$H$28)","v":""},{"$f":"IF('18'!$H$29=\"\", \"\", '18'!$H$29)","v":""},{"$f":"IF('18'!$H$30=\"\", \"\", '18'!$H$30)","v":""},{"$f":"IF('18'!$H$31=\"\", \"\", '18'!$H$31)","v":""},{"$f":"IF('18'!$H$32=\"\", \"\", '18'!$H$32)","v":""},{"$f":"IF('18'!$H$33=\"\", \"\", '18'!$H$33)","v":""},{"$f":"IF('18'!$H$34=\"\", \"\", '18'!$H$34)","v":""},0,""]
[null,19,{"$f":"IF('19'!$H$11=\"\", \"\", '19'!$H$11)","v":""},{"$f":"IF('19'!$H$12=\"\", \"\", '19'!$H$12)","v":""},{"$f":"IF('19'!$H$13=\"\", \"\", '19'!$H$13)","v":""},{"$f":"IF('19'!$H$14=\"\", \"\", '19'!$H$14)","v":""},{"$f":"IF('19'!$H$15=\"\", \"\", '19'!$H$15)","v":""},{"$f":"IF('19'!$H$16=\"\", \"\", '19'!$H$16)","v":""},{"$f":"IF('19'!$H$17=\"\", \"\", '19'!$H$17)","v":""},{"$f":"IF('19'!$H$18=\"\", \"\", '19'!$H$18)","v":""},{"$f":"IF('19'!$H$19=\"\", \"\", '19'!$H$19)","v":""},{"$f":"IF('19'!$H$20=\"\", \"\", '19'!$H$20)","v":""},{"$f":"IF('19'!$H$21=\"\", \"\", '19'!$H$21)","v":""},{"$f":"IF('19'!$H$22=\"\", \"\", '19'!$H$22)","v":""},{"$f":"IF('19'!$H$23=\"\", \"\", '19'!$H$23)","v":""},{"$f":"IF('19'!$H$24=\"\", \"\", '19'!$H$24)","v":""},{"$f":"IF('19'!$H$25=\"\", \"\", '19'!$H$25)","v":""},{"$f":"IF('19'!$H$26=\"\", \"\", '19'!$H$26)","v":""},{"$f":"IF('19'!$H$27=\"\", \"\", '19'!$H$27)","v":""},{"$f":"IF('19'!$H$28=\"\", \"\", '19'!$H$28)","v":""},{"$f":"IF('19'!$H$29=\"\", \"\", '19'!$H$29)","v":""},{"$f":"IF('19'!$H$30=\"\", \"\", '19'!$H$30)","v":""},{"$f":"IF('19'!$H$31=\"\", \"\", '19'!$H$31)","v":""},{"$f":"IF('19'!$H$32=\"\", \"\", '19'!$H$32)","v":""},{"$f":"IF('19'!$H$33=\"\", \"\", '19'!$H$33)","v":""},{"$f":"IF('19'!$H$34=\"\", \"\", '19'!$H$34)","v":""},0,""]
[null,20,{"$f":"IF('20'!$H$11=\"\", \"\", '20'!$H$11)","v":""},{"$f":"IF('20'!$H$12=\"\", \"\", '20'!$H$12)","v":""},{"$f":"IF('20'!$H$13=\"\", \"\", '20'!$H$13)","v":""},{"$f":"IF('20'!$H$14=\"\", \"\", '20'!$H$14)","v":""},{"$f":"IF('20'!$H$15=\"\", \"\", '20'!$H$15)","v":""},{"$f":"IF('20'!$H$16=\"\", \"\", '20'!$H$16)","v":""},{"$f":"IF('20'!$H$17=\"\", \"\", '20'!$H$17)","v":""},{"$f":"IF('20'!$H$18=\"\", \"\", '20'!$H$18)","v":""},{"$f":"IF('20'!$H$19=\"\", \"\", '20'!$H$19)","v":""},{"$f":"IF('20'!$H$20=\"\", \"\", '20'!$H$20)","v":""},{"$f":"IF('20'!$H$21=\"\", \"\", '20'!$H$21)","v":""},{"$f":"IF('20'!$H$22=\"\", \"\", '20'!$H$22)","v":""},{"$f":"IF('20'!$H$23=\"\", \"\", '20'!$H$23)","v":""},{"$f":"IF('20'!$H$24=\"\", \"\", '20'!$H$24)","v":""},{"$f":"IF('20'!$H$25=\"\", \"\", '20'!$H$25)","v":""},{"$f":"IF('20'!$H$26=\"\", \"\", '20'!$H$26)","v":""},{"$f":"IF('20'!$H$27=\"\", \"\", '20'!$H$27)","v":""},{"$f":"IF('20'!$H$28=\"\", \"\", '20'!$H$28)","v":""},{"$f":"IF('20'!$H$29=\"\", \"\", '20'!$H$29)","v":""},{"$f":"IF('20'!$H$30=\"\", \"\", '20'!$H$30)","v":""},{"$f":"IF('20'!$H$31=\"\", \"\", '20'!$H$31)","v":""},{"$f":"IF('20'!$H$32=\"\", \"\", '20'!$H$32)","v":""},{"$f":"IF('20'!$H$33=\"\", \"\", '20'!$H$33)","v":""},{"$f":"IF('20'!$H$34=\"\", \"\", '20'!$H$34)","v":""},0,""]
[null,21,{"$f":"IF('21'!$H$11=\"\", \"\", '21'!$H$11)","v":""},{"$f":"IF('21'!$H$12=\"\", \"\", '21'!$H$12)","v":""},{"$f":"IF('21'!$H$13=\"\", \"\", '21'!$H$13)","v":""},{"$f":"IF('21'!$H$14=\"\", \"\", '21'!$H$14)","v":""},{"$f":"IF('21'!$H$15=\"\", \"\", '21'!$H$15)","v":""},{"$f":"IF('21'!$H$16=\"\", \"\", '21'!$H$16)","v":""},{"$f":"IF('21'!$H$17=\"\", \"\", '21'!$H$17)","v":""},{"$f":"IF('21'!$H$18=\"\", \"\", '21'!$H$18)","v":""},{"$f":"IF('21'!$H$19=\"\", \"\", '21'!$H$19)","v":""},{"$f":"IF('21'!$H$20=\"\", \"\", '21'!$H$20)","v":""},{"$f":"IF('21'!$H$21=\"\", \"\", '21'!$H$21)","v":""},{"$f":"IF('21'!$H$22=\"\", \"\", '21'!$H$22)","v":""},{"$f":"IF('21'!$H$23=\"\", \"\", '21'!$H$23)","v":""},{"$f":"IF('21'!$H$24=\"\", \"\", '21'!$H$24)","v":""},{"$f":"IF('21'!$H$25=\"\", \"\", '21'!$H$25)","v":""},{"$f":"IF('21'!$H$26=\"\", \"\", '21'!$H$26)","v":""},{"$f":"IF('21'!$H$27=\"\", \"\", '21'!$H$27)","v":""},{"$f":"IF('21'!$H$28=\"\", \"\", '21'!$H$28)","v":""},{"$f":"IF('21'!$H$29=\"\", \"\", '21'!$H$29)","v":""},{"$f":"IF('21'!$H$30=\"\", \"\", '21'!$H$30)","v":""},{"$f":"IF('21'!$H$31=\"\", \"\", '21'!$H$31)","v":""},{"$f":"IF('21'!$H$32=\"\", \"\", '21'!$H$32)","v":""},{"$f":"IF('21'!$H$33=\"\", \"\", '21'!$H$33)","v":""},{"$f":"IF('21'!$H$34=\"\", \"\", '21'!$H$34)","v":""},0,""]
[null,22,{"$f":"IF('22'!$H$11=\"\", \"\", '22'!$H$11)","v":""},{"$f":"IF('22'!$H$12=\"\", \"\", '22'!$H$12)","v":""},{"$f":"IF('22'!$H$13=\"\", \"\", '22'!$H$13)","v":""},{"$f":"IF('22'!$H$14=\"\", \"\", '22'!$H$14)","v":""},{"$f":"IF('22'!$H$15=\"\", \"\", '22'!$H$15)","v":""},{"$f":"IF('22'!$H$16=\"\", \"\", '22'!$H$16)","v":""},{"$f":"IF('22'!$H$17=\"\", \"\", '22'!$H$17)","v":""},{"$f":"IF('22'!$H$18=\"\", \"\", '22'!$H$18)","v":""},{"$f":"IF('22'!$H$19=\"\", \"\", '22'!$H$19)","v":""},{"$f":"IF('22'!$H$20=\"\", \"\", '22'!$H$20)","v":""},{"$f":"IF('22'!$H$21=\"\", \"\", '22'!$H$21)","v":""},{"$f":"IF('22'!$H$22=\"\", \"\", '22'!$H$22)","v":""},{"$f":"IF('22'!$H$23=\"\", \"\", '22'!$H$23)","v":""},{"$f":"IF('22'!$H$24=\"\", \"\", '22'!$H$24)","v":""},{"$f":"IF('22'!$H$25=\"\", \"\", '22'!$H$25)","v":""},{"$f":"IF('22'!$H$26=\"\", \"\", '22'!$H$26)","v":""},{"$f":"IF('22'!$H$27=\"\", \"\", '22'!$H$27)","v":""},{"$f":"IF('22'!$H$28=\"\", \"\", '22'!$H$28)","v":""},{"$f":"IF('22'!$H$29=\"\", \"\", '22'!$H$29)","v":""},{"$f":"IF('22'!$H$30=\"\", \"\", '22'!$H$30)","v":""},{"$f":"IF('22'!$H$31=\"\", \"\", '22'!$H$31)","v":""},{"$f":"IF('22'!$H$32=\"\", \"\", '22'!$H$32)","v":""},{"$f":"IF('22'!$H$33=\"\", \"\", '22'!$H$33)","v":""},{"$f":"IF('22'!$H$34=\"\", \"\", '22'!$H$34)","v":""},0,""]
[null,23,{"$f":"IF('23'!$H$11=\"\", \"\", '23'!$H$11)","v":""},{"$f":"IF('23'!$H$12=\"\", \"\", '23'!$H$12)","v":""},{"$f":"IF('23'!$H$13=\"\", \"\", '23'!$H$13)","v":""},{"$f":"IF('23'!$H$14=\"\", \"\", '23'!$H$14)","v":""},{"$f":"IF('23'!$H$15=\"\", \"\", '23'!$H$15)","v":""},{"$f":"IF('23'!$H$16=\"\", \"\", '23'!$H$16)","v":""},{"$f":"IF('23'!$H$17=\"\", \"\", '23'!$H$17)","v":""},{"$f":"IF('23'!$H$18=\"\", \"\", '23'!$H$18)","v":""},{"$f":"IF('23'!$H$19=\"\", \"\", '23'!$H$19)","v":""},{"$f":"IF('23'!$H$20=\"\", \"\", '23'!$H$20)","v":""},{"$f":"IF('23'!$H$21=\"\", \"\", '23'!$H$21)","v":""},{"$f":"IF('23'!$H$22=\"\", \"\", '23'!$H$22)","v":""},{"$f":"IF('23'!$H$23=\"\", \"\", '23'!$H$23)","v":""},{"$f":"IF('23'!$H$24=\"\", \"\", '23'!$H$24)","v":""},{"$f":"IF('23'!$H$25=\"\", \"\", '23'!$H$25)","v":""},{"$f":"IF('23'!$H$26=\"\", \"\", '23'!$H$26)","v":""},{"$f":"IF('23'!$H$27=\"\", \"\", '23'!$H$27)","v":""},{"$f":"IF('23'!$H$28=\"\", \"\", '23'!$H$28)","v":""},{"$f":"IF('23'!$H$29=\"\", \"\", '23'!$H$29)","v":""},{"$f":"IF('23'!$H$30=\"\", \"\", '23'!$H$30)","v":""},{"$f":"IF('23'!$H$31=\"\", \"\", '23'!$H$31)","v":""},{"$f":"IF('23'!$H$32=\"\", \"\", '23'!$H$32)","v":""},{"$f":"IF('23'!$H$33=\"\", \"\", '23'!$H$33)","v":""},{"$f":"IF('23'!$H$34=\"\", \"\", '23'!$H$34)","v":""},0,""]
[null,24,{"$f":"IF('24'!$H$11=\"\", \"\", '24'!$H$11)","v":""},{"$f":"IF('24'!$H$12=\"\", \"\", '24'!$H$12)","v":""},{"$f":"IF('24'!$H$13=\"\", \"\", '24'!$H$13)","v":""},{"$f":"IF('24'!$H$14=\"\", \"\", '24'!$H$14)","v":""},{"$f":"IF('24'!$H$15=\"\", \"\", '24'!$H$15)","v":""},{"$f":"IF('24'!$H$16=\"\", \"\", '24'!$H$16)","v":""},{"$f":"IF('24'!$H$17=\"\", \"\", '24'!$H$17)","v":""},{"$f":"IF('24'!$H$18=\"\", \"\", '24'!$H$18)","v":""},{"$f":"IF('24'!$H$19=\"\", \"\", '24'!$H$19)","v":""},{"$f":"IF('24'!$H$20=\"\", \"\", '24'!$H$20)","v":""},{"$f":"IF('24'!$H$21=\"\", \"\", '24'!$H$21)","v":""},{"$f":"IF('24'!$H$22=\"\", \"\", '24'!$H$22)","v":""},{"$f":"IF('24'!$H$23=\"\", \"\", '24'!$H$23)","v":""},{"$f":"IF('24'!$H$24=\"\", \"\", '24'!$H$24)","v":""},{"$f":"IF('24'!$H$25=\"\", \"\", '24'!$H$25)","v":""},{"$f":"IF('24'!$H$26=\"\", \"\", '24'!$H$26)","v":""},{"$f":"IF('24'!$H$27=\"\", \"\", '24'!$H$27)","v":""},{"$f":"IF('24'!$H$28=\"\", \"\", '24'!$H$28)","v":""},{"$f":"IF('24'!$H$29=\"\", \"\", '24'!$H$29)","v":""},{"$f":"IF('24'!$H$30=\"\", \"\", '24'!$H$30)","v":""},{"$f":"IF('24'!$H$31=\"\", \"\", '24'!$H$31)","v":""},{"$f":"IF('24'!$H$32=\"\", \"\", '24'!$H$32)","v":""},{"$f":"IF('24'!$H$33=\"\", \"\", '24'!$H$33)","v":""},{"$f":"IF('24'!$H$34=\"\", \"\", '24'!$H$34)","v":""},0,""]
[null,{"$f":"B323+1","v":25},{"$f":"IF('25'!$H$11=\"\", \"\", '25'!$H$11)","v":""},{"$f":"IF('25'!$H$12=\"\", \"\", '25'!$H$12)","v":""},{"$f":"IF('25'!$H$13=\"\", \"\", '25'!$H$13)","v":""},{"$f":"IF('25'!$H$14=\"\", \"\", '25'!$H$14)","v":""},{"$f":"IF('25'!$H$15=\"\", \"\", '25'!$H$15)","v":""},{"$f":"IF('25'!$H$16=\"\", \"\", '25'!$H$16)","v":""},{"$f":"IF('25'!$H$17=\"\", \"\", '25'!$H$17)","v":""},{"$f":"IF('25'!$H$18=\"\", \"\", '25'!$H$18)","v":""},{"$f":"IF('25'!$H$19=\"\", \"\", '25'!$H$19)","v":""},{"$f":"IF('25'!$H$20=\"\", \"\", '25'!$H$20)","v":""},{"$f":"IF('25'!$H$21=\"\", \"\", '25'!$H$21)","v":""},{"$f":"IF('25'!$H$22=\"\", \"\", '25'!$H$22)","v":""},{"$f":"IF('25'!$H$23=\"\", \"\", '25'!$H$23)","v":""},{"$f":"IF('25'!$H$24=\"\", \"\", '25'!$H$24)","v":""},{"$f":"IF('25'!$H$25=\"\", \"\", '25'!$H$25)","v":""},{"$f":"IF('25'!$H$26=\"\", \"\", '25'!$H$26)","v":""},{"$f":"IF('25'!$H$27=\"\", \"\", '25'!$H$27)","v":""},{"$f":"IF('25'!$H$28=\"\", \"\", '25'!$H$28)","v":""},{"$f":"IF('25'!$H$29=\"\", \"\", '25'!$H$29)","v":""},{"$f":"IF('25'!$H$30=\"\", \"\", '25'!$H$30)","v":""},{"$f":"IF('25'!$H$31=\"\", \"\", '25'!$H$31)","v":""},{"$f":"IF('25'!$H$32=\"\", \"\", '25'!$H$32)","v":""},{"$f":"IF('25'!$H$33=\"\", \"\", '25'!$H$33)","v":""},{"$f":"IF('25'!$H$34=\"\", \"\", '25'!$H$34)","v":""},0,""]
[null,26,{"$f":"IF('26'!$H$11=\"\", \"\", '26'!$H$11)","v":""},{"$f":"IF('26'!$H$12=\"\", \"\", '26'!$H$12)","v":""},{"$f":"IF('26'!$H$13=\"\", \"\", '26'!$H$13)","v":""},{"$f":"IF('26'!$H$14=\"\", \"\", '26'!$H$14)","v":""},{"$f":"IF('26'!$H$15=\"\", \"\", '26'!$H$15)","v":""},{"$f":"IF('26'!$H$16=\"\", \"\", '26'!$H$16)","v":""},{"$f":"IF('26'!$H$17=\"\", \"\", '26'!$H$17)","v":""},{"$f":"IF('26'!$H$18=\"\", \"\", '26'!$H$18)","v":""},{"$f":"IF('26'!$H$19=\"\", \"\", '26'!$H$19)","v":""},{"$f":"IF('26'!$H$20=\"\", \"\", '26'!$H$20)","v":""},{"$f":"IF('26'!$H$21=\"\", \"\", '26'!$H$21)","v":""},{"$f":"IF('26'!$H$22=\"\", \"\", '26'!$H$22)","v":""},{"$f":"IF('26'!$H$23=\"\", \"\", '26'!$H$23)","v":""},{"$f":"IF('26'!$H$24=\"\", \"\", '26'!$H$24)","v":""},{"$f":"IF('26'!$H$25=\"\", \"\", '26'!$H$25)","v":""},{"$f":"IF('26'!$H$26=\"\", \"\", '26'!$H$26)","v":""},{"$f":"IF('26'!$H$27=\"\", \"\", '26'!$H$27)","v":""},{"$f":"IF('26'!$H$28=\"\", \"\", '26'!$H$28)","v":""},{"$f":"IF('26'!$H$29=\"\", \"\", '26'!$H$29)","v":""},{"$f":"IF('26'!$H$30=\"\", \"\", '26'!$H$30)","v":""},{"$f":"IF('26'!$H$31=\"\", \"\", '26'!$H$31)","v":""},{"$f":"IF('26'!$H$32=\"\", \"\", '26'!$H$32)","v":""},{"$f":"IF('26'!$H$33=\"\", \"\", '26'!$H$33)","v":""},{"$f":"IF('26'!$H$34=\"\", \"\", '26'!$H$34)","v":""},0,""]
[null,27,{"$f":"IF('27'!$H$11=\"\", \"\", '27'!$H$11)","v":""},{"$f":"IF('27'!$H$12=\"\", \"\", '27'!$H$12)","v":""},{"$f":"IF('27'!$H$13=\"\", \"\", '27'!$H$13)","v":""},{"$f":"IF('27'!$H$14=\"\", \"\", '27'!$H$14)","v":""},{"$f":"IF('27'!$H$15=\"\", \"\", '27'!$H$15)","v":""},{"$f":"IF('27'!$H$16=\"\", \"\", '27'!$H$16)","v":""},{"$f":"IF('27'!$H$17=\"\", \"\", '27'!$H$17)","v":""},{"$f":"IF('27'!$H$18=\"\", \"\", '27'!$H$18)","v":""},{"$f":"IF('27'!$H$19=\"\", \"\", '27'!$H$19)","v":""},{"$f":"IF('27'!$H$20=\"\", \"\", '27'!$H$20)","v":""},{"$f":"IF('27'!$H$21=\"\", \"\", '27'!$H$21)","v":""},{"$f":"IF('27'!$H$22=\"\", \"\", '27'!$H$22)","v":""},{"$f":"IF('27'!$H$23=\"\", \"\", '27'!$H$23)","v":""},{"$f":"IF('27'!$H$24=\"\", \"\", '27'!$H$24)","v":""},{"$f":"IF('27'!$H$25=\"\", \"\", '27'!$H$25)","v":""},{"$f":"IF('27'!$H$26=\"\", \"\", '27'!$H$26)","v":""},{"$f":"IF('27'!$H$27=\"\", \"\", '27'!$H$27)","v":""},{"$f":"IF('27'!$H$28=\"\", \"\", '27'!$H$28)","v":""},{"$f":"IF('27'!$H$29=\"\", \"\", '27'!$H$29)","v":""},{"$f":"IF('27'!$H$30=\"\", \"\", '27'!$H$30)","v":""},{"$f":"IF('27'!$H$31=\"\", \"\", '27'!$H$31)","v":""},{"$f":"IF('27'!$H$32=\"\", \"\", '27'!$H$32)","v":""},{"$f":"IF('27'!$H$33=\"\", \"\", '27'!$H$33)","v":""},{"$f":"IF('27'!$H$34=\"\", \"\", '27'!$H$34)","v":""},0,""]
[null,28,{"$f":"IF('28'!$H$11=\"\", \"\", '28'!$H$11)","v":""},{"$f":"IF('28'!$H$12=\"\", \"\", '28'!$H$12)","v":""},{"$f":"IF('28'!$H$13=\"\", \"\", '28'!$H$13)","v":""},{"$f":"IF('28'!$H$14=\"\", \"\", '28'!$H$14)","v":""},{"$f":"IF('28'!$H$15=\"\", \"\", '28'!$H$15)","v":""},{"$f":"IF('28'!$H$16=\"\", \"\", '28'!$H$16)","v":""},{"$f":"IF('28'!$H$17=\"\", \"\", '28'!$H$17)","v":""},{"$f":"IF('28'!$H$18=\"\", \"\", '28'!$H$18)","v":""},{"$f":"IF('28'!$H$19=\"\", \"\", '28'!$H$19)","v":""},{"$f":"IF('28'!$H$20=\"\", \"\", '28'!$H$20)","v":""},{"$f":"IF('28'!$H$21=\"\", \"\", '28'!$H$21)","v":""},{"$f":"IF('28'!$H$22=\"\", \"\", '28'!$H$22)","v":""},{"$f":"IF('28'!$H$23=\"\", \"\", '28'!$H$23)","v":""},{"$f":"IF('28'!$H$24=\"\", \"\", '28'!$H$24)","v":""},{"$f":"IF('28'!$H$25=\"\", \"\", '28'!$H$25)","v":""},{"$f":"IF('28'!$H$26=\"\", \"\", '28'!$H$26)","v":""},{"$f":"IF('28'!$H$27=\"\", \"\", '28'!$H$27)","v":""},{"$f":"IF('28'!$H$28=\"\", \"\", '28'!$H$28)","v":""},{"$f":"IF('28'!$H$29=\"\", \"\", '28'!$H$29)","v":""},{"$f":"IF('28'!$H$30=\"\", \"\", '28'!$H$30)","v":""},{"$f":"IF('28'!$H$31=\"\", \"\", '28'!$H$31)","v":""},{"$f":"IF('28'!$H$32=\"\", \"\", '28'!$H$32)","v":""},{"$f":"IF('28'!$H$33=\"\", \"\", '28'!$H$33)","v":""},{"$f":"IF('28'!$H$34=\"\", \"\", '28'!$H$34)","v":""},0,""]
[null,29,{"$f":"IF('29'!$H$11=\"\", \"\", '29'!$H$11)","v":""},{"$f":"IF('29'!$H$12=\"\", \"\", '29'!$H$12)","v":""},{"$f":"IF('29'!$H$13=\"\", \"\", '29'!$H$13)","v":""},{"$f":"IF('29'!$H$14=\"\", \"\", '29'!$H$14)","v":""},{"$f":"IF('29'!$H$15=\"\", \"\", '29'!$H$15)","v":""},{"$f":"IF('29'!$H$16=\"\", \"\", '29'!$H$16)","v":""},{"$f":"IF('29'!$H$17=\"\", \"\", '29'!$H$17)","v":""},{"$f":"IF('29'!$H$18=\"\", \"\", '29'!$H$18)","v":""},{"$f":"IF('29'!$H$19=\"\", \"\", '29'!$H$19)","v":""},{"$f":"IF('29'!$H$20=\"\", \"\", '29'!$H$20)","v":""},{"$f":"IF('29'!$H$21=\"\", \"\", '29'!$H$21)","v":""},{"$f":"IF('29'!$H$22=\"\", \"\", '29'!$H$22)","v":""},{"$f":"IF('29'!$H$23=\"\", \"\", '29'!$H$23)","v":""},{"$f":"IF('29'!$H$24=\"\", \"\", '29'!$H$24)","v":""},{"$f":"IF('29'!$H$25=\"\", \"\", '29'!$H$25)","v":""},{"$f":"IF('29'!$H$26=\"\", \"\", '29'!$H$26)","v":""},{"$f":"IF('29'!$H$27=\"\", \"\", '29'!$H$27)","v":""},{"$f":"IF('29'!$H$28=\"\", \"\", '29'!$H$28)","v":""},{"$f":"IF('29'!$H$29=\"\", \"\", '29'!$H$29)","v":""},{"$f":"IF('29'!$H$30=\"\", \"\", '29'!$H$30)","v":""},{"$f":"IF('29'!$H$31=\"\", \"\", '29'!$H$31)","v":""},{"$f":"IF('29'!$H$32=\"\", \"\", '29'!$H$32)","v":""},{"$f":"IF('29'!$H$33=\"\", \"\", '29'!$H$33)","v":""},{"$f":"IF('29'!$H$34=\"\", \"\", '29'!$H$34)","v":""},0,""]
[null,30,{"$f":"IF('30'!$H$11=\"\", \"\", '30'!$H$11)","v":""},{"$f":"IF('30'!$H$12=\"\", \"\", '30'!$H$12)","v":""},{"$f":"IF('30'!$H$13=\"\", \"\", '30'!$H$13)","v":""},{"$f":"IF('30'!$H$14=\"\", \"\", '30'!$H$14)","v":""},{"$f":"IF('30'!$H$15=\"\", \"\", '30'!$H$15)","v":""},{"$f":"IF('30'!$H$16=\"\", \"\", '30'!$H$16)","v":""},{"$f":"IF('30'!$H$17=\"\", \"\", '30'!$H$17)","v":""},{"$f":"IF('30'!$H$18=\"\", \"\", '30'!$H$18)","v":""},{"$f":"IF('30'!$H$19=\"\", \"\", '30'!$H$19)","v":""},{"$f":"IF('30'!$H$20=\"\", \"\", '30'!$H$20)","v":""},{"$f":"IF('30'!$H$21=\"\", \"\", '30'!$H$21)","v":""},{"$f":"IF('30'!$H$22=\"\", \"\", '30'!$H$22)","v":""},{"$f":"IF('30'!$H$23=\"\", \"\", '30'!$H$23)","v":""},{"$f":"IF('30'!$H$24=\"\", \"\", '30'!$H$24)","v":""},{"$f":"IF('30'!$H$25=\"\", \"\", '30'!$H$25)","v":""},{"$f":"IF('30'!$H$26=\"\", \"\", '30'!$H$26)","v":""},{"$f":"IF('30'!$H$27=\"\", \"\", '30'!$H$27)","v":""},{"$f":"IF('30'!$H$28=\"\", \"\", '30'!$H$28)","v":""},{"$f":"IF('30'!$H$29=\"\", \"\", '30'!$H$29)","v":""},{"$f":"IF('30'!$H$30=\"\", \"\", '30'!$H$30)","v":""},{"$f":"IF('30'!$H$31=\"\", \"\", '30'!$H$31)","v":""},{"$f":"IF('30'!$H$32=\"\", \"\", '30'!$H$32)","v":""},{"$f":"IF('30'!$H$33=\"\", \"\", '30'!$H$33)","v":""},{"$f":"IF('30'!$H$34=\"\", \"\", '30'!$H$34)","v":""},0,"",{"$f":"6851/31","v":221}]
[null,31,{"$f":"IF('31'!$H$11=\"\", \"\", '31'!$H$11)","v":""},{"$f":"IF('31'!$H$12=\"\", \"\", '31'!$H$12)","v":""},{"$f":"IF('31'!$H$13=\"\", \"\", '31'!$H$13)","v":""},{"$f":"IF('31'!$H$14=\"\", \"\", '31'!$H$14)","v":""},{"$f":"IF('31'!$H$15=\"\", \"\", '31'!$H$15)","v":""},{"$f":"IF('31'!$H$16=\"\", \"\", '31'!$H$16)","v":""},{"$f":"IF('31'!$H$17=\"\", \"\", '31'!$H$17)","v":""},{"$f":"IF('31'!$H$18=\"\", \"\", '31'!$H$18)","v":""},{"$f":"IF('31'!$H$19=\"\", \"\", '31'!$H$19)","v":""},{"$f":"IF('31'!$H$20=\"\", \"\", '31'!$H$20)","v":""},{"$f":"IF('31'!$H$21=\"\", \"\", '31'!$H$21)","v":""},{"$f":"IF('31'!$H$22=\"\", \"\", '31'!$H$22)","v":""},{"$f":"IF('31'!$H$23=\"\", \"\", '31'!$H$23)","v":""},{"$f":"IF('31'!$H$24=\"\", \"\", '31'!$H$24)","v":""},{"$f":"IF('31'!$H$25=\"\", \"\", '31'!$H$25)","v":""},{"$f":"IF('31'!$H$26=\"\", \"\", '31'!$H$26)","v":""},{"$f":"IF('31'!$H$27=\"\", \"\", '31'!$H$27)","v":""},{"$f":"IF('31'!$H$28=\"\", \"\", '31'!$H$28)","v":""},{"$f":"IF('31'!$H$29=\"\", \"\", '31'!$H$29)","v":""},{"$f":"IF('31'!$H$30=\"\", \"\", '31'!$H$30)","v":""},{"$f":"IF('31'!$H$31=\"\", \"\", '31'!$H$31)","v":""},{"$f":"IF('31'!$H$32=\"\", \"\", '31'!$H$32)","v":""},{"$f":"IF('31'!$H$33=\"\", \"\", '31'!$H$33)","v":""},{"$f":"IF('31'!$H$34=\"\", \"\", '31'!$H$34)","v":""},0,""]
["# Test",null,{"$f":"COUNTIF(C300:C330,  \">0\")","v":0},0,0,0,0,1,0,0,0,0,0,0,0,0,0,0,0,0,0,0,0,0,0,0,{"$f":"IF(COUNTA(AA300:AA330)=0,\"\",COUNTA(AA300:AA330))","v":31},{"$f":"IF(COUNTA(AB300:AB330)=0,\"\",COUNTA(AB300:AB330))","v":31}]
["TOT",null,{"$f":"IF(SUM(C300:C330)>0, SUM(C300:C330), \"\")","v":""},{"$f":"IF(SUM(D300:D330)>0, SUM(D300:D330), \"\")","v":""},"","","",77,"","","","","","","","","","","","","","","","","","",{"$f":"IFERROR((SUM(AA300:AA330)/AA331), \"\")","v":0.03225806451612903},{"$f":"IFERROR((SUM(AB300:AB330)/AB331), \"\")","v":2.4838709677419355}]

{"sheet":"Instructions","index":33,"n_rows":5,"n_cols":1,"rows_kept":5,"merged":[[0,0,0,9]]}
["Instructions"]
[]
["Enter your name and date on the info page"]
[]
["You can clear the tabs on all sheets by clicking reset on the info page"]